BEGIN:VCALENDAR
VERSION:2.0
PRODID:-//North Loop Neighborhood Association - ECPv6.15.19//NONSGML v1.0//EN
CALSCALE:GREGORIAN
METHOD:PUBLISH
X-ORIGINAL-URL:https://northloop.org
X-WR-CALDESC:Events for North Loop Neighborhood Association
REFRESH-INTERVAL;VALUE=DURATION:PT1H
X-Robots-Tag:noindex
X-PUBLISHED-TTL:PT1H
BEGIN:VTIMEZONE
TZID:America/Chicago
BEGIN:DAYLIGHT
TZOFFSETFROM:-0600
TZOFFSETTO:-0500
TZNAME:CDT
DTSTART:20220313T080000
END:DAYLIGHT
BEGIN:STANDARD
TZOFFSETFROM:-0500
TZOFFSETTO:-0600
TZNAME:CST
DTSTART:20221106T070000
END:STANDARD
BEGIN:DAYLIGHT
TZOFFSETFROM:-0600
TZOFFSETTO:-0500
TZNAME:CDT
DTSTART:20230312T080000
END:DAYLIGHT
BEGIN:STANDARD
TZOFFSETFROM:-0500
TZOFFSETTO:-0600
TZNAME:CST
DTSTART:20231105T070000
END:STANDARD
BEGIN:DAYLIGHT
TZOFFSETFROM:-0600
TZOFFSETTO:-0500
TZNAME:CDT
DTSTART:20240310T080000
END:DAYLIGHT
BEGIN:STANDARD
TZOFFSETFROM:-0500
TZOFFSETTO:-0600
TZNAME:CST
DTSTART:20241103T070000
END:STANDARD
END:VTIMEZONE
BEGIN:VTIMEZONE
TZID:America/Chicago
BEGIN:DAYLIGHT
TZOFFSETFROM:-0600
TZOFFSETTO:-0500
TZNAME:CDT
DTSTART:20230312T080000
END:DAYLIGHT
BEGIN:STANDARD
TZOFFSETFROM:-0500
TZOFFSETTO:-0600
TZNAME:CST
DTSTART:20231105T070000
END:STANDARD
BEGIN:DAYLIGHT
TZOFFSETFROM:-0600
TZOFFSETTO:-0500
TZNAME:CDT
DTSTART:20240310T080000
END:DAYLIGHT
BEGIN:STANDARD
TZOFFSETFROM:-0500
TZOFFSETTO:-0600
TZNAME:CST
DTSTART:20241103T070000
END:STANDARD
BEGIN:DAYLIGHT
TZOFFSETFROM:-0600
TZOFFSETTO:-0500
TZNAME:CDT
DTSTART:20250309T080000
END:DAYLIGHT
BEGIN:STANDARD
TZOFFSETFROM:-0500
TZOFFSETTO:-0600
TZNAME:CST
DTSTART:20251102T070000
END:STANDARD
BEGIN:DAYLIGHT
TZOFFSETFROM:-0600
TZOFFSETTO:-0500
TZNAME:CDT
DTSTART:20260308T080000
END:DAYLIGHT
BEGIN:STANDARD
TZOFFSETFROM:-0500
TZOFFSETTO:-0600
TZNAME:CST
DTSTART:20261101T070000
END:STANDARD
END:VTIMEZONE
BEGIN:VEVENT
DTSTART;TZID=America/Chicago:20231114T180000
DTEND;TZID=America/Chicago:20231114T190000
DTSTAMP:20260423T134035
CREATED:20180905T171853Z
LAST-MODIFIED:20180905T171853Z
UID:10015742-1699984800-1699988400@northloop.org
SUMMARY:Monthly meeting of the Friends of Webster PTA.
DESCRIPTION:Monthly meeting of the Friends of Webster PTA. \nHosted by Friends of Webster.
URL:https://northloop.org/event/monthly-meeting-friends-webster-pta/2023-11-14/
LOCATION:MN
CATEGORIES:Education,Family,Featured,Kids
ATTACH;FMTTYPE=image/jpeg:https://northloop.org/wp-content/uploads/2018/09/Webster-FOW.jpg
END:VEVENT
BEGIN:VEVENT
DTSTART;TZID=America/Chicago:20231212T180000
DTEND;TZID=America/Chicago:20231212T190000
DTSTAMP:20260423T134035
CREATED:20180905T171853Z
LAST-MODIFIED:20180905T171853Z
UID:10015743-1702404000-1702407600@northloop.org
SUMMARY:Monthly meeting of the Friends of Webster PTA.
DESCRIPTION:Monthly meeting of the Friends of Webster PTA. \nHosted by Friends of Webster.
URL:https://northloop.org/event/monthly-meeting-friends-webster-pta/2023-12-12/
LOCATION:MN
CATEGORIES:Education,Family,Featured,Kids
ATTACH;FMTTYPE=image/jpeg:https://northloop.org/wp-content/uploads/2018/09/Webster-FOW.jpg
END:VEVENT
BEGIN:VEVENT
DTSTART;TZID=America/Chicago:20240518T100000
DTEND;TZID=America/Chicago:20240519T170000
DTSTAMP:20260423T134035
CREATED:20240511T180754Z
LAST-MODIFIED:20240511T180931Z
UID:10018618-1716026400-1716138000@northloop.org
SUMMARY:Doors Open Minneapolis
DESCRIPTION:Doors Open Minneapolis\, produced by Rethos\, is your chance to explore the buildings that tell our city’s story. \nFrom theaters to business hubs\, sacred spaces to private clubs\, sports complexes to engineering wonders\, historical gems to not-even-open-yet buildings\, Doors Open Minneapolis will give you a FREE behind-the-scenes look at dozens of exciting venues. \nBuilding owners and caretakers will provide unique perspectives that illustrate why these venues\, people and businesses\, are central to our city’s identity. \nThere are seven North Loop buildings included in this year’s event.
URL:https://northloop.org/event/doors-open-minneapolis/
LOCATION:MN
CATEGORIES:Business,Community,Development,Education,Featured
ATTACH;FMTTYPE=image/jpeg:https://northloop.org/wp-content/uploads/2024/05/Doors-Open.jpeg
END:VEVENT
BEGIN:VEVENT
DTSTART;TZID=America/Chicago:20240622T100000
DTEND;TZID=America/Chicago:20240622T110000
DTSTAMP:20260423T134035
CREATED:20240501T135232Z
LAST-MODIFIED:20240620T221215Z
UID:10018616-1719050400-1719054000@northloop.org
SUMMARY:Free Personal Safety Workshop: Cancelled!!!
DESCRIPTION:IMPORTANT UPDATE! Due to the less than desirable weather forecast for Saturday morning\, June 22\, we are CANCELING the DMNA-North Loop Neighborhood Association Personal Safety Workshop. We want to keep everyone safe and dry! We will try and find a date to reschedule later this summer. \n  \nPlease join the North Loop Neighborhood Association and Downtown Minneapolis Neighborhood Association for an interactive personal safety workshop on Saturday\, June 22\, at 10am on the Target Field Station Plaza. \nGuest presenters include MPD 1st Precinct Crime Prevention Specialist Renee Allen\, who will talk about personal safety awareness and Gail Boxrud and Dante Pastrano from Krav Maga\, who will conduct the self-defense training. \nThe event is free but please register here.
URL:https://northloop.org/event/free-personal-safety-workshop/
LOCATION:Target Field Plaza & Ampitheater\, 5th Avenue N & 5th Street N\, Minneapolis\, MN\, 55401\, United States
CATEGORIES:Community,Education
ATTACH;FMTTYPE=image/jpeg:https://northloop.org/wp-content/uploads/2024/05/Personal-safety.jpg
GEO:44.9836649;-93.2781864
X-APPLE-STRUCTURED-LOCATION;VALUE=URI;X-ADDRESS=Target Field Plaza & Ampitheater 5th Avenue N & 5th Street N Minneapolis MN 55401 United States;X-APPLE-RADIUS=500;X-TITLE=5th Avenue N & 5th Street N:geo:-93.2781864,44.9836649
END:VEVENT
BEGIN:VEVENT
DTSTART;TZID=America/Chicago:20240727T100000
DTEND;TZID=America/Chicago:20240727T113000
DTSTAMP:20260423T134035
CREATED:20240722T170512Z
LAST-MODIFIED:20240722T170605Z
UID:10018696-1722074400-1722079800@northloop.org
SUMMARY:Personal Safety Course
DESCRIPTION:Please join the North Loop Neighborhood Association and the Downtown Minneapolis Neighborhood Association for an interactive personal safety workshop on Saturday\, July 27\, at 10 am\, at Target Field Station Plaza. \nGuest presenters include MPD 1st Precinct Crime Prevention Specialist Renee Allen who will talk about personal safety awareness and Gail Boxrud and Dante Pastrano from Krav Maga who will conduct the self-defense training. \nAdmission is free but we request that you RSVP here in advance.
URL:https://northloop.org/event/personal-safety-workshop/
LOCATION:Target Field Station\, 335 N 5th Street\, Minneapolis\, MN\, 55403\, United States
CATEGORIES:Community,Education,Featured,Safety
ATTACH;FMTTYPE=image/jpeg:https://northloop.org/wp-content/uploads/2024/07/img-0.jpg
GEO:44.9829772;-93.2776739
X-APPLE-STRUCTURED-LOCATION;VALUE=URI;X-ADDRESS=Target Field Station 335 N 5th Street Minneapolis MN 55403 United States;X-APPLE-RADIUS=500;X-TITLE=335 N 5th Street:geo:-93.2776739,44.9829772
END:VEVENT
BEGIN:VEVENT
DTSTART;TZID=America/Chicago:20250328T180000
DTEND;TZID=America/Chicago:20250328T200000
DTSTAMP:20260423T134035
CREATED:20250314T193847Z
LAST-MODIFIED:20250314T193847Z
UID:10019723-1743184800-1743192000@northloop.org
SUMMARY:Spring Aperitivo at ICC: A Celebration of Community & Connection
DESCRIPTION:Join us on March 28 for a warm and welcoming Aperitivo at the Italian Cultural Center—a celebration of community\, culture\, and connection. Whether you’re a longtime ICC member or new to our vibrant community\, this gathering is the perfect way to experience the joy of Italian hospitality. Enjoy a drink\, savor delicious small bites\, and take in an evening of conversation and camaraderie. \nMore than just an event\, this Aperitivo is an opportunity to come together\, meet new friends\, and reconnect with familiar faces. As we welcome spring\, let’s raise a glass to longer days\, new connections\, and the spirit of gathering at ICC. \n\n250 Third Avenue N. Suite 625\, Minneapolis\, MN 55401\n\n\nRegistration\nMembers and their guests – $12.00\nNon members and their guests – $15.00 \n\n\n\n\n\n\n\n\n 
URL:https://northloop.org/event/spring-aperitivo-at-icc-a-celebration-of-community-connection/
LOCATION:Traffic Zone Center for Visual Arts\, 250 3rd Avenue North\, Minneapolis\, MN\, 55401\, United States
CATEGORIES:Arts,Education,Featured
ATTACH;FMTTYPE=image/jpeg:https://northloop.org/wp-content/uploads/2025/03/Italian-Cultural-Center-Spring-Aperitivo.jpg
GEO:44.984022;-93.2731497
X-APPLE-STRUCTURED-LOCATION;VALUE=URI;X-ADDRESS=Traffic Zone Center for Visual Arts 250 3rd Avenue North Minneapolis MN 55401 United States;X-APPLE-RADIUS=500;X-TITLE=250 3rd Avenue North:geo:-93.2731497,44.984022
END:VEVENT
BEGIN:VEVENT
DTSTART;TZID=America/Chicago:20250628T130000
DTEND;TZID=America/Chicago:20250628T143000
DTSTAMP:20260423T134035
CREATED:20250624T150955Z
LAST-MODIFIED:20250624T152920Z
UID:10019914-1751115600-1751121000@northloop.org
SUMMARY:Preserve Minneapolis Walking Tour
DESCRIPTION:The Minneapolis Warehouse Historic District is the state’s largest commercial district listed on the National Register of Historic Places. Spread over a 30 block area\, the district includes 140 buildings and structures. The district is historically important as an area of early commercial growth during the development of the city of Minneapolis and as the city’s warehouse and wholesaling district that expanded during the late 19th and early 20th centuries when Minneapolis became a major distribution center in the upper Midwest. Wholesalers were attracted to the area northwest of the downtown business district where land values were relatively low and railroad lines nearby. The leading wholesale lines included groceries\, fruits and produce\, hardware\, dry goods\, glassware\, and most importantly\, agricultural implements. \nThe district is also architecturally significant for its remarkably intact concentration of commercial buildings designed by the city’s leading architects including Cass Gilbert\, Long and Long\, Harry Wild Jones\, Kees and Colburn\, and Hewitt and Brown. Stylistically\, the buildings represent every major style from the period including Italianate\, Queen Anne\, Richardsonian Romanesque\, Renaissance Revival\, and the Commercial Style. \nThe Warehouse District has retained its sense of time and place with original bridges still in place\, streets paved with bricks\, and with trains passing through daily on the tracks beds around which the area first developed. The tour will discuss the overall history of the district\, the history and architectural styles of individual buildings\, the architects who designed them\, as well as the challenges in preserving this historic area. \nThe tour guide is Rolf Anderson. Meeting spot is the corner of Washington Ave. N and 3rd Ave. N.
URL:https://northloop.org/event/preserve-minneapolis-walking-tour/
LOCATION:Washington Ave. N and 3rd Ave. N.\, Washington Ave. N and 3rd Ave. N.\, Minneapolis\, MN\, 55401\, United States
CATEGORIES:Community,Education
ATTACH;FMTTYPE=image/jpeg:https://northloop.org/wp-content/uploads/2025/06/Northern-Bag-Company-Photo-Jennifer-Olivarez-scaled.jpg
GEO:44.9844492;-93.2723958
X-APPLE-STRUCTURED-LOCATION;VALUE=URI;X-ADDRESS=Washington Ave. N and 3rd Ave. N. Washington Ave. N and 3rd Ave. N. Minneapolis MN 55401 United States;X-APPLE-RADIUS=500;X-TITLE=Washington Ave. N and 3rd Ave. N.:geo:-93.2723958,44.9844492
END:VEVENT
END:VCALENDAR