BEGIN:VCALENDAR
VERSION:2.0
PRODID:-//North Loop Neighborhood Association - ECPv6.15.19//NONSGML v1.0//EN
CALSCALE:GREGORIAN
METHOD:PUBLISH
X-ORIGINAL-URL:https://northloop.org
X-WR-CALDESC:Events for North Loop Neighborhood Association
REFRESH-INTERVAL;VALUE=DURATION:PT1H
X-Robots-Tag:noindex
X-PUBLISHED-TTL:PT1H
BEGIN:VTIMEZONE
TZID:America/Chicago
BEGIN:DAYLIGHT
TZOFFSETFROM:-0600
TZOFFSETTO:-0500
TZNAME:CDT
DTSTART:20240310T080000
END:DAYLIGHT
BEGIN:STANDARD
TZOFFSETFROM:-0500
TZOFFSETTO:-0600
TZNAME:CST
DTSTART:20241103T070000
END:STANDARD
BEGIN:DAYLIGHT
TZOFFSETFROM:-0600
TZOFFSETTO:-0500
TZNAME:CDT
DTSTART:20250309T080000
END:DAYLIGHT
BEGIN:STANDARD
TZOFFSETFROM:-0500
TZOFFSETTO:-0600
TZNAME:CST
DTSTART:20251102T070000
END:STANDARD
BEGIN:DAYLIGHT
TZOFFSETFROM:-0600
TZOFFSETTO:-0500
TZNAME:CDT
DTSTART:20260308T080000
END:DAYLIGHT
BEGIN:STANDARD
TZOFFSETFROM:-0500
TZOFFSETTO:-0600
TZNAME:CST
DTSTART:20261101T070000
END:STANDARD
END:VTIMEZONE
BEGIN:VEVENT
DTSTART;TZID=America/Chicago:20250903T180000
DTEND;TZID=America/Chicago:20250903T193000
DTSTAMP:20260420T134200
CREATED:20250520T012434Z
LAST-MODIFIED:20250819T201500Z
UID:10019895-1756922400-1756927800@northloop.org
SUMMARY:Candidate Forum: Ward 5 City Council
DESCRIPTION:The League of Women Voters will host a forum for Ward 5 City Council candidates.\n\nWard 5 City Council Candidate Forum\nSeptember 3 – 6:00 – 7:30\nLorainne B. Smaller Park\n1201 Sheridan Avenue N\n\nIn case of rain\, the forum will be held on Sept. 4.
URL:https://northloop.org/event/candidate-forum-ward-5-city-council/
LOCATION:Lorraine B. Smaller Park\, 1201 Sheridan Ave. N.\, Minneapolis\, Minnesota
CATEGORIES:Community,Featured,NLNA
ATTACH;FMTTYPE=image/png:https://northloop.org/wp-content/uploads/2025/05/NorthLoop_type.png
GEO:44.9904304;-93.3126261
X-APPLE-STRUCTURED-LOCATION;VALUE=URI;X-ADDRESS=Lorraine B. Smaller Park 1201 Sheridan Ave. N. Minneapolis Minnesota;X-APPLE-RADIUS=500;X-TITLE=1201 Sheridan Ave. N.:geo:-93.3126261,44.9904304
END:VEVENT
BEGIN:VEVENT
DTSTART;TZID=America/Chicago:20250907T140000
DTEND;TZID=America/Chicago:20250907T160000
DTSTAMP:20260420T134200
CREATED:20250904T181130Z
LAST-MODIFIED:20250905T201456Z
UID:10019940-1757253600-1757260800@northloop.org
SUMMARY:801 Gallery: Artist Talk
DESCRIPTION:Join us for the 801 Gallery Artist Talk  \nSunday\, September 7th\, 2025 2:00 – 4:00pm \nFeaturing Artists  \nRoosevelt Mansfield\, Nicole H. Neri\, Kraig Thayer Rasmussen \nThe Artist Talk is an opportunity to view the final week of this wonderful show\, meet the artists\, and learn about their process. Come to enjoy the art\, conversation\, complimentary wine\, beverages and chocolate. \n801 Gallery is located in 801 Lofts\n801 Washington Avenue North\, Minneapolis\, MN \nExhibition closing date September 8th\, 2025 \nRoosevelt Mansfield \nRoosevelt Mansfield of DigieMade Photography is a dynamic artist whose passion for classic and vintage aesthetics shapes every frame he captures. His unique ability to bend and play with light brings a modern elegance to culturally rooted portraiture. Mansfield’s work stands out for its soulful depth\, timeless style\, and authentic storytelling.\n@digiemadephoto \nNicole H. Neri \nNicole Neri is a photographer whose work focuses on the interconnectedness of our universe\, described through studies of water. She keeps her editing processes limited to ensure that her photos accurately represent real physical processes of light and water.\n@nicolehneri \nKraig Thayer Rasmussen \nWhen I spend time in nature\, whether it is in Minnesota or the places I travel to\, I try to capture the essence or spirit of the place. I’m particularly moved by rivers\, their backwaters\, and metaphorical endlessness.  I hope my reverence for nature is conveyed by my paintings.\n@kraig_thayer_rasmussen \nTo purchase art\, please contact the artist directly. The artists keep 100% from the sale.
URL:https://northloop.org/event/801-gallery-artist-talk/
LOCATION:Art at 801 Gallery\, 801 Washington Avenue North\, Minneapolis\, MN\, 55401\, United States
CATEGORIES:Arts,Community,Featured
ATTACH;FMTTYPE=image/jpeg:https://northloop.org/wp-content/uploads/2025/09/801-graphic-scaled.jpg
GEO:44.988964;-93.279542
X-APPLE-STRUCTURED-LOCATION;VALUE=URI;X-ADDRESS=Art at 801 Gallery 801 Washington Avenue North Minneapolis MN 55401 United States;X-APPLE-RADIUS=500;X-TITLE=801 Washington Avenue North:geo:-93.279542,44.988964
END:VEVENT
BEGIN:VEVENT
DTSTART;TZID=America/Chicago:20250910T180000
DTEND;TZID=America/Chicago:20250910T193000
DTSTAMP:20260420T134200
CREATED:20250901T234430Z
LAST-MODIFIED:20250909T202246Z
UID:10019934-1757527200-1757532600@northloop.org
SUMMARY:Parks+Public Art Committee Meeting
DESCRIPTION:P+PA Sept 2025 agenda \nThe Parks+Public Art Committee (P+P) is dedicated to the planning\, design\, development and care of North Loop public spaces. Through a community-centered approach\, the committee works closely with city and local partners to connect the North Loop neighborhood residents and businesses to current and upcoming public space developments through discussion\, engagement\, and volunteerism. All meetings are open to the public. \nMeetings are held from 6-7:30pm on the 2nd Wednesday of the month. \nItasca Event Gallery – 706 N 1st Street \nHere is the Zoom link. \nMeeting ID: 892 9110 9037 \nPasscode: 064388
URL:https://northloop.org/event/parkspublic-art-committee-meeting-september-2025/
LOCATION:Itasca Event Gallery\, 706 N 1st Street\, Minneapolis\, MN\, 55401\, United States
CATEGORIES:Environment,Featured
ATTACH;FMTTYPE=image/jpeg:https://northloop.org/wp-content/uploads/2021/10/IMG_4990-1-scaled.jpg
GEO:44.9854013;-93.2720038
X-APPLE-STRUCTURED-LOCATION;VALUE=URI;X-ADDRESS=Itasca Event Gallery 706 N 1st Street Minneapolis MN 55401 United States;X-APPLE-RADIUS=500;X-TITLE=706 N 1st Street:geo:-93.2720038,44.9854013
END:VEVENT
BEGIN:VEVENT
DTSTART;TZID=America/Chicago:20250913T093000
DTEND;TZID=America/Chicago:20250913T103000
DTSTAMP:20260420T134200
CREATED:20250421T210416Z
LAST-MODIFIED:20250830T012049Z
UID:10019875-1757755800-1757759400@northloop.org
SUMMARY:Service Saturday Trash Pick-Up
DESCRIPTION:Litter pick-up volunteers meet at 9:30 am at Corner Coffee (514 N. 3rd St.). Trash bags\, gloves and garbage grabbers are provided\, but you can bring your own gloves and grabbers if you have them. Time commitment: about an hour. \n 
URL:https://northloop.org/event/service-saturday-8/
LOCATION:Corner Coffee\, 514 N 3rd Street\, Minneapolis\, 55401\, United States
CATEGORIES:Community,Environment,Featured,NLNA
ATTACH;FMTTYPE=image/jpeg:https://northloop.org/wp-content/uploads/2025/04/Litter-pickup-169-scaled.jpg
GEO:44.9859182;-93.2762208
X-APPLE-STRUCTURED-LOCATION;VALUE=URI;X-ADDRESS=Corner Coffee 514 N 3rd Street Minneapolis 55401 United States;X-APPLE-RADIUS=500;X-TITLE=514 N 3rd Street:geo:-93.2762208,44.9859182
END:VEVENT
BEGIN:VEVENT
DTSTART;TZID=America/Chicago:20250913T100000
DTEND;TZID=America/Chicago:20250913T170000
DTSTAMP:20260420T134200
CREATED:20250728T194322Z
LAST-MODIFIED:20250830T012204Z
UID:10019926-1757757600-1757782800@northloop.org
SUMMARY:Pickleball on the Parkway
DESCRIPTION:Get ready for a one-of-a-kind pickleball experience… on the streets of downtown Minneapolis! Minneapolis Parks and Recreation is teaming up with Lucky Shots Pickleball Club to transform the iconic West River Parkway—right along the Mississippi River and steps from the historic Stone Arch Bridge—into a pop-up pickleball paradise with 25+ courts and nonstop action! \nWhether you’re in it to win it or just here for the vibes\, Pickleball on the Parkway is where fun\, friendly competition\, and community come together. \nEvent Features:🎧 Music all day🌮 Food trucks galore🎉 Local vendors + surprise celebrity matches🏅 Medals for division winners \nTournament Format: Round robin → single elimination bracket \nDivisions: Men’s\, Women’s & Mixed Doubles \nTournament Entry:💰 $30 per player\, per division📅 Registration closes: Sunday\, September 7 @ 11:59 pm🛑 Space is limited – register early to guarantee your spot! \nRegister for the tournament here–> https://bit.ly/4lKvUOS \nThere’s plenty of free fun for spectators and casual players too—so grab your paddle or your friends and come be part of Minneapolis pickleball history!
URL:https://northloop.org/event/pickleball-on-the-parkway/
LOCATION:West River Parkway\, 425 West River Parkway\, Minneapolis\, MN\, 55401\, United States
CATEGORIES:City of Minneapolis,Community,Featured
ATTACH;FMTTYPE=image/jpeg:https://northloop.org/wp-content/uploads/2025/07/Screenshot-2025-07-28-at-2.42.24-PM.jpg
GEO:44.9811885;-93.2601941
X-APPLE-STRUCTURED-LOCATION;VALUE=URI;X-ADDRESS=West River Parkway 425 West River Parkway Minneapolis MN 55401 United States;X-APPLE-RADIUS=500;X-TITLE=425 West River Parkway:geo:-93.2601941,44.9811885
END:VEVENT
BEGIN:VEVENT
DTSTART;TZID=America/Chicago:20250917T180000
DTEND;TZID=America/Chicago:20250917T193000
DTSTAMP:20260420T134200
CREATED:20250410T192622Z
LAST-MODIFIED:20250916T015731Z
UID:10019858-1758132000-1758137400@northloop.org
SUMMARY:Planning+Zoning Committee Meeting
DESCRIPTION:P+Z agenda Sept 2025 \nItasca Event Gallery\n706 N 1st Street\n6:00 – 7:30 pm \nMeetings are held on the second to the last Wednesday of the month. \nZoom link here. \nMeeting ID: 878 6509 8407 \nPasscode: 212555 \nThe Planning+Zoning Committee supports the overall mission of the North Loop Neighborhood Association to promote a climate of safety\, livability and improvement through public neighborhood meetings\, communication and advocacy with the relevant municipal and county organizations. \nGet information about the NLNA Planning+Zoning Committee\, including committee charter\, members\, meeting agendas\, minutes and much more. \nAll meetings of the board and committees are open to the public. Only committee members are allowed to vote. Input from the neighborhood can be received at the discretion of the board. \nOur many thanks to the Itasca Event Gallery for providing this meeting space to NLNA for our monthly Planning+Zoning meetings.
URL:https://northloop.org/event/planningzoning-committee-meeting-09-17-25/
LOCATION:Itasca Event Gallery\, 706 N 1st Street\, Minneapolis\, MN\, 55401\, United States
CATEGORIES:Featured,NLNA
ATTACH;FMTTYPE=image/jpeg:https://northloop.org/wp-content/uploads/2015/12/NLNJoeGrunnet1.jpeg
GEO:44.9871804;-93.2720279
X-APPLE-STRUCTURED-LOCATION;VALUE=URI;X-ADDRESS=Itasca Event Gallery 706 N 1st Street Minneapolis MN 55401 United States;X-APPLE-RADIUS=500;X-TITLE=706 N 1st Street:geo:-93.2720279,44.9871804
END:VEVENT
BEGIN:VEVENT
DTSTART;TZID=America/Chicago:20250918T183000
DTEND;TZID=America/Chicago:20250918T193000
DTSTAMP:20260420T134200
CREATED:20250520T012824Z
LAST-MODIFIED:20250914T171530Z
UID:10019896-1758220200-1758223800@northloop.org
SUMMARY:Candidate Forum: City Council Ward 3
DESCRIPTION:The League of Women Voters will host a forum for Ward 3 City Council candidates. Candidates Marcus Mills and Michael Rainville have been invited to participate. The forum is also sponsored by the North Loop Neighborhood Association\, in partnership with several other neighborhood organizations.\n\n\n\nThis forum will be held in person\, live streamed\, and recorded at www.lwvmpls.org. Recordings will include closed captions in multiple languages.\nSubmit your questions in advance to: vote@lwvmpls.org. \nInterpretation needed? Contact vote@lwvmpls.org by September 4.\n\nWard 3 City Council Candidate Forum \nSeptember 18 – 6:30-7:30\nRiver Hub – Graco Park
URL:https://northloop.org/event/candidate-forum-city-council-ward-3/
LOCATION:River Hub Graco Park\, 810 Sibley St. SE\, Minneapolis\, Minnesota
CATEGORIES:Community,Featured,NLNA
ATTACH;FMTTYPE=image/png:https://northloop.org/wp-content/uploads/2025/05/NorthLoop_type.png
GEO:44.9948078;-93.2702321
X-APPLE-STRUCTURED-LOCATION;VALUE=URI;X-ADDRESS=River Hub Graco Park 810 Sibley St. SE Minneapolis Minnesota;X-APPLE-RADIUS=500;X-TITLE=810 Sibley St. SE:geo:-93.2702321,44.9948078
END:VEVENT
BEGIN:VEVENT
DTSTART;TZID=America/Chicago:20250924T180000
DTEND;TZID=America/Chicago:20250924T200000
DTSTAMP:20260420T134200
CREATED:20250410T191337Z
LAST-MODIFIED:20250924T142612Z
UID:10019850-1758736800-1758744000@northloop.org
SUMMARY:NLNA Board Meeting: Agenda
DESCRIPTION:September agenda \nItasca Event Gallery\n706 N 1st Street\n6 – 8 pm\, last Wednesday of the month (excluding December) \nThe public is welcome to attend and participate in the board’s monthly meetings. Only seated Directors are allowed to vote at board meetings. Input from the neighborhood can be received at the discretion of the board. \nZoom link here. \nMeeting ID: 848 0351 9579 \nPasscode: 186357 \nOur many thanks to the Itasca Event Gallery for providing this meeting space to NLNA for our monthly board and committee meetings. \n 
URL:https://northloop.org/event/nlna-board-meeting-09-24-25/
LOCATION:Itasca Event Gallery\, 706 N 1st Street\, Minneapolis\, MN\, 55401\, United States
CATEGORIES:Featured,NLNA
ATTACH;FMTTYPE=image/jpeg:https://northloop.org/wp-content/uploads/2025/06/IMG_8136-scaled.jpeg
GEO:44.9871804;-93.2720279
X-APPLE-STRUCTURED-LOCATION;VALUE=URI;X-ADDRESS=Itasca Event Gallery 706 N 1st Street Minneapolis MN 55401 United States;X-APPLE-RADIUS=500;X-TITLE=706 N 1st Street:geo:-93.2720279,44.9871804
END:VEVENT
BEGIN:VEVENT
DTSTART;TZID=America/Chicago:20250927T170000
DTEND;TZID=America/Chicago:20250927T200000
DTSTAMP:20260420T134200
CREATED:20250902T193355Z
LAST-MODIFIED:20250902T200712Z
UID:10019939-1758992400-1759003200@northloop.org
SUMMARY:North Loop Fall Art Gallery Walk
DESCRIPTION:Saturday\, September 27th\, 2025 from 5:00 – 8:00pm \nFour galleries located in the North Loop will be open to host the Fall North Loop Neighborhood Art Gallery Walk. \nGalleries: \n1. Art at 801 Gallery – 801 North Washington Avenue\, 801washingtonlofts.org/art-at-801/ \n2. Form + Content Gallery – 210 North Second Street\, #104\, formandcontent.org \n3. Veronique Wantz – 901 North 5th Street\, veroniquewantz.com \n4. Kickernick Gallery\, 430 N. 1st Avenue\, kickernickgallery.com/
URL:https://northloop.org/event/north-loop-fall-art-gallery-walk/
LOCATION:MN
CATEGORIES:Arts,Featured,NLNA
ATTACH;FMTTYPE=image/jpeg:https://northloop.org/wp-content/uploads/2025/09/Screenshot-2025-09-02-at-2.25.19-PM.jpg
END:VEVENT
END:VCALENDAR