BEGIN:VCALENDAR
VERSION:2.0
PRODID:-//North Loop Neighborhood Association - ECPv6.15.19//NONSGML v1.0//EN
CALSCALE:GREGORIAN
METHOD:PUBLISH
X-WR-CALNAME:North Loop Neighborhood Association
X-ORIGINAL-URL:https://northloop.org
X-WR-CALDESC:Events for North Loop Neighborhood Association
REFRESH-INTERVAL;VALUE=DURATION:PT1H
X-Robots-Tag:noindex
X-PUBLISHED-TTL:PT1H
BEGIN:VTIMEZONE
TZID:America/Chicago
BEGIN:DAYLIGHT
TZOFFSETFROM:-0600
TZOFFSETTO:-0500
TZNAME:CDT
DTSTART:20240310T080000
END:DAYLIGHT
BEGIN:STANDARD
TZOFFSETFROM:-0500
TZOFFSETTO:-0600
TZNAME:CST
DTSTART:20241103T070000
END:STANDARD
BEGIN:DAYLIGHT
TZOFFSETFROM:-0600
TZOFFSETTO:-0500
TZNAME:CDT
DTSTART:20250309T080000
END:DAYLIGHT
BEGIN:STANDARD
TZOFFSETFROM:-0500
TZOFFSETTO:-0600
TZNAME:CST
DTSTART:20251102T070000
END:STANDARD
BEGIN:DAYLIGHT
TZOFFSETFROM:-0600
TZOFFSETTO:-0500
TZNAME:CDT
DTSTART:20260308T080000
END:DAYLIGHT
BEGIN:STANDARD
TZOFFSETFROM:-0500
TZOFFSETTO:-0600
TZNAME:CST
DTSTART:20261101T070000
END:STANDARD
END:VTIMEZONE
BEGIN:VEVENT
DTSTART;TZID=America/Chicago:20250111T110000
DTEND;TZID=America/Chicago:20250111T170000
DTSTAMP:20260422T074230
CREATED:20241114T170248Z
LAST-MODIFIED:20241114T170248Z
UID:10018726-1736593200-1736614800@northloop.org
SUMMARY:Book Fair for Adults
DESCRIPTION:Calling all book lovers! Join us for an Adult Book Fair on January 11th\, 2025\, from 11am – 5pm. We’re bringing together the best bookstores from all around the Minneapolis area for a day filled with great reads\, unique finds\, and community vibes. \nBookstores and the genres they’re bringing:Tropes & Trifles: RomanceOnce Upon a Crime: Mystery/CrimeBlack Garnet Books: BIPOCAvant Garden: LGBTQIA+ & FeminismCream & Amber: Young Adult\, Sci-Fi/Fantasy\nDiscover new favorites\, connect with fellow bookworms\, and browse through an amazing selection of books. Plus\, enjoy local vendors and delicious bites from our food truck! \nWhen: January 11th\, 2025\, 11am – 5pmWhere: Inbound BrewCo.What: Books\, vendors\, food\, and fun!
URL:https://northloop.org/event/book-fair-for-adults/
LOCATION:Inbound Brewco\, 701 North 5th Street\, Minneapolis\, MN\, 55401\, United States
CATEGORIES:Arts,Featured,Food & Drink
ATTACH;FMTTYPE=image/jpeg:https://northloop.org/wp-content/uploads/2024/11/Book-Fair.jpg
GEO:44.985554;-93.281553
X-APPLE-STRUCTURED-LOCATION;VALUE=URI;X-ADDRESS=Inbound Brewco 701 North 5th Street Minneapolis MN 55401 United States;X-APPLE-RADIUS=500;X-TITLE=701 North 5th Street:geo:-93.281553,44.985554
END:VEVENT
END:VCALENDAR