BEGIN:VCALENDAR
VERSION:2.0
PRODID:-//North Loop Neighborhood Association - ECPv6.15.19//NONSGML v1.0//EN
CALSCALE:GREGORIAN
METHOD:PUBLISH
X-WR-CALNAME:North Loop Neighborhood Association
X-ORIGINAL-URL:https://northloop.org
X-WR-CALDESC:Events for North Loop Neighborhood Association
REFRESH-INTERVAL;VALUE=DURATION:PT1H
X-Robots-Tag:noindex
X-PUBLISHED-TTL:PT1H
BEGIN:VTIMEZONE
TZID:America/Chicago
BEGIN:DAYLIGHT
TZOFFSETFROM:-0600
TZOFFSETTO:-0500
TZNAME:CDT
DTSTART:20240310T080000
END:DAYLIGHT
BEGIN:STANDARD
TZOFFSETFROM:-0500
TZOFFSETTO:-0600
TZNAME:CST
DTSTART:20241103T070000
END:STANDARD
BEGIN:DAYLIGHT
TZOFFSETFROM:-0600
TZOFFSETTO:-0500
TZNAME:CDT
DTSTART:20250309T080000
END:DAYLIGHT
BEGIN:STANDARD
TZOFFSETFROM:-0500
TZOFFSETTO:-0600
TZNAME:CST
DTSTART:20251102T070000
END:STANDARD
BEGIN:DAYLIGHT
TZOFFSETFROM:-0600
TZOFFSETTO:-0500
TZNAME:CDT
DTSTART:20260308T080000
END:DAYLIGHT
BEGIN:STANDARD
TZOFFSETFROM:-0500
TZOFFSETTO:-0600
TZNAME:CST
DTSTART:20261101T070000
END:STANDARD
END:VTIMEZONE
BEGIN:VEVENT
DTSTART;TZID=America/Chicago:20250617T163000
DTEND;TZID=America/Chicago:20250617T190000
DTSTAMP:20260422T171251
CREATED:20250604T184324Z
LAST-MODIFIED:20250604T184324Z
UID:10019909-1750177800-1750186800@northloop.org
SUMMARY:Glass House: Summer's Back Social Hour
DESCRIPTION:Summer’s back—and so are we. Glass House is throwing down to celebrate longer days\, breezy outfits\, and cocktails that demand an umbrella. Come see why we’re Minneapolis’ favorite spot to turn up the heat. \nDrinks by Glass House featuring the Stanley Cooler (a refreshing cucumber gin/lime/lemon cocktail). First 50 on us & happy hour pricing all night!\nTacos by Centro\nVibes by DJ Jake Ryan\nS’mores by Glass House (weather permitting) \nDATE: Tuesday\, June 17\, 2025\nLOCATION: 145 Holden St. N\, Minneapolis\, MN 55405\nTIME: 4:30-7p
URL:https://northloop.org/event/glass-house-summers-back-social-hour/
LOCATION:Glass House\, Holden Street North\, Minneapolis\, MN\, United States
CATEGORIES:Community,Food & Drink
ATTACH;FMTTYPE=image/jpeg:https://northloop.org/wp-content/uploads/2025/06/Screenshot-2025-06-04-at-1.42.04-PM.jpg
GEO:44.9798679;-93.2838692
X-APPLE-STRUCTURED-LOCATION;VALUE=URI;X-ADDRESS=DESCRIPTION:Summer’s back—and so are we. Glass House is throwing down to celebrate longer days breezy outfits and cocktails that demand an umbrella. Come see why we’re Minneapolis’ favorite spot to turn up the heat. \nDrinks by Glass House featuring the Stanley Cooler (a refreshing cucumber gin/lime/lemon cocktail). First 50 on us & happy hour pricing all night!\nTacos by Centro\nVibes by DJ Jake Ryan\nS’mores by Glass House (weather permitting) \nDATE: Tuesday June 17 2025\n 145 Holden St. N Minneapolis MN 55405\nTIME: 4:30-7p;X-APPLE-RADIUS=500;X-TITLE=Holden Street North:geo:-93.2838692,44.9798679
END:VEVENT
END:VCALENDAR