BEGIN:VCALENDAR
VERSION:2.0
PRODID:-//North Loop Neighborhood Association - ECPv6.15.19//NONSGML v1.0//EN
CALSCALE:GREGORIAN
METHOD:PUBLISH
X-WR-CALNAME:North Loop Neighborhood Association
X-ORIGINAL-URL:https://northloop.org
X-WR-CALDESC:Events for North Loop Neighborhood Association
REFRESH-INTERVAL;VALUE=DURATION:PT1H
X-Robots-Tag:noindex
X-PUBLISHED-TTL:PT1H
BEGIN:VTIMEZONE
TZID:America/Chicago
BEGIN:DAYLIGHT
TZOFFSETFROM:-0600
TZOFFSETTO:-0500
TZNAME:CDT
DTSTART:20250309T080000
END:DAYLIGHT
BEGIN:STANDARD
TZOFFSETFROM:-0500
TZOFFSETTO:-0600
TZNAME:CST
DTSTART:20251102T070000
END:STANDARD
BEGIN:DAYLIGHT
TZOFFSETFROM:-0600
TZOFFSETTO:-0500
TZNAME:CDT
DTSTART:20260308T080000
END:DAYLIGHT
BEGIN:STANDARD
TZOFFSETFROM:-0500
TZOFFSETTO:-0600
TZNAME:CST
DTSTART:20261101T070000
END:STANDARD
BEGIN:DAYLIGHT
TZOFFSETFROM:-0600
TZOFFSETTO:-0500
TZNAME:CDT
DTSTART:20270314T080000
END:DAYLIGHT
BEGIN:STANDARD
TZOFFSETFROM:-0500
TZOFFSETTO:-0600
TZNAME:CST
DTSTART:20271107T070000
END:STANDARD
END:VTIMEZONE
BEGIN:VEVENT
DTSTART;TZID=America/Chicago:20260205T180000
DTEND;TZID=America/Chicago:20260205T220000
DTSTAMP:20260423T114511
CREATED:20251228T213738Z
LAST-MODIFIED:20251228T213738Z
UID:10019994-1770314400-1770328800@northloop.org
SUMMARY:Fulton Taproom: Record Night
DESCRIPTION:Stop by the taproom on the first Thursday of every month with your favorite vinyl – on theme – to share with the taproom! If we play one you brought\, you get your first beer on us. So make it good. 😎 \nTHEMES:\nFebruary – Minnesota Artists\nMarch – Colors: Artists or Albums with a color in the name\nApril – Last Record You Picked Up
URL:https://northloop.org/event/fulton-taproom-record-night/
LOCATION:Fulton Taproom\, 414 6th Avenue North\, Minneapolis\, MN\, 55401\, United States
CATEGORIES:Featured,Food & Drink,Music
ATTACH;FMTTYPE=image/png:https://northloop.org/wp-content/uploads/2025/12/fultonrecords.png
GEO:44.9849296;-93.2792028
X-APPLE-STRUCTURED-LOCATION;VALUE=URI;X-ADDRESS=Fulton Taproom 414 6th Avenue North Minneapolis MN 55401 United States;X-APPLE-RADIUS=500;X-TITLE=414 6th Avenue North:geo:-93.2792028,44.9849296
END:VEVENT
BEGIN:VEVENT
DTSTART;TZID=America/Chicago:20260212T180000
DTEND;TZID=America/Chicago:20260212T203000
DTSTAMP:20260423T114511
CREATED:20260209T002756Z
LAST-MODIFIED:20260209T002757Z
UID:10020035-1770919200-1770928200@northloop.org
SUMMARY:Joy Fulton February Social Ride
DESCRIPTION:JOYFULTON FEBRUARY SOCIAL RIDE\n\n\n\nMeet the Joyful Riders Club at the taproom on the second Thursday of each month all winter long. Riders will gather at the taproom at p.m\, roll out at 6:30 p.m.\, and return to the taproom between 7:30 and 8 p.m. Back at the taproom\, each participant receives one free beer\, THC drink\, or non-alcoholic beverage courtesy of Fulton Beer. \nAll Wheels Welcome! These are relaxed\, no-drop social rides averaging 8 miles at a comfortable pace of ~7–10 mph. Whether you’re new to biking\, getting back in the saddle\, or ride every day\, you’re welcome here. We’ll explore special experiences in the Twin Cities\, discover new routes\, and build a welcoming community around biking. \nAll bikes\, bodies\, and experience levels are celebrated—and no one gets left behind. Expect smiles\, high-fives\, and lots of joy along the way! \nPlease remember to bring your bike lights to stay visible and your bike lock to keep your bike safe. We also recommend wearing a helmet to protect that amazing brain of yours.
URL:https://northloop.org/event/joy-fulton-february-social-ride/
LOCATION:Fulton Taproom\, 414 6th Avenue North\, Minneapolis\, MN\, 55401\, United States
CATEGORIES:Community,Fitness,Food & Drink,Social
ATTACH;FMTTYPE=image/webp:https://northloop.org/wp-content/uploads/2026/02/Screenshot-2026-02-08-at-6.21.59-PM.webp
GEO:44.9849296;-93.2792028
X-APPLE-STRUCTURED-LOCATION;VALUE=URI;X-ADDRESS=Fulton Taproom 414 6th Avenue North Minneapolis MN 55401 United States;X-APPLE-RADIUS=500;X-TITLE=414 6th Avenue North:geo:-93.2792028,44.9849296
END:VEVENT
BEGIN:VEVENT
DTSTART;TZID=America/Chicago:20260213T170000
DTEND;TZID=America/Chicago:20260213T230000
DTSTAMP:20260423T114511
CREATED:20260208T223757Z
LAST-MODIFIED:20260208T223757Z
UID:10020032-1771002000-1771023600@northloop.org
SUMMARY:Modist Brewing Fundraiser for One of Their Own
DESCRIPTION:From Modist Brewing: \nA few weeks ago\, our beloved beertender\, DJ\, and resident Pokémon aficionado\, Deekz\, unfortunately had to undergo major surgery and was later diagnosed with Ovarian cancer. As we all know\, medical bills and loss of the ability to work are two immediate and tangible impacts on people going through cancer treatment. And Deekz may be out for 6 months or more. \nSo in an effort to provide immediate and impactful aid to one of our own\, we will be throwing them a fundraising barnburner on Friday\, February 13\, from 5-11 pm. With some of the best local DJs handpicked by Deekz\, this is a great opportunity to shake that ass while raising money for a member of our community. \nThe details are still evolving as we work with our local partners\, but there will be multiple ways to donate/contribute even if you can’t make it to the event itself. But for now\, block your calendar to be here. \n 
URL:https://northloop.org/event/modist-brewing-fundraiser-for-one-of-their-own/
LOCATION:Modist Brewing Company\, 505 North 3rd Street\, Minneapolis\, MN\, 55401\, United States
CATEGORIES:Featured,Food & Drink,Fundraiser
ATTACH;FMTTYPE=image/webp:https://northloop.org/wp-content/uploads/2026/02/Screenshot-2026-02-08-at-4.32.11-PM.webp
GEO:44.985267;-93.2764831
X-APPLE-STRUCTURED-LOCATION;VALUE=URI;X-ADDRESS=Modist Brewing Company 505 North 3rd Street Minneapolis MN 55401 United States;X-APPLE-RADIUS=500;X-TITLE=505 North 3rd Street:geo:-93.2764831,44.985267
END:VEVENT
END:VCALENDAR