BEGIN:VCALENDAR
VERSION:2.0
PRODID:-//North Loop Neighborhood Association - ECPv6.15.19//NONSGML v1.0//EN
CALSCALE:GREGORIAN
METHOD:PUBLISH
X-ORIGINAL-URL:https://northloop.org
X-WR-CALDESC:Events for North Loop Neighborhood Association
REFRESH-INTERVAL;VALUE=DURATION:PT1H
X-Robots-Tag:noindex
X-PUBLISHED-TTL:PT1H
BEGIN:VTIMEZONE
TZID:America/Chicago
BEGIN:DAYLIGHT
TZOFFSETFROM:-0600
TZOFFSETTO:-0500
TZNAME:CDT
DTSTART:20230312T080000
END:DAYLIGHT
BEGIN:STANDARD
TZOFFSETFROM:-0500
TZOFFSETTO:-0600
TZNAME:CST
DTSTART:20231105T070000
END:STANDARD
BEGIN:DAYLIGHT
TZOFFSETFROM:-0600
TZOFFSETTO:-0500
TZNAME:CDT
DTSTART:20240310T080000
END:DAYLIGHT
BEGIN:STANDARD
TZOFFSETFROM:-0500
TZOFFSETTO:-0600
TZNAME:CST
DTSTART:20241103T070000
END:STANDARD
BEGIN:DAYLIGHT
TZOFFSETFROM:-0600
TZOFFSETTO:-0500
TZNAME:CDT
DTSTART:20250309T080000
END:DAYLIGHT
BEGIN:STANDARD
TZOFFSETFROM:-0500
TZOFFSETTO:-0600
TZNAME:CST
DTSTART:20251102T070000
END:STANDARD
BEGIN:DAYLIGHT
TZOFFSETFROM:-0600
TZOFFSETTO:-0500
TZNAME:CDT
DTSTART:20260308T080000
END:DAYLIGHT
BEGIN:STANDARD
TZOFFSETFROM:-0500
TZOFFSETTO:-0600
TZNAME:CST
DTSTART:20261101T070000
END:STANDARD
END:VTIMEZONE
BEGIN:VEVENT
DTSTART;TZID=America/Chicago:20240420T090000
DTEND;TZID=America/Chicago:20240420T120000
DTSTAMP:20260420T073142
CREATED:20240102T175700Z
LAST-MODIFIED:20240102T175837Z
UID:10016546-1713603600-1713614400@northloop.org
SUMMARY:Minneapolis Farmers Market - Winter Market Hours
DESCRIPTION:Providing fresh produce & products since 1876\n\n\n\n\nThe Minneapolis Market is a community resource\, meeting place\, tourist draw—and perhaps most\, important—a place to get the greatest selection of fresh and local plants and produce with more than two hundred growers on the weekend\, it is the largest Farmer/Producer managed market in the state. \nThe Minneapolis Farmers Market connects growers to gardeners and eaters and that connection is what makes it so unique compared to the average shopping experiences. It’s a place where you can experience your food\, hear about where it came from\, how it was treated\, and even get ideas on how to prepare it—directly from the grower. \nToday\, we support about 100+ vendors who alternate the use of our 170 stalls.
URL:https://northloop.org/event/minneapolis-farmers-market-winter-market-hours/2024-04-20/
LOCATION:Minneapolis Farmers Market\, 312 East Lyndale Avenue North\, Minneapolis\, MN\, 55405\, United States
CATEGORIES:Local,Outdoor
ATTACH;FMTTYPE=image/png:https://northloop.org/wp-content/uploads/2021/05/Farmers-Market-Logo.png
GEO:44.9812689;-93.2860709
X-APPLE-STRUCTURED-LOCATION;VALUE=URI;X-ADDRESS=Minneapolis Farmers Market 312 East Lyndale Avenue North Minneapolis MN 55405 United States;X-APPLE-RADIUS=500;X-TITLE=312 East Lyndale Avenue North:geo:-93.2860709,44.9812689
END:VEVENT
BEGIN:VEVENT
DTSTART;TZID=America/Chicago:20240427T090000
DTEND;TZID=America/Chicago:20240427T120000
DTSTAMP:20260420T073142
CREATED:20240102T175700Z
LAST-MODIFIED:20240102T175837Z
UID:10016547-1714208400-1714219200@northloop.org
SUMMARY:Minneapolis Farmers Market - Winter Market Hours
DESCRIPTION:Providing fresh produce & products since 1876\n\n\n\n\nThe Minneapolis Market is a community resource\, meeting place\, tourist draw—and perhaps most\, important—a place to get the greatest selection of fresh and local plants and produce with more than two hundred growers on the weekend\, it is the largest Farmer/Producer managed market in the state. \nThe Minneapolis Farmers Market connects growers to gardeners and eaters and that connection is what makes it so unique compared to the average shopping experiences. It’s a place where you can experience your food\, hear about where it came from\, how it was treated\, and even get ideas on how to prepare it—directly from the grower. \nToday\, we support about 100+ vendors who alternate the use of our 170 stalls.
URL:https://northloop.org/event/minneapolis-farmers-market-winter-market-hours/2024-04-27/
LOCATION:Minneapolis Farmers Market\, 312 East Lyndale Avenue North\, Minneapolis\, MN\, 55405\, United States
CATEGORIES:Local,Outdoor
ATTACH;FMTTYPE=image/png:https://northloop.org/wp-content/uploads/2021/05/Farmers-Market-Logo.png
GEO:44.9812689;-93.2860709
X-APPLE-STRUCTURED-LOCATION;VALUE=URI;X-ADDRESS=Minneapolis Farmers Market 312 East Lyndale Avenue North Minneapolis MN 55405 United States;X-APPLE-RADIUS=500;X-TITLE=312 East Lyndale Avenue North:geo:-93.2860709,44.9812689
END:VEVENT
BEGIN:VEVENT
DTSTART;TZID=America/Chicago:20240428T090000
DTEND;TZID=America/Chicago:20240428T120000
DTSTAMP:20260420T073142
CREATED:20240102T175700Z
LAST-MODIFIED:20240102T175837Z
UID:10016548-1714294800-1714305600@northloop.org
SUMMARY:Minneapolis Farmers Market - Winter Market Hours
DESCRIPTION:Providing fresh produce & products since 1876\n\n\n\n\nThe Minneapolis Market is a community resource\, meeting place\, tourist draw—and perhaps most\, important—a place to get the greatest selection of fresh and local plants and produce with more than two hundred growers on the weekend\, it is the largest Farmer/Producer managed market in the state. \nThe Minneapolis Farmers Market connects growers to gardeners and eaters and that connection is what makes it so unique compared to the average shopping experiences. It’s a place where you can experience your food\, hear about where it came from\, how it was treated\, and even get ideas on how to prepare it—directly from the grower. \nToday\, we support about 100+ vendors who alternate the use of our 170 stalls.
URL:https://northloop.org/event/minneapolis-farmers-market-winter-market-hours/2024-04-28/
LOCATION:Minneapolis Farmers Market\, 312 East Lyndale Avenue North\, Minneapolis\, MN\, 55405\, United States
CATEGORIES:Local,Outdoor
ATTACH;FMTTYPE=image/png:https://northloop.org/wp-content/uploads/2021/05/Farmers-Market-Logo.png
GEO:44.9812689;-93.2860709
X-APPLE-STRUCTURED-LOCATION;VALUE=URI;X-ADDRESS=Minneapolis Farmers Market 312 East Lyndale Avenue North Minneapolis MN 55405 United States;X-APPLE-RADIUS=500;X-TITLE=312 East Lyndale Avenue North:geo:-93.2860709,44.9812689
END:VEVENT
BEGIN:VEVENT
DTSTART;TZID=America/Chicago:20240504T060000
DTEND;TZID=America/Chicago:20240504T130000
DTSTAMP:20260420T073142
CREATED:20240417T212847Z
LAST-MODIFIED:20240417T212847Z
UID:10018609-1714802400-1714827600@northloop.org
SUMMARY:Minneapolis Farmers Market Season Opener
DESCRIPTION:Providing Fresh Produce and Products Since 1876! \nAs the largest farmer-managed markets in the state\, we serve as a community resource\, meeting place\, tourist draw and\, most importantly\, a place to access Minnesota’s greatest selection of fresh produce\, plants and locally made products! \nSeason opener Saturday\, May 4th 6am-1pm \n312 East Lyndale Ave North\nMinneapolis\, Minnesota 55405
URL:https://northloop.org/event/minneapolis-farmers-market-season-opener/
LOCATION:Minneapolis Farmers Market\, 312 East Lyndale Avenue North\, Minneapolis\, MN\, 55405\, United States
CATEGORIES:Community,Family,Featured,Food & Drink,Kids,Local,Outdoor,Retail,Social
ATTACH;FMTTYPE=image/jpeg:https://northloop.org/wp-content/uploads/2024/04/Frame-3.jpg
GEO:44.9812689;-93.2860709
X-APPLE-STRUCTURED-LOCATION;VALUE=URI;X-ADDRESS=Minneapolis Farmers Market 312 East Lyndale Avenue North Minneapolis MN 55405 United States;X-APPLE-RADIUS=500;X-TITLE=312 East Lyndale Avenue North:geo:-93.2860709,44.9812689
END:VEVENT
BEGIN:VEVENT
DTSTART;TZID=America/Chicago:20241122T160000
DTEND;TZID=America/Chicago:20241124T190000
DTSTAMP:20260420T073142
CREATED:20241114T161158Z
LAST-MODIFIED:20241114T161158Z
UID:10018721-1732291200-1732474800@northloop.org
SUMMARY:Minneapolis Christkindl Market
DESCRIPTION:Eat\, drink\, shop and be merry at the inaugural Minneapolis Christkindl Market this holiday season at North Loop Green. Inspired by traditional European Christmas markets\, this outdoor wonderland will transport you to a world of twinkling lights\, alpine-style wooden houses and the cozy aroma of mulled wine. \nWith live music\, kids’ activities\, food and shopping handcrafted gifts from 30 local vendors representing 15 countries\, there will be something for everyone. Enjoy classic delicacies including Burbach’s German Potato Pancakes\, Au Chalet’s Swiss Raclette\, Turkish Lokma and more!  \n“This Christkindl Market will bring the authentic\, urban atmosphere of European markets to downtown Minneapolis\,” said Nadine Schaefer\, executive director of the market. “It’s all about community – bringing people together for an unforgettable experience full of festive cheer – and we look forward to creating a new tradition for years to come in the heart of Minneapolis.”  \nThe Minneapolis Christkindl Market will run longer than any other holiday market in the Twin Cities\, kicking off Friday\, November 22\, and open for five weekends through December 22. \nFriday: 4-9pm\, Saturday: 11am-9pm\, Sunday: 11am-7pm \nMore information can be found at https://minneapolischristkindlmarket.com/.  \nWHAT:  Minneapolis Christkindl Market \nWHERE: North Loop Green – 350 North 5th Street\, Minneapolis\, MN 55401  \nWHEN:   Open Fridays – Sundays beginning November 22 and running through December 22
URL:https://northloop.org/event/minneapolis-christkindl-market/
CATEGORIES:Community,Family,Featured,Food & Drink,Local,Music,Outdoor,Retail
ATTACH;FMTTYPE=image/jpeg:https://northloop.org/wp-content/uploads/2024/11/Frame-2.jpg
END:VEVENT
BEGIN:VEVENT
DTSTART;TZID=America/Chicago:20241210T170000
DTEND;TZID=America/Chicago:20241210T190000
DTSTAMP:20260420T073142
CREATED:20241112T183833Z
LAST-MODIFIED:20241115T183344Z
UID:10018718-1733850000-1733857200@northloop.org
SUMMARY:2024 Tree Lighting
DESCRIPTION:The 3rd Annual Tree Lighting on The Nordic Plaza is right around the corner! 🎄 \nStop by from 5-7pm on Tuesday\, December 10. We’ll count down to the tree lighting at 6:00. Before and after that\, you can help yourself to free cider & hot chocolate from FRGMNT as well as donuts from Cardigan Donuts.  And enjoy live music from local artist Charlie Bruber.  🎶 \nSanta and his elves will be there with free food\, drinks and prizes 🎅🎁 And please bring a donation for the Twin Cities Toy Drive! \nThis event is family and pet friendly.
URL:https://northloop.org/event/2024-tree-lighting/
LOCATION:Nordic Plaza\, 729 Washington Ave N\, Minneapolis\, MN\, 55401\, United States
CATEGORIES:Community,Family,Featured,Food & Drink,Local,Social
ATTACH;FMTTYPE=image/jpeg:https://northloop.org/wp-content/uploads/2024/11/Tree-Lighting.jpg
GEO:44.98795;-93.278035
X-APPLE-STRUCTURED-LOCATION;VALUE=URI;X-ADDRESS=Nordic Plaza 729 Washington Ave N Minneapolis MN 55401 United States;X-APPLE-RADIUS=500;X-TITLE=729 Washington Ave N:geo:-93.278035,44.98795
END:VEVENT
BEGIN:VEVENT
DTSTART;TZID=America/Chicago:20250215T120000
DTEND;TZID=America/Chicago:20250215T160000
DTSTAMP:20260420T073142
CREATED:20250209T203907Z
LAST-MODIFIED:20250209T203907Z
UID:10019568-1739620800-1739635200@northloop.org
SUMMARY:Love Is Blind Watch Party
DESCRIPTION:Grab your girls and join us for a Galentine’s Day market and Love is Blind Watch Party at Graze on Feb. 15 from noon – 4pm! The first 50 guests get a free gold wine glass filled with our signature drink\, thanks to our sponsor Basil Hayden. \nPlus\, we’ll be joined by several MN makers for a fun pop-up market featuring: \n\nFlower Bar by Sip N Bloom\nCustom hats  by Hat Trix Chix\nPermanent jewelry by Linc Mpls\n\nEvent is free to attend! All of our food vendors will be open\, plus we’ll have specialty drinks at the bar to purchase.
URL:https://northloop.org/event/love-is-blind-watch-party/
LOCATION:Graze Food Hall by Travail
CATEGORIES:Business,Community,Food & Drink,Local
ATTACH;FMTTYPE=image/jpeg:https://northloop.org/wp-content/uploads/2025/02/blind-watch.jpg
END:VEVENT
BEGIN:VEVENT
DTSTART;TZID=America/Chicago:20250301T180000
DTEND;TZID=America/Chicago:20250301T203000
DTSTAMP:20260420T073142
CREATED:20250209T201748Z
LAST-MODIFIED:20250209T201748Z
UID:10019562-1740852000-1740861000@northloop.org
SUMMARY:Latin Love Cooking Class
DESCRIPTION:Be prepared for the vibrant flavors of Latin cooking to blow your mind in this exciting hands-on extravaganza. Along with Chef Michael\, you’ll create dishes using techniques and ingredients that are at the core of Latin cooking up to and including Mexican hot chocolate souffles. Estupendo! \nMenu: Homemade Corn Tortilla Tacos with Chicken Tinga; Coleslaw; Mexican Hot Chocolate Souffles. \n\n\n\nChef: Michael Lackey\n\n\nClass Type: Participation\n\n$110
URL:https://northloop.org/event/latin-love-cooking-class/
LOCATION:Cooks of Crocus Hill\, 208 North 1st Street\, Minneapolis\, MN\, 55401\, United States
CATEGORIES:Business,Food & Drink,Local
ATTACH;FMTTYPE=image/jpeg:https://northloop.org/wp-content/uploads/2025/02/Latin-Love.jpg
GEO:44.985852;-93.2692746
X-APPLE-STRUCTURED-LOCATION;VALUE=URI;X-ADDRESS=Cooks of Crocus Hill 208 North 1st Street Minneapolis MN 55401 United States;X-APPLE-RADIUS=500;X-TITLE=208 North 1st Street:geo:-93.2692746,44.985852
END:VEVENT
BEGIN:VEVENT
DTSTART;TZID=America/Chicago:20251021T180000
DTEND;TZID=America/Chicago:20251021T190000
DTSTAMP:20260420T073142
CREATED:20250909T190843Z
LAST-MODIFIED:20250909T191105Z
UID:10019945-1761069600-1761073200@northloop.org
SUMMARY:Book Club: Minneapolis Central Library
DESCRIPTION:Join the Minneapolis Central Book Club (MCBC) for a discussion of new and interesting titles. We enjoy delving into a diverse range of genres\, encompassing both nonfiction and fiction! \nPhysical copies are available for checkout from the Book Clubs display located on 1st floor of Minneapolis Central Library or behind 1st floor Information Desk. If you need help getting a physical copy\, please email Alexis for assistance at mcbookclub@hclib.org. eBooks or eAudiobooks are available through the Libby App. Participants can request a copy of the book (print\, eBook and/or eAudiobook) through www.hclib.org. \nOctober 21: Prince + Purple Rain by Andrea Swensson \nDoty Board Room\, Skyway Level Room N-280
URL:https://northloop.org/event/19802/
LOCATION:Minneapolis Central Library\, 300 Nicollet Mall\, Minneapolis\, MN\, 55401\, United States
CATEGORIES:Community,Local
ATTACH;FMTTYPE=image/jpeg:https://northloop.org/wp-content/uploads/2025/09/Screenshot-2025-09-09-at-2.07.25-PM.jpg
GEO:44.9805791;-93.2700756
X-APPLE-STRUCTURED-LOCATION;VALUE=URI;X-ADDRESS=Minneapolis Central Library 300 Nicollet Mall Minneapolis MN 55401 United States;X-APPLE-RADIUS=500;X-TITLE=300 Nicollet Mall:geo:-93.2700756,44.9805791
END:VEVENT
BEGIN:VEVENT
DTSTART;TZID=America/Chicago:20251118T180000
DTEND;TZID=America/Chicago:20251118T190000
DTSTAMP:20260420T073142
CREATED:20250909T191407Z
LAST-MODIFIED:20250909T191407Z
UID:10019946-1763488800-1763492400@northloop.org
SUMMARY:Book Club: Minneapolis Public Library
DESCRIPTION:Join the Minneapolis Central Book Club (MCBC) for a discussion of new and interesting titles. We enjoy delving into a diverse range of genres\, encompassing both nonfiction and fiction! \nPhysical copies are available for checkout from the Book Clubs display located on 1st floor of Minneapolis Central Library or behind 1st floor Information Desk. If you need help getting a physical copy\, please email Alexis for assistance at mcbookclub@hclib.org. eBooks or eAudiobooks are available through the Libby App. Participants can request a copy of the book (print\, eBook and/or eAudiobook) through www.hclib.org. \nNovember 18: How to Be Perfect: The Correct Answer to Every Moral Question by Michael Schur \nDoty Board Room\, Skyway Level Room N-280
URL:https://northloop.org/event/book-club-minneapolis-public-library/
LOCATION:Minneapolis Central Library\, 300 Nicollet Mall\, Minneapolis\, MN\, 55401\, United States
CATEGORIES:Community,Local
ATTACH;FMTTYPE=image/jpeg:https://northloop.org/wp-content/uploads/2025/09/Screenshot-2025-09-09-at-2.13.20-PM.jpg
GEO:44.9805791;-93.2700756
X-APPLE-STRUCTURED-LOCATION;VALUE=URI;X-ADDRESS=Minneapolis Central Library 300 Nicollet Mall Minneapolis MN 55401 United States;X-APPLE-RADIUS=500;X-TITLE=300 Nicollet Mall:geo:-93.2700756,44.9805791
END:VEVENT
BEGIN:VEVENT
DTSTART;TZID=America/Chicago:20251216T180000
DTEND;TZID=America/Chicago:20251216T190000
DTSTAMP:20260420T073142
CREATED:20250909T191723Z
LAST-MODIFIED:20250909T191723Z
UID:10019947-1765908000-1765911600@northloop.org
SUMMARY:Book Club: Minneapolis Central Library
DESCRIPTION:Join the Minneapolis Central Book Club (MCBC) for a discussion of new and interesting titles. We enjoy delving into a diverse range of genres\, encompassing both nonfiction and fiction! \nPhysical copies are available for checkout from the Book Clubs display located on 1st floor of Minneapolis Central Library or behind 1st floor Information Desk. If you need help getting a physical copy\, please email Alexis for assistance at mcbookclub@hclib.org. eBooks or eAudiobooks are available through the Libby App. Participants can request a copy of the book (print\, eBook and/or eAudiobook) through www.hclib.org. \nDecember 16: How to Age Disgracefully by Clare Pooley \nDoty Board Room\, Skyway Level Room N-280
URL:https://northloop.org/event/book-club-minneapolis-central-library-2/
LOCATION:Minneapolis Central Library\, 300 Nicollet Mall\, Minneapolis\, MN\, 55401\, United States
CATEGORIES:Community,Local
ATTACH;FMTTYPE=image/jpeg:https://northloop.org/wp-content/uploads/2025/09/Screenshot-2025-09-09-at-2.16.47-PM.jpg
GEO:44.9805791;-93.2700756
X-APPLE-STRUCTURED-LOCATION;VALUE=URI;X-ADDRESS=Minneapolis Central Library 300 Nicollet Mall Minneapolis MN 55401 United States;X-APPLE-RADIUS=500;X-TITLE=300 Nicollet Mall:geo:-93.2700756,44.9805791
END:VEVENT
END:VCALENDAR