BEGIN:VCALENDAR
VERSION:2.0
PRODID:-//North Loop Neighborhood Association - ECPv6.15.19//NONSGML v1.0//EN
CALSCALE:GREGORIAN
METHOD:PUBLISH
X-ORIGINAL-URL:https://northloop.org
X-WR-CALDESC:Events for North Loop Neighborhood Association
REFRESH-INTERVAL;VALUE=DURATION:PT1H
X-Robots-Tag:noindex
X-PUBLISHED-TTL:PT1H
BEGIN:VTIMEZONE
TZID:America/Chicago
BEGIN:DAYLIGHT
TZOFFSETFROM:-0600
TZOFFSETTO:-0500
TZNAME:CDT
DTSTART:20250309T080000
END:DAYLIGHT
BEGIN:STANDARD
TZOFFSETFROM:-0500
TZOFFSETTO:-0600
TZNAME:CST
DTSTART:20251102T070000
END:STANDARD
BEGIN:DAYLIGHT
TZOFFSETFROM:-0600
TZOFFSETTO:-0500
TZNAME:CDT
DTSTART:20260308T080000
END:DAYLIGHT
BEGIN:STANDARD
TZOFFSETFROM:-0500
TZOFFSETTO:-0600
TZNAME:CST
DTSTART:20261101T070000
END:STANDARD
BEGIN:DAYLIGHT
TZOFFSETFROM:-0600
TZOFFSETTO:-0500
TZNAME:CDT
DTSTART:20270314T080000
END:DAYLIGHT
BEGIN:STANDARD
TZOFFSETFROM:-0500
TZOFFSETTO:-0600
TZNAME:CST
DTSTART:20271107T070000
END:STANDARD
END:VTIMEZONE
BEGIN:VEVENT
DTSTART;TZID=America/Chicago:20260305T180000
DTEND;TZID=America/Chicago:20260305T220000
DTSTAMP:20260421T094806
CREATED:20251228T213839Z
LAST-MODIFIED:20251228T213839Z
UID:10019995-1772733600-1772748000@northloop.org
SUMMARY:Fulton Taproom: Record Night
DESCRIPTION:Stop by the taproom on the first Thursday of every month with your favorite vinyl – on theme – to share with the taproom! If we play one you brought\, you get your first beer on us. So make it good. 😎 \nTHEMES:\nFebruary – Minnesota Artists\nMarch – Colors: Artists or Albums with a color in the name\nApril – Last Record You Picked Up
URL:https://northloop.org/event/fulton-taproom-record-night-2/
LOCATION:Fulton Taproom\, 414 6th Avenue North\, Minneapolis\, MN\, 55401\, United States
CATEGORIES:Food & Drink,Music
ATTACH;FMTTYPE=image/png:https://northloop.org/wp-content/uploads/2025/12/fultonrecords.png
GEO:44.9849296;-93.2792028
X-APPLE-STRUCTURED-LOCATION;VALUE=URI;X-ADDRESS=Fulton Taproom 414 6th Avenue North Minneapolis MN 55401 United States;X-APPLE-RADIUS=500;X-TITLE=414 6th Avenue North:geo:-93.2792028,44.9849296
END:VEVENT
BEGIN:VEVENT
DTSTART;TZID=America/Chicago:20260313T150000
DTEND;TZID=America/Chicago:20260313T220000
DTSTAMP:20260421T094806
CREATED:20260309T165814Z
LAST-MODIFIED:20260309T165815Z
UID:10020050-1773414000-1773439200@northloop.org
SUMMARY:St. Paddy's Day at North Loop Green
DESCRIPTION:Bassett Hound is coming out of hibernation and opening in time to celebrate St. Patrick’s Day in North Loop! There will be live music all weekend\, along with great food and drinks from Bassett Hound’s menu. \nHours for this weekend are: \n\nFriday 3/13 – 3:00pm – 10:00pm\nSaturday 3/14 – 10:00am – 10:00pm\nSunday 3/15 – 11:00am – 6:00pm
URL:https://northloop.org/event/st-paddys-day-at-north-loop-green/
LOCATION:North Loop Green\, 350 N. 5th St.\, Minneapolis\, Minnesota\, 55401
CATEGORIES:Featured,Food & Drink,Music
ATTACH;FMTTYPE=image/webp:https://northloop.org/wp-content/uploads/2026/03/NLG_StPaddysMusic_1920x1080.webp
GEO:44.9827795;-93.2763318
X-APPLE-STRUCTURED-LOCATION;VALUE=URI;X-ADDRESS=North Loop Green 350 N. 5th St. Minneapolis Minnesota 55401;X-APPLE-RADIUS=500;X-TITLE=350 N. 5th St.:geo:-93.2763318,44.9827795
END:VEVENT
BEGIN:VEVENT
DTSTART;TZID=America/Chicago:20260322T120000
DTEND;TZID=America/Chicago:20260322T150000
DTSTAMP:20260421T094806
CREATED:20260307T195551Z
LAST-MODIFIED:20260307T195551Z
UID:10020049-1774180800-1774191600@northloop.org
SUMMARY:Twin Cities Opera Guild: Spring Cocktail Reception
DESCRIPTION:
URL:https://northloop.org/event/twin-cities-opera-guild-spring-cocktail-reception/
LOCATION:Luminary Arts Center\, 700 N 1st Street\, Minneapolis\, MN\, 55401\, United States
CATEGORIES:Arts,Featured,Music
ATTACH;FMTTYPE=image/webp:https://northloop.org/wp-content/uploads/2026/03/Screenshot-2026-03-07-at-1.54.40-PM.webp
GEO:44.9895997;-93.2743392
X-APPLE-STRUCTURED-LOCATION;VALUE=URI;X-ADDRESS=Luminary Arts Center 700 N 1st Street Minneapolis MN 55401 United States;X-APPLE-RADIUS=500;X-TITLE=700 N 1st Street:geo:-93.2743392,44.9895997
END:VEVENT
BEGIN:VEVENT
DTSTART;TZID=America/Chicago:20260402T180000
DTEND;TZID=America/Chicago:20260402T220000
DTSTAMP:20260421T094806
CREATED:20251228T213921Z
LAST-MODIFIED:20251228T213921Z
UID:10019996-1775152800-1775167200@northloop.org
SUMMARY:Fulton Taproom: Record Night
DESCRIPTION:Stop by the taproom on the first Thursday of every month with your favorite vinyl – on theme – to share with the taproom! If we play one you brought\, you get your first beer on us. So make it good. 😎 \nTHEMES:\nFebruary – Minnesota Artists\nMarch – Colors: Artists or Albums with a color in the name\nApril – Last Record You Picked Up
URL:https://northloop.org/event/fulton-taproom-record-night-3/
LOCATION:Fulton Taproom\, 414 6th Avenue North\, Minneapolis\, MN\, 55401\, United States
CATEGORIES:Food & Drink,Music
ATTACH;FMTTYPE=image/png:https://northloop.org/wp-content/uploads/2025/12/fultonrecords.png
GEO:44.9849296;-93.2792028
X-APPLE-STRUCTURED-LOCATION;VALUE=URI;X-ADDRESS=Fulton Taproom 414 6th Avenue North Minneapolis MN 55401 United States;X-APPLE-RADIUS=500;X-TITLE=414 6th Avenue North:geo:-93.2792028,44.9849296
END:VEVENT
END:VCALENDAR