BEGIN:VCALENDAR
VERSION:2.0
PRODID:-//North Loop Neighborhood Association - ECPv6.15.19//NONSGML v1.0//EN
CALSCALE:GREGORIAN
METHOD:PUBLISH
X-WR-CALNAME:North Loop Neighborhood Association
X-ORIGINAL-URL:https://northloop.org
X-WR-CALDESC:Events for North Loop Neighborhood Association
REFRESH-INTERVAL;VALUE=DURATION:PT1H
X-Robots-Tag:noindex
X-PUBLISHED-TTL:PT1H
BEGIN:VTIMEZONE
TZID:America/Chicago
BEGIN:DAYLIGHT
TZOFFSETFROM:-0600
TZOFFSETTO:-0500
TZNAME:CDT
DTSTART:20240310T080000
END:DAYLIGHT
BEGIN:STANDARD
TZOFFSETFROM:-0500
TZOFFSETTO:-0600
TZNAME:CST
DTSTART:20241103T070000
END:STANDARD
BEGIN:DAYLIGHT
TZOFFSETFROM:-0600
TZOFFSETTO:-0500
TZNAME:CDT
DTSTART:20250309T080000
END:DAYLIGHT
BEGIN:STANDARD
TZOFFSETFROM:-0500
TZOFFSETTO:-0600
TZNAME:CST
DTSTART:20251102T070000
END:STANDARD
BEGIN:DAYLIGHT
TZOFFSETFROM:-0600
TZOFFSETTO:-0500
TZNAME:CDT
DTSTART:20260308T080000
END:DAYLIGHT
BEGIN:STANDARD
TZOFFSETFROM:-0500
TZOFFSETTO:-0600
TZNAME:CST
DTSTART:20261101T070000
END:STANDARD
END:VTIMEZONE
BEGIN:VEVENT
DTSTART;TZID=America/Chicago:20250215T170000
DTEND;TZID=America/Chicago:20250215T200000
DTSTAMP:20260424T111045
CREATED:20250205T171730Z
LAST-MODIFIED:20250205T171730Z
UID:10019237-1739638800-1739649600@northloop.org
SUMMARY:Art Battle Minnesota
DESCRIPTION:Get ready for an evening filled with creativity\, competition\, and fun at Crayon Kelly. Join us on Sat\, Feb 15\, 2025 at 5:00 PM for an exciting in-person event where talented artists will go head-to-head in a friendly battle to create the best artwork. \nCome cheer on your favorite artists and witness their masterpieces come to life before your eyes! Don’t miss out on this unique and unforgettable experience! \nArt Battle Minnesota is an All Ages event.
URL:https://northloop.org/event/art-battle-minnesota/
LOCATION:Crayon Kelly\, 1637 West End Boulevard\, Minneapolis
CATEGORIES:Arts
ATTACH;FMTTYPE=image/jpeg:https://northloop.org/wp-content/uploads/2025/02/Screenshot-2025-02-05-at-11.16.46-AM.jpg
GEO:44.966854;-93.3475001
X-APPLE-STRUCTURED-LOCATION;VALUE=URI;X-ADDRESS=Crayon Kelly 1637 West End Boulevard Minneapolis;X-APPLE-RADIUS=500;X-TITLE=1637 West End Boulevard:geo:-93.3475001,44.966854
END:VEVENT
END:VCALENDAR