BEGIN:VCALENDAR
VERSION:2.0
PRODID:-//North Loop Neighborhood Association - ECPv6.15.19//NONSGML v1.0//EN
CALSCALE:GREGORIAN
METHOD:PUBLISH
X-WR-CALNAME:North Loop Neighborhood Association
X-ORIGINAL-URL:https://northloop.org
X-WR-CALDESC:Events for North Loop Neighborhood Association
REFRESH-INTERVAL;VALUE=DURATION:PT1H
X-Robots-Tag:noindex
X-PUBLISHED-TTL:PT1H
BEGIN:VTIMEZONE
TZID:America/Chicago
BEGIN:DAYLIGHT
TZOFFSETFROM:-0600
TZOFFSETTO:-0500
TZNAME:CDT
DTSTART:20150308T080000
END:DAYLIGHT
BEGIN:STANDARD
TZOFFSETFROM:-0500
TZOFFSETTO:-0600
TZNAME:CST
DTSTART:20151101T070000
END:STANDARD
BEGIN:DAYLIGHT
TZOFFSETFROM:-0600
TZOFFSETTO:-0500
TZNAME:CDT
DTSTART:20160313T080000
END:DAYLIGHT
BEGIN:STANDARD
TZOFFSETFROM:-0500
TZOFFSETTO:-0600
TZNAME:CST
DTSTART:20161106T070000
END:STANDARD
BEGIN:DAYLIGHT
TZOFFSETFROM:-0600
TZOFFSETTO:-0500
TZNAME:CDT
DTSTART:20170312T080000
END:DAYLIGHT
BEGIN:STANDARD
TZOFFSETFROM:-0500
TZOFFSETTO:-0600
TZNAME:CST
DTSTART:20171105T070000
END:STANDARD
END:VTIMEZONE
BEGIN:VEVENT
DTSTART;TZID=America/Chicago:20160924T110000
DTEND;TZID=America/Chicago:20160924T140000
DTSTAMP:20260422T074149
CREATED:20160916T200038Z
LAST-MODIFIED:20160916T200038Z
UID:10008569-1474714800-1474725600@northloop.org
SUMMARY:Duluth Pop-Down - Cooks of Crocus Hill
DESCRIPTION:Register to win a seat in one of two private classes at Cooks with a few of our friends from Duluth! \n\nBest Breakfast Combination:\nDuluth Grill & Vikre Distillery\nSATURDAY\, SEPTEMBER 24\, 11 AM – Noon\nCOOKS NORTH LOOP \nStart your day off in with in the company of great spirits! Vikre Distillery will provide samples of their Northwoods craft\, while the Duluth Grill cooks up savory eats from their kitchen. Duluth inspirations right in North Loop. \nBeer Tasting with Bent Paddle\nSATURDAY\, SEPTEMBER 24 24\, 1PM – 2 PM\nCOOKS NORTH LOOP \nJoin the experts from Bent Paddle Brewing and experience your favorite beers while sampling a variety of German Sausages from Mike’s Northwoods Locker. It’s a great way to stay in the Loop for some northern exposure! \n\nWinners will be selected and notified via email on Wednesday\, September 21.\n\n\n\n\nDuluth Partners\nSee who’s spending the day with us! Along with Askov Finlayson\, who’s hosting their third annual Duluth Pop-Down\, there’s plenty of friends from the city on Lake Superior in the mix. We look forward so seeing you there. \nEpicurean\nloll Designs\nBent Paddle Brewing Co.\nDuluth Grill\nVikre Distillery
URL:https://northloop.org/event/duluth-pop-cooks-crocus-hill/
LOCATION:Cooks of Crocus Hill\, 208 North 1st Street\, Minneapolis\, MN\, 55401\, United States
CATEGORIES:Featured,Local
ATTACH;FMTTYPE=image/jpeg:https://northloop.org/wp-content/uploads/2016/09/DuluthEvent-HomepageBanner.jpg
GEO:44.985852;-93.2692746
X-APPLE-STRUCTURED-LOCATION;VALUE=URI;X-ADDRESS=Cooks of Crocus Hill 208 North 1st Street Minneapolis MN 55401 United States;X-APPLE-RADIUS=500;X-TITLE=208 North 1st Street:geo:-93.2692746,44.985852
END:VEVENT
END:VCALENDAR