BEGIN:VCALENDAR
VERSION:2.0
PRODID:-//North Loop Neighborhood Association - ECPv6.15.19//NONSGML v1.0//EN
CALSCALE:GREGORIAN
METHOD:PUBLISH
X-WR-CALNAME:North Loop Neighborhood Association
X-ORIGINAL-URL:https://northloop.org
X-WR-CALDESC:Events for North Loop Neighborhood Association
REFRESH-INTERVAL;VALUE=DURATION:PT1H
X-Robots-Tag:noindex
X-PUBLISHED-TTL:PT1H
BEGIN:VTIMEZONE
TZID:America/Chicago
BEGIN:DAYLIGHT
TZOFFSETFROM:-0600
TZOFFSETTO:-0500
TZNAME:CDT
DTSTART:20240310T080000
END:DAYLIGHT
BEGIN:STANDARD
TZOFFSETFROM:-0500
TZOFFSETTO:-0600
TZNAME:CST
DTSTART:20241103T070000
END:STANDARD
BEGIN:DAYLIGHT
TZOFFSETFROM:-0600
TZOFFSETTO:-0500
TZNAME:CDT
DTSTART:20250309T080000
END:DAYLIGHT
BEGIN:STANDARD
TZOFFSETFROM:-0500
TZOFFSETTO:-0600
TZNAME:CST
DTSTART:20251102T070000
END:STANDARD
BEGIN:DAYLIGHT
TZOFFSETFROM:-0600
TZOFFSETTO:-0500
TZNAME:CDT
DTSTART:20260308T080000
END:DAYLIGHT
BEGIN:STANDARD
TZOFFSETFROM:-0500
TZOFFSETTO:-0600
TZNAME:CST
DTSTART:20261101T070000
END:STANDARD
END:VTIMEZONE
BEGIN:VEVENT
DTSTART;TZID=America/Chicago:20250818T180000
DTEND;TZID=America/Chicago:20250818T220000
DTSTAMP:20260424T035828
CREATED:20250718T172012Z
LAST-MODIFIED:20250718T172012Z
UID:10019924-1755540000-1755554400@northloop.org
SUMMARY:Silent Book Club at Inbound BrewCo
DESCRIPTION:📚🍺 Silent Reading Night at Inbound! 🍺📚 \nLove books? Love beer (or a good N/A drink)? Then this is your kind of night! Swing by anytime between 6-10pm\, head up to the Mezz\, and settle in for some quiet\, cozy reading time. \n📖 Bring a book & grab a drink\n🛋 Share a table with friends or friendly strangers\n🤫 Enjoy the peaceful vibes as we all read together—silently \nNo pressure\, no distractions—just good books\, good drinks\, and good company (in total silence\, of course 😉).
URL:https://northloop.org/event/silent-book-club-at-inbound-brewco/
LOCATION:Inbound Brewco\, 701 North 5th Street\, Minneapolis\, MN\, 55401\, United States
CATEGORIES:Food & Drink
GEO:44.985554;-93.281553
X-APPLE-STRUCTURED-LOCATION;VALUE=URI;X-ADDRESS=Inbound Brewco 701 North 5th Street Minneapolis MN 55401 United States;X-APPLE-RADIUS=500;X-TITLE=701 North 5th Street:geo:-93.281553,44.985554
END:VEVENT
BEGIN:VEVENT
DTSTART;TZID=America/Chicago:20250412T110000
DTEND;TZID=America/Chicago:20250412T230000
DTSTAMP:20260424T035828
CREATED:20250405T210127Z
LAST-MODIFIED:20250405T210127Z
UID:10019841-1744455600-1744498800@northloop.org
SUMMARY:Inbound BrewCo Anniversary Bash
DESCRIPTION:Inbound BrewCo’s 9th Anniversary Bash! \nWe’re turning 9 and throwing an epic party to celebrate! Mark your calendars and join us for a day packed with food\, music\, and of course…BEER! \nAll Day Beer Bash – open to close\n8 Food Trucks – 11am-9pm\nDJ Beats – 12pm-8pm.\nNivrana: Nirvana Tribute Band – 8pm-11pm! \nWhether you’re here for the tunes\, the food\, or just a cold one with friends—this is a party you won’t want to miss!
URL:https://northloop.org/event/inbound-brewco-anniversary-bash/
LOCATION:Inbound Brewco\, 701 North 5th Street\, Minneapolis\, MN\, 55401\, United States
GEO:44.985554;-93.281553
X-APPLE-STRUCTURED-LOCATION;VALUE=URI;X-ADDRESS=Inbound Brewco 701 North 5th Street Minneapolis MN 55401 United States;X-APPLE-RADIUS=500;X-TITLE=701 North 5th Street:geo:-93.281553,44.985554
END:VEVENT
BEGIN:VEVENT
DTSTART;TZID=America/Chicago:20250309T150000
DTEND;TZID=America/Chicago:20250309T170000
DTSTAMP:20260424T035828
CREATED:20250205T181525Z
LAST-MODIFIED:20250209T203107Z
UID:10019245-1741532400-1741539600@northloop.org
SUMMARY:Bingo at Inbound BrewCo
DESCRIPTION:Get ready to shout “BINGO!” every Sunday! Join us at 3pm for some thrilling rounds of everyone’s favorite game! \nHere are the details: \n– When: Every Sunday at 3pm \n– Cost: $2 per card (cash only\, ATM available on site) \n– Rounds: 6 rounds (play as few or as many as you’d like!) \n– Age requirement: Must be 18 and up to play \n– Prizes: Cash prizes up for grabs! \nBingo at the taproom is sponsored by Firefighters For Healing. All Charitable Gambling proceeds support their Transitional Healing Center across from HCMC Burn Unit\, as a place to stay free of charge for burn survivors and their families\, and Firefighters and First Responders receiving medical care.
URL:https://northloop.org/event/bingo-at-inbound-brewco/2025-03-09/
LOCATION:Inbound Brewco\, 701 North 5th Street\, Minneapolis\, MN\, 55401\, United States
CATEGORIES:Community,Food & Drink
ATTACH;FMTTYPE=image/jpeg:https://northloop.org/wp-content/uploads/2025/02/Screenshot-2025-02-05-at-12.14.51-PM.jpg
GEO:44.985554;-93.281553
X-APPLE-STRUCTURED-LOCATION;VALUE=URI;X-ADDRESS=Inbound Brewco 701 North 5th Street Minneapolis MN 55401 United States;X-APPLE-RADIUS=500;X-TITLE=701 North 5th Street:geo:-93.281553,44.985554
END:VEVENT
BEGIN:VEVENT
DTSTART;TZID=America/Chicago:20250302T150000
DTEND;TZID=America/Chicago:20250302T170000
DTSTAMP:20260424T035828
CREATED:20250205T181525Z
LAST-MODIFIED:20250209T203107Z
UID:10019244-1740927600-1740934800@northloop.org
SUMMARY:Bingo at Inbound BrewCo
DESCRIPTION:Get ready to shout “BINGO!” every Sunday! Join us at 3pm for some thrilling rounds of everyone’s favorite game! \nHere are the details: \n– When: Every Sunday at 3pm \n– Cost: $2 per card (cash only\, ATM available on site) \n– Rounds: 6 rounds (play as few or as many as you’d like!) \n– Age requirement: Must be 18 and up to play \n– Prizes: Cash prizes up for grabs! \nBingo at the taproom is sponsored by Firefighters For Healing. All Charitable Gambling proceeds support their Transitional Healing Center across from HCMC Burn Unit\, as a place to stay free of charge for burn survivors and their families\, and Firefighters and First Responders receiving medical care.
URL:https://northloop.org/event/bingo-at-inbound-brewco/2025-03-02/
LOCATION:Inbound Brewco\, 701 North 5th Street\, Minneapolis\, MN\, 55401\, United States
CATEGORIES:Community,Food & Drink
ATTACH;FMTTYPE=image/jpeg:https://northloop.org/wp-content/uploads/2025/02/Screenshot-2025-02-05-at-12.14.51-PM.jpg
GEO:44.985554;-93.281553
X-APPLE-STRUCTURED-LOCATION;VALUE=URI;X-ADDRESS=Inbound Brewco 701 North 5th Street Minneapolis MN 55401 United States;X-APPLE-RADIUS=500;X-TITLE=701 North 5th Street:geo:-93.281553,44.985554
END:VEVENT
BEGIN:VEVENT
DTSTART;TZID=America/Chicago:20250223T150000
DTEND;TZID=America/Chicago:20250223T170000
DTSTAMP:20260424T035828
CREATED:20250205T181525Z
LAST-MODIFIED:20250209T203107Z
UID:10019243-1740322800-1740330000@northloop.org
SUMMARY:Bingo at Inbound BrewCo
DESCRIPTION:Get ready to shout “BINGO!” every Sunday! Join us at 3pm for some thrilling rounds of everyone’s favorite game! \nHere are the details: \n– When: Every Sunday at 3pm \n– Cost: $2 per card (cash only\, ATM available on site) \n– Rounds: 6 rounds (play as few or as many as you’d like!) \n– Age requirement: Must be 18 and up to play \n– Prizes: Cash prizes up for grabs! \nBingo at the taproom is sponsored by Firefighters For Healing. All Charitable Gambling proceeds support their Transitional Healing Center across from HCMC Burn Unit\, as a place to stay free of charge for burn survivors and their families\, and Firefighters and First Responders receiving medical care.
URL:https://northloop.org/event/bingo-at-inbound-brewco/2025-02-23/
LOCATION:Inbound Brewco\, 701 North 5th Street\, Minneapolis\, MN\, 55401\, United States
CATEGORIES:Community,Food & Drink
ATTACH;FMTTYPE=image/jpeg:https://northloop.org/wp-content/uploads/2025/02/Screenshot-2025-02-05-at-12.14.51-PM.jpg
GEO:44.985554;-93.281553
X-APPLE-STRUCTURED-LOCATION;VALUE=URI;X-ADDRESS=Inbound Brewco 701 North 5th Street Minneapolis MN 55401 United States;X-APPLE-RADIUS=500;X-TITLE=701 North 5th Street:geo:-93.281553,44.985554
END:VEVENT
BEGIN:VEVENT
DTSTART;TZID=America/Chicago:20250216T150000
DTEND;TZID=America/Chicago:20250216T170000
DTSTAMP:20260424T035828
CREATED:20250205T181525Z
LAST-MODIFIED:20250209T203107Z
UID:10019242-1739718000-1739725200@northloop.org
SUMMARY:Bingo at Inbound BrewCo
DESCRIPTION:Get ready to shout “BINGO!” every Sunday! Join us at 3pm for some thrilling rounds of everyone’s favorite game! \nHere are the details: \n– When: Every Sunday at 3pm \n– Cost: $2 per card (cash only\, ATM available on site) \n– Rounds: 6 rounds (play as few or as many as you’d like!) \n– Age requirement: Must be 18 and up to play \n– Prizes: Cash prizes up for grabs! \nBingo at the taproom is sponsored by Firefighters For Healing. All Charitable Gambling proceeds support their Transitional Healing Center across from HCMC Burn Unit\, as a place to stay free of charge for burn survivors and their families\, and Firefighters and First Responders receiving medical care.
URL:https://northloop.org/event/bingo-at-inbound-brewco/2025-02-16/
LOCATION:Inbound Brewco\, 701 North 5th Street\, Minneapolis\, MN\, 55401\, United States
CATEGORIES:Community,Food & Drink
ATTACH;FMTTYPE=image/jpeg:https://northloop.org/wp-content/uploads/2025/02/Screenshot-2025-02-05-at-12.14.51-PM.jpg
GEO:44.985554;-93.281553
X-APPLE-STRUCTURED-LOCATION;VALUE=URI;X-ADDRESS=Inbound Brewco 701 North 5th Street Minneapolis MN 55401 United States;X-APPLE-RADIUS=500;X-TITLE=701 North 5th Street:geo:-93.281553,44.985554
END:VEVENT
BEGIN:VEVENT
DTSTART;TZID=America/Chicago:20250209T150000
DTEND;TZID=America/Chicago:20250209T170000
DTSTAMP:20260424T035828
CREATED:20250205T181525Z
LAST-MODIFIED:20250209T203107Z
UID:10019241-1739113200-1739120400@northloop.org
SUMMARY:Bingo at Inbound BrewCo
DESCRIPTION:Get ready to shout “BINGO!” every Sunday! Join us at 3pm for some thrilling rounds of everyone’s favorite game! \nHere are the details: \n– When: Every Sunday at 3pm \n– Cost: $2 per card (cash only\, ATM available on site) \n– Rounds: 6 rounds (play as few or as many as you’d like!) \n– Age requirement: Must be 18 and up to play \n– Prizes: Cash prizes up for grabs! \nBingo at the taproom is sponsored by Firefighters For Healing. All Charitable Gambling proceeds support their Transitional Healing Center across from HCMC Burn Unit\, as a place to stay free of charge for burn survivors and their families\, and Firefighters and First Responders receiving medical care.
URL:https://northloop.org/event/bingo-at-inbound-brewco/2025-02-09/
LOCATION:Inbound Brewco\, 701 North 5th Street\, Minneapolis\, MN\, 55401\, United States
CATEGORIES:Community,Food & Drink
ATTACH;FMTTYPE=image/jpeg:https://northloop.org/wp-content/uploads/2025/02/Screenshot-2025-02-05-at-12.14.51-PM.jpg
GEO:44.985554;-93.281553
X-APPLE-STRUCTURED-LOCATION;VALUE=URI;X-ADDRESS=Inbound Brewco 701 North 5th Street Minneapolis MN 55401 United States;X-APPLE-RADIUS=500;X-TITLE=701 North 5th Street:geo:-93.281553,44.985554
END:VEVENT
END:VCALENDAR