BEGIN:VCALENDAR
VERSION:2.0
PRODID:-//North Loop Neighborhood Association - ECPv6.15.19//NONSGML v1.0//EN
CALSCALE:GREGORIAN
METHOD:PUBLISH
X-WR-CALNAME:North Loop Neighborhood Association
X-ORIGINAL-URL:https://northloop.org
X-WR-CALDESC:Events for North Loop Neighborhood Association
REFRESH-INTERVAL;VALUE=DURATION:PT1H
X-Robots-Tag:noindex
X-PUBLISHED-TTL:PT1H
BEGIN:VTIMEZONE
TZID:America/Chicago
BEGIN:DAYLIGHT
TZOFFSETFROM:-0600
TZOFFSETTO:-0500
TZNAME:CDT
DTSTART:20180311T080000
END:DAYLIGHT
BEGIN:STANDARD
TZOFFSETFROM:-0500
TZOFFSETTO:-0600
TZNAME:CST
DTSTART:20181104T070000
END:STANDARD
BEGIN:DAYLIGHT
TZOFFSETFROM:-0600
TZOFFSETTO:-0500
TZNAME:CDT
DTSTART:20190310T080000
END:DAYLIGHT
BEGIN:STANDARD
TZOFFSETFROM:-0500
TZOFFSETTO:-0600
TZNAME:CST
DTSTART:20191103T070000
END:STANDARD
BEGIN:DAYLIGHT
TZOFFSETFROM:-0600
TZOFFSETTO:-0500
TZNAME:CDT
DTSTART:20200308T080000
END:DAYLIGHT
BEGIN:STANDARD
TZOFFSETFROM:-0500
TZOFFSETTO:-0600
TZNAME:CST
DTSTART:20201101T070000
END:STANDARD
END:VTIMEZONE
BEGIN:VTIMEZONE
TZID:America/Chicago
BEGIN:DAYLIGHT
TZOFFSETFROM:-0600
TZOFFSETTO:-0500
TZNAME:CDT
DTSTART:20150308T080000
END:DAYLIGHT
BEGIN:STANDARD
TZOFFSETFROM:-0500
TZOFFSETTO:-0600
TZNAME:CST
DTSTART:20151101T070000
END:STANDARD
BEGIN:DAYLIGHT
TZOFFSETFROM:-0600
TZOFFSETTO:-0500
TZNAME:CDT
DTSTART:20160313T080000
END:DAYLIGHT
BEGIN:STANDARD
TZOFFSETFROM:-0500
TZOFFSETTO:-0600
TZNAME:CST
DTSTART:20161106T070000
END:STANDARD
BEGIN:DAYLIGHT
TZOFFSETFROM:-0600
TZOFFSETTO:-0500
TZNAME:CDT
DTSTART:20170312T080000
END:DAYLIGHT
BEGIN:STANDARD
TZOFFSETFROM:-0500
TZOFFSETTO:-0600
TZNAME:CST
DTSTART:20171105T070000
END:STANDARD
END:VTIMEZONE
BEGIN:VEVENT
DTSTART;TZID=America/Chicago:20191108T170000
DTEND;TZID=America/Chicago:20191108T190000
DTSTAMP:20260425T053452
CREATED:20191104T184122Z
LAST-MODIFIED:20191104T184504Z
UID:10015173-1573232400-1573239600@northloop.org
SUMMARY:Askov Finlayson Reopening Event
DESCRIPTION:
URL:https://northloop.org/event/askov-finlayson-reopening-event/
LOCATION:Askov Finlayson\, 204 North 1st Street\, Minneapolis\, MN\, 55401\, United States
CATEGORIES:Fashion,Featured,Food & Drink,Retail
ATTACH;FMTTYPE=image/jpeg:https://northloop.org/wp-content/uploads/2019/11/Askov.jpg
GEO:44.9857486;-93.2691021
X-APPLE-STRUCTURED-LOCATION;VALUE=URI;X-ADDRESS=Askov Finlayson 204 North 1st Street Minneapolis MN 55401 United States;X-APPLE-RADIUS=500;X-TITLE=204 North 1st Street:geo:-93.2691021,44.9857486
END:VEVENT
BEGIN:VEVENT
DTSTART;TZID=America/Chicago:20160924T140000
DTEND;TZID=America/Chicago:20160924T170000
DTSTAMP:20260425T053452
CREATED:20160916T195126Z
LAST-MODIFIED:20160916T195126Z
UID:10008568-1474725600-1474736400@northloop.org
SUMMARY:Duluth Pop-Down - Askov Finlayson
DESCRIPTION:We’re happy to host the third annual Duluth Pop-Down with a few of our friends from the city on Lake Superior. Frost River will have a preview of our upcoming collaboration and will take preorders with complimentary monogramming\, Bent Paddle Brewing Co. will be pouring some of their brews\, and Duluth Mayor Emily Larson will stop by. Additionally\, our new neighbors Cooks of Crocus Hill will be hosting a few more Duluth friends\, including cocktails by Vikre Distillery and a visit and sale on Epicurean cutting boards and tools. We look forward so seeing you there!
URL:https://northloop.org/event/duluth-pop-askov-finlayson/
LOCATION:Askov Finlayson\, 204 North 1st Street\, Minneapolis\, MN\, 55401\, United States
CATEGORIES:Featured,Local
ATTACH;FMTTYPE=image/jpeg:https://northloop.org/wp-content/uploads/2016/09/askov_1171640909545359_7885685872460370230_n.jpg
GEO:44.9857486;-93.2691021
X-APPLE-STRUCTURED-LOCATION;VALUE=URI;X-ADDRESS=Askov Finlayson 204 North 1st Street Minneapolis MN 55401 United States;X-APPLE-RADIUS=500;X-TITLE=204 North 1st Street:geo:-93.2691021,44.9857486
END:VEVENT
END:VCALENDAR