BEGIN:VCALENDAR
VERSION:2.0
PRODID:-//North Loop Neighborhood Association - ECPv6.15.19//NONSGML v1.0//EN
CALSCALE:GREGORIAN
METHOD:PUBLISH
X-WR-CALNAME:North Loop Neighborhood Association
X-ORIGINAL-URL:https://northloop.org
X-WR-CALDESC:Events for North Loop Neighborhood Association
REFRESH-INTERVAL;VALUE=DURATION:PT1H
X-Robots-Tag:noindex
X-PUBLISHED-TTL:PT1H
BEGIN:VTIMEZONE
TZID:America/Chicago
BEGIN:DAYLIGHT
TZOFFSETFROM:-0600
TZOFFSETTO:-0500
TZNAME:CDT
DTSTART:20200308T080000
END:DAYLIGHT
BEGIN:STANDARD
TZOFFSETFROM:-0500
TZOFFSETTO:-0600
TZNAME:CST
DTSTART:20201101T070000
END:STANDARD
BEGIN:DAYLIGHT
TZOFFSETFROM:-0600
TZOFFSETTO:-0500
TZNAME:CDT
DTSTART:20210314T080000
END:DAYLIGHT
BEGIN:STANDARD
TZOFFSETFROM:-0500
TZOFFSETTO:-0600
TZNAME:CST
DTSTART:20211107T070000
END:STANDARD
BEGIN:DAYLIGHT
TZOFFSETFROM:-0600
TZOFFSETTO:-0500
TZNAME:CDT
DTSTART:20220313T080000
END:DAYLIGHT
BEGIN:STANDARD
TZOFFSETFROM:-0500
TZOFFSETTO:-0600
TZNAME:CST
DTSTART:20221106T070000
END:STANDARD
BEGIN:DAYLIGHT
TZOFFSETFROM:-0600
TZOFFSETTO:-0500
TZNAME:CDT
DTSTART:20230312T080000
END:DAYLIGHT
BEGIN:STANDARD
TZOFFSETFROM:-0500
TZOFFSETTO:-0600
TZNAME:CST
DTSTART:20231105T070000
END:STANDARD
END:VTIMEZONE
BEGIN:VEVENT
DTSTART;TZID=America/Chicago:20220430T090000
DTEND;TZID=America/Chicago:20220430T110000
DTSTAMP:20260424T110834
CREATED:20220422T183044Z
LAST-MODIFIED:20220422T183044Z
UID:10016326-1651309200-1651316400@northloop.org
SUMMARY:North Loop Clean-up Day
DESCRIPTION:
URL:https://northloop.org/event/north-loop-clean-up-day/
LOCATION:DRG\, 700 Washington Avenue\, Minneapolis\, MN\, 55401\, United States
CATEGORIES:Environment,Featured
ATTACH;FMTTYPE=image/jpeg:https://northloop.org/wp-content/uploads/2022/04/unnamed-60.jpg
GEO:44.9878539;-93.2767449
X-APPLE-STRUCTURED-LOCATION;VALUE=URI;X-ADDRESS=DRG 700 Washington Avenue Minneapolis MN 55401 United States;X-APPLE-RADIUS=500;X-TITLE=700 Washington Avenue:geo:-93.2767449,44.9878539
END:VEVENT
BEGIN:VEVENT
DTSTART;TZID=America/Chicago:20210929T110000
DTEND;TZID=America/Chicago:20210929T130000
DTSTAMP:20260424T110834
CREATED:20210603T195034Z
LAST-MODIFIED:20210603T200339Z
UID:10015325-1632913200-1632920400@northloop.org
SUMMARY:DRG Food Truck Wednesday
DESCRIPTION:We’re so excited to announce that Food Truck Wednesday is back! Join us each Wednesday outside of the DRG office as we feature a different local food truck.\n\nFeatured Food Trucks include:\nIt’s 7am Somewhere\nNorthbound Smokehouse\nPharaoh’s Gyros\nSandy’s Grill & Italian Ice\nMarket BBQ\nThe Anchor Fish & Chips\nThe trucks will also be passing out DRG punch cards. Use the punch card each time to stop by and your 10th meal this summer is on us!\nFood Truck Wednesday will run from June 2nd – September 29th.
URL:https://northloop.org/event/drg-food-truck-wednesday/2021-09-29/
LOCATION:DRG\, 700 Washington Avenue\, Minneapolis\, MN\, 55401\, United States
CATEGORIES:Featured,Food & Drink
ATTACH;FMTTYPE=image/jpeg:https://northloop.org/wp-content/uploads/2021/06/Food-Truck-Wednesday-21.jpg
GEO:44.9878539;-93.2767449
X-APPLE-STRUCTURED-LOCATION;VALUE=URI;X-ADDRESS=DRG 700 Washington Avenue Minneapolis MN 55401 United States;X-APPLE-RADIUS=500;X-TITLE=700 Washington Avenue:geo:-93.2767449,44.9878539
END:VEVENT
BEGIN:VEVENT
DTSTART;TZID=America/Chicago:20210922T110000
DTEND;TZID=America/Chicago:20210922T130000
DTSTAMP:20260424T110834
CREATED:20210603T195034Z
LAST-MODIFIED:20210603T200339Z
UID:10015324-1632308400-1632315600@northloop.org
SUMMARY:DRG Food Truck Wednesday
DESCRIPTION:We’re so excited to announce that Food Truck Wednesday is back! Join us each Wednesday outside of the DRG office as we feature a different local food truck.\n\nFeatured Food Trucks include:\nIt’s 7am Somewhere\nNorthbound Smokehouse\nPharaoh’s Gyros\nSandy’s Grill & Italian Ice\nMarket BBQ\nThe Anchor Fish & Chips\nThe trucks will also be passing out DRG punch cards. Use the punch card each time to stop by and your 10th meal this summer is on us!\nFood Truck Wednesday will run from June 2nd – September 29th.
URL:https://northloop.org/event/drg-food-truck-wednesday/2021-09-22/
LOCATION:DRG\, 700 Washington Avenue\, Minneapolis\, MN\, 55401\, United States
CATEGORIES:Featured,Food & Drink
ATTACH;FMTTYPE=image/jpeg:https://northloop.org/wp-content/uploads/2021/06/Food-Truck-Wednesday-21.jpg
GEO:44.9878539;-93.2767449
X-APPLE-STRUCTURED-LOCATION;VALUE=URI;X-ADDRESS=DRG 700 Washington Avenue Minneapolis MN 55401 United States;X-APPLE-RADIUS=500;X-TITLE=700 Washington Avenue:geo:-93.2767449,44.9878539
END:VEVENT
BEGIN:VEVENT
DTSTART;TZID=America/Chicago:20210915T110000
DTEND;TZID=America/Chicago:20210915T130000
DTSTAMP:20260424T110834
CREATED:20210603T195034Z
LAST-MODIFIED:20210603T200339Z
UID:10015323-1631703600-1631710800@northloop.org
SUMMARY:DRG Food Truck Wednesday
DESCRIPTION:We’re so excited to announce that Food Truck Wednesday is back! Join us each Wednesday outside of the DRG office as we feature a different local food truck.\n\nFeatured Food Trucks include:\nIt’s 7am Somewhere\nNorthbound Smokehouse\nPharaoh’s Gyros\nSandy’s Grill & Italian Ice\nMarket BBQ\nThe Anchor Fish & Chips\nThe trucks will also be passing out DRG punch cards. Use the punch card each time to stop by and your 10th meal this summer is on us!\nFood Truck Wednesday will run from June 2nd – September 29th.
URL:https://northloop.org/event/drg-food-truck-wednesday/2021-09-15/
LOCATION:DRG\, 700 Washington Avenue\, Minneapolis\, MN\, 55401\, United States
CATEGORIES:Featured,Food & Drink
ATTACH;FMTTYPE=image/jpeg:https://northloop.org/wp-content/uploads/2021/06/Food-Truck-Wednesday-21.jpg
GEO:44.9878539;-93.2767449
X-APPLE-STRUCTURED-LOCATION;VALUE=URI;X-ADDRESS=DRG 700 Washington Avenue Minneapolis MN 55401 United States;X-APPLE-RADIUS=500;X-TITLE=700 Washington Avenue:geo:-93.2767449,44.9878539
END:VEVENT
BEGIN:VEVENT
DTSTART;TZID=America/Chicago:20210908T110000
DTEND;TZID=America/Chicago:20210908T130000
DTSTAMP:20260424T110834
CREATED:20210603T195034Z
LAST-MODIFIED:20210902T144653Z
UID:10016133-1631098800-1631106000@northloop.org
SUMMARY:DRG Food Truck Wednesday
DESCRIPTION:We’re so excited to announce that Food Truck Wednesday is back! Join us each Wednesday outside of the DRG office as we feature a different local food truck.\n\nFeatured Food Trucks include:\nIt’s 7am Somewhere\nNorthbound Smokehouse\nPharaoh’s Gyros\nSandy’s Grill & Italian Ice\nMarket BBQ\nThe Anchor Fish & Chips\nThe trucks will also be passing out DRG punch cards. Use the punch card each time to stop by and your 10th meal this summer is on us!\nFood Truck Wednesday will run from June 2nd – September 29th.
URL:https://northloop.org/event/drg-food-truck-wednesday-2021-09-08/
LOCATION:DRG\, 700 Washington Avenue\, Minneapolis\, MN\, 55401\, United States
CATEGORIES:Food & Drink
ATTACH;FMTTYPE=image/jpeg:https://northloop.org/wp-content/uploads/2021/06/Food-Truck-Wednesday-21.jpg
GEO:44.9878539;-93.2767449
X-APPLE-STRUCTURED-LOCATION;VALUE=URI;X-ADDRESS=DRG 700 Washington Avenue Minneapolis MN 55401 United States;X-APPLE-RADIUS=500;X-TITLE=700 Washington Avenue:geo:-93.2767449,44.9878539
END:VEVENT
BEGIN:VEVENT
DTSTART;TZID=America/Chicago:20210901T110000
DTEND;TZID=America/Chicago:20210901T130000
DTSTAMP:20260424T110834
CREATED:20210603T195034Z
LAST-MODIFIED:20210603T200339Z
UID:10015322-1630494000-1630501200@northloop.org
SUMMARY:DRG Food Truck Wednesday
DESCRIPTION:We’re so excited to announce that Food Truck Wednesday is back! Join us each Wednesday outside of the DRG office as we feature a different local food truck.\n\nFeatured Food Trucks include:\nIt’s 7am Somewhere\nNorthbound Smokehouse\nPharaoh’s Gyros\nSandy’s Grill & Italian Ice\nMarket BBQ\nThe Anchor Fish & Chips\nThe trucks will also be passing out DRG punch cards. Use the punch card each time to stop by and your 10th meal this summer is on us!\nFood Truck Wednesday will run from June 2nd – September 29th.
URL:https://northloop.org/event/drg-food-truck-wednesday/2021-09-01/
LOCATION:DRG\, 700 Washington Avenue\, Minneapolis\, MN\, 55401\, United States
CATEGORIES:Featured,Food & Drink
ATTACH;FMTTYPE=image/jpeg:https://northloop.org/wp-content/uploads/2021/06/Food-Truck-Wednesday-21.jpg
GEO:44.9878539;-93.2767449
X-APPLE-STRUCTURED-LOCATION;VALUE=URI;X-ADDRESS=DRG 700 Washington Avenue Minneapolis MN 55401 United States;X-APPLE-RADIUS=500;X-TITLE=700 Washington Avenue:geo:-93.2767449,44.9878539
END:VEVENT
BEGIN:VEVENT
DTSTART;TZID=America/Chicago:20210825T110000
DTEND;TZID=America/Chicago:20210825T130000
DTSTAMP:20260424T110834
CREATED:20210603T195034Z
LAST-MODIFIED:20210824T214355Z
UID:10016132-1629889200-1629896400@northloop.org
SUMMARY:DRG Food Truck Wednesday
DESCRIPTION:We’re so excited to announce that Food Truck Wednesday is back! Join us each Wednesday outside of the DRG office as we feature a different local food truck.\n\nFeatured Food Trucks include:\nIt’s 7am Somewhere\nNorthbound Smokehouse\nPharaoh’s Gyros\nSandy’s Grill & Italian Ice\nMarket BBQ\nThe Anchor Fish & Chips\nThe trucks will also be passing out DRG punch cards. Use the punch card each time to stop by and your 10th meal this summer is on us!\nFood Truck Wednesday will run from June 2nd – September 29th.
URL:https://northloop.org/event/drg-food-truck-wednesday-2021-08-25/
LOCATION:DRG\, 700 Washington Avenue\, Minneapolis\, MN\, 55401\, United States
CATEGORIES:Food & Drink
ATTACH;FMTTYPE=image/jpeg:https://northloop.org/wp-content/uploads/2021/06/Food-Truck-Wednesday-21.jpg
GEO:44.9878539;-93.2767449
X-APPLE-STRUCTURED-LOCATION;VALUE=URI;X-ADDRESS=DRG 700 Washington Avenue Minneapolis MN 55401 United States;X-APPLE-RADIUS=500;X-TITLE=700 Washington Avenue:geo:-93.2767449,44.9878539
END:VEVENT
BEGIN:VEVENT
DTSTART;TZID=America/Chicago:20210818T110000
DTEND;TZID=America/Chicago:20210818T130000
DTSTAMP:20260424T110834
CREATED:20210603T195034Z
LAST-MODIFIED:20210603T200339Z
UID:10015321-1629284400-1629291600@northloop.org
SUMMARY:DRG Food Truck Wednesday
DESCRIPTION:We’re so excited to announce that Food Truck Wednesday is back! Join us each Wednesday outside of the DRG office as we feature a different local food truck.\n\nFeatured Food Trucks include:\nIt’s 7am Somewhere\nNorthbound Smokehouse\nPharaoh’s Gyros\nSandy’s Grill & Italian Ice\nMarket BBQ\nThe Anchor Fish & Chips\nThe trucks will also be passing out DRG punch cards. Use the punch card each time to stop by and your 10th meal this summer is on us!\nFood Truck Wednesday will run from June 2nd – September 29th.
URL:https://northloop.org/event/drg-food-truck-wednesday/2021-08-18/
LOCATION:DRG\, 700 Washington Avenue\, Minneapolis\, MN\, 55401\, United States
CATEGORIES:Featured,Food & Drink
ATTACH;FMTTYPE=image/jpeg:https://northloop.org/wp-content/uploads/2021/06/Food-Truck-Wednesday-21.jpg
GEO:44.9878539;-93.2767449
X-APPLE-STRUCTURED-LOCATION;VALUE=URI;X-ADDRESS=DRG 700 Washington Avenue Minneapolis MN 55401 United States;X-APPLE-RADIUS=500;X-TITLE=700 Washington Avenue:geo:-93.2767449,44.9878539
END:VEVENT
BEGIN:VEVENT
DTSTART;TZID=America/Chicago:20210811T110000
DTEND;TZID=America/Chicago:20210811T130000
DTSTAMP:20260424T110834
CREATED:20210603T195034Z
LAST-MODIFIED:20210809T131711Z
UID:10016131-1628679600-1628686800@northloop.org
SUMMARY:DRG Food Truck Wednesday
DESCRIPTION:We’re so excited to announce that Food Truck Wednesday is back! Join us each Wednesday outside of the DRG office as we feature a different local food truck.\n\nFeatured Food Trucks include:\nIt’s 7am Somewhere\nNorthbound Smokehouse\nPharaoh’s Gyros\nSandy’s Grill & Italian Ice\nMarket BBQ\nThe Anchor Fish & Chips\nThe trucks will also be passing out DRG punch cards. Use the punch card each time to stop by and your 10th meal this summer is on us!\nFood Truck Wednesday will run from June 2nd – September 29th.
URL:https://northloop.org/event/drg-food-truck-wednesday-2021-08-11/
LOCATION:DRG\, 700 Washington Avenue\, Minneapolis\, MN\, 55401\, United States
CATEGORIES:Food & Drink
ATTACH;FMTTYPE=image/jpeg:https://northloop.org/wp-content/uploads/2021/06/Food-Truck-Wednesday-21.jpg
GEO:44.9878539;-93.2767449
X-APPLE-STRUCTURED-LOCATION;VALUE=URI;X-ADDRESS=DRG 700 Washington Avenue Minneapolis MN 55401 United States;X-APPLE-RADIUS=500;X-TITLE=700 Washington Avenue:geo:-93.2767449,44.9878539
END:VEVENT
BEGIN:VEVENT
DTSTART;TZID=America/Chicago:20210804T110000
DTEND;TZID=America/Chicago:20210804T130000
DTSTAMP:20260424T110834
CREATED:20210603T195034Z
LAST-MODIFIED:20210603T200339Z
UID:10015320-1628074800-1628082000@northloop.org
SUMMARY:DRG Food Truck Wednesday
DESCRIPTION:We’re so excited to announce that Food Truck Wednesday is back! Join us each Wednesday outside of the DRG office as we feature a different local food truck.\n\nFeatured Food Trucks include:\nIt’s 7am Somewhere\nNorthbound Smokehouse\nPharaoh’s Gyros\nSandy’s Grill & Italian Ice\nMarket BBQ\nThe Anchor Fish & Chips\nThe trucks will also be passing out DRG punch cards. Use the punch card each time to stop by and your 10th meal this summer is on us!\nFood Truck Wednesday will run from June 2nd – September 29th.
URL:https://northloop.org/event/drg-food-truck-wednesday/2021-08-04/
LOCATION:DRG\, 700 Washington Avenue\, Minneapolis\, MN\, 55401\, United States
CATEGORIES:Featured,Food & Drink
ATTACH;FMTTYPE=image/jpeg:https://northloop.org/wp-content/uploads/2021/06/Food-Truck-Wednesday-21.jpg
GEO:44.9878539;-93.2767449
X-APPLE-STRUCTURED-LOCATION;VALUE=URI;X-ADDRESS=DRG 700 Washington Avenue Minneapolis MN 55401 United States;X-APPLE-RADIUS=500;X-TITLE=700 Washington Avenue:geo:-93.2767449,44.9878539
END:VEVENT
BEGIN:VEVENT
DTSTART;TZID=America/Chicago:20210728T110000
DTEND;TZID=America/Chicago:20210728T130000
DTSTAMP:20260424T110834
CREATED:20210603T195034Z
LAST-MODIFIED:20210726T131935Z
UID:10016130-1627470000-1627477200@northloop.org
SUMMARY:DRG Food Truck Wednesday
DESCRIPTION:We’re so excited to announce that Food Truck Wednesday is back! Join us each Wednesday outside of the DRG office as we feature a different local food truck.\n\nFeatured Food Trucks include:\nIt’s 7am Somewhere\nNorthbound Smokehouse\nPharaoh’s Gyros\nSandy’s Grill & Italian Ice\nMarket BBQ\nThe Anchor Fish & Chips\nThe trucks will also be passing out DRG punch cards. Use the punch card each time to stop by and your 10th meal this summer is on us!\nFood Truck Wednesday will run from June 2nd – September 29th.
URL:https://northloop.org/event/drg-food-truck-wednesday-2021-07-28/
LOCATION:DRG\, 700 Washington Avenue\, Minneapolis\, MN\, 55401\, United States
CATEGORIES:Food & Drink
ATTACH;FMTTYPE=image/jpeg:https://northloop.org/wp-content/uploads/2021/06/Food-Truck-Wednesday-21.jpg
GEO:44.9878539;-93.2767449
X-APPLE-STRUCTURED-LOCATION;VALUE=URI;X-ADDRESS=DRG 700 Washington Avenue Minneapolis MN 55401 United States;X-APPLE-RADIUS=500;X-TITLE=700 Washington Avenue:geo:-93.2767449,44.9878539
END:VEVENT
BEGIN:VEVENT
DTSTART;TZID=America/Chicago:20210721T110000
DTEND;TZID=America/Chicago:20210721T130000
DTSTAMP:20260424T110834
CREATED:20210603T195034Z
LAST-MODIFIED:20210603T200339Z
UID:10015319-1626865200-1626872400@northloop.org
SUMMARY:DRG Food Truck Wednesday
DESCRIPTION:We’re so excited to announce that Food Truck Wednesday is back! Join us each Wednesday outside of the DRG office as we feature a different local food truck.\n\nFeatured Food Trucks include:\nIt’s 7am Somewhere\nNorthbound Smokehouse\nPharaoh’s Gyros\nSandy’s Grill & Italian Ice\nMarket BBQ\nThe Anchor Fish & Chips\nThe trucks will also be passing out DRG punch cards. Use the punch card each time to stop by and your 10th meal this summer is on us!\nFood Truck Wednesday will run from June 2nd – September 29th.
URL:https://northloop.org/event/drg-food-truck-wednesday/2021-07-21/
LOCATION:DRG\, 700 Washington Avenue\, Minneapolis\, MN\, 55401\, United States
CATEGORIES:Featured,Food & Drink
ATTACH;FMTTYPE=image/jpeg:https://northloop.org/wp-content/uploads/2021/06/Food-Truck-Wednesday-21.jpg
GEO:44.9878539;-93.2767449
X-APPLE-STRUCTURED-LOCATION;VALUE=URI;X-ADDRESS=DRG 700 Washington Avenue Minneapolis MN 55401 United States;X-APPLE-RADIUS=500;X-TITLE=700 Washington Avenue:geo:-93.2767449,44.9878539
END:VEVENT
BEGIN:VEVENT
DTSTART;TZID=America/Chicago:20210714T110000
DTEND;TZID=America/Chicago:20210714T130000
DTSTAMP:20260424T110834
CREATED:20210603T195034Z
LAST-MODIFIED:20210603T200339Z
UID:10015318-1626260400-1626267600@northloop.org
SUMMARY:DRG Food Truck Wednesday
DESCRIPTION:We’re so excited to announce that Food Truck Wednesday is back! Join us each Wednesday outside of the DRG office as we feature a different local food truck.\n\nFeatured Food Trucks include:\nIt’s 7am Somewhere\nNorthbound Smokehouse\nPharaoh’s Gyros\nSandy’s Grill & Italian Ice\nMarket BBQ\nThe Anchor Fish & Chips\nThe trucks will also be passing out DRG punch cards. Use the punch card each time to stop by and your 10th meal this summer is on us!\nFood Truck Wednesday will run from June 2nd – September 29th.
URL:https://northloop.org/event/drg-food-truck-wednesday/2021-07-14/
LOCATION:DRG\, 700 Washington Avenue\, Minneapolis\, MN\, 55401\, United States
CATEGORIES:Featured,Food & Drink
ATTACH;FMTTYPE=image/jpeg:https://northloop.org/wp-content/uploads/2021/06/Food-Truck-Wednesday-21.jpg
GEO:44.9878539;-93.2767449
X-APPLE-STRUCTURED-LOCATION;VALUE=URI;X-ADDRESS=DRG 700 Washington Avenue Minneapolis MN 55401 United States;X-APPLE-RADIUS=500;X-TITLE=700 Washington Avenue:geo:-93.2767449,44.9878539
END:VEVENT
BEGIN:VEVENT
DTSTART;TZID=America/Chicago:20210707T110000
DTEND;TZID=America/Chicago:20210707T130000
DTSTAMP:20260424T110834
CREATED:20210603T195034Z
LAST-MODIFIED:20210706T170244Z
UID:10016129-1625655600-1625662800@northloop.org
SUMMARY:DRG Food Truck Wednesday
DESCRIPTION:We’re so excited to announce that Food Truck Wednesday is back! Join us each Wednesday outside of the DRG office as we feature a different local food truck.\n\nFeatured Food Trucks include:\nIt’s 7am Somewhere\nNorthbound Smokehouse\nPharaoh’s Gyros\nSandy’s Grill & Italian Ice\nMarket BBQ\nThe Anchor Fish & Chips\nThe trucks will also be passing out DRG punch cards. Use the punch card each time to stop by and your 10th meal this summer is on us!\nFood Truck Wednesday will run from June 2nd – September 29th.
URL:https://northloop.org/event/drg-food-truck-wednesday-2021-07-07/
LOCATION:DRG\, 700 Washington Avenue\, Minneapolis\, MN\, 55401\, United States
CATEGORIES:Food & Drink
ATTACH;FMTTYPE=image/jpeg:https://northloop.org/wp-content/uploads/2021/06/Food-Truck-Wednesday-21.jpg
GEO:44.9878539;-93.2767449
X-APPLE-STRUCTURED-LOCATION;VALUE=URI;X-ADDRESS=DRG 700 Washington Avenue Minneapolis MN 55401 United States;X-APPLE-RADIUS=500;X-TITLE=700 Washington Avenue:geo:-93.2767449,44.9878539
END:VEVENT
BEGIN:VEVENT
DTSTART;TZID=America/Chicago:20210630T110000
DTEND;TZID=America/Chicago:20210630T130000
DTSTAMP:20260424T110834
CREATED:20210603T195034Z
LAST-MODIFIED:20210603T200339Z
UID:10015317-1625050800-1625058000@northloop.org
SUMMARY:DRG Food Truck Wednesday
DESCRIPTION:We’re so excited to announce that Food Truck Wednesday is back! Join us each Wednesday outside of the DRG office as we feature a different local food truck.\n\nFeatured Food Trucks include:\nIt’s 7am Somewhere\nNorthbound Smokehouse\nPharaoh’s Gyros\nSandy’s Grill & Italian Ice\nMarket BBQ\nThe Anchor Fish & Chips\nThe trucks will also be passing out DRG punch cards. Use the punch card each time to stop by and your 10th meal this summer is on us!\nFood Truck Wednesday will run from June 2nd – September 29th.
URL:https://northloop.org/event/drg-food-truck-wednesday/2021-06-30/
LOCATION:DRG\, 700 Washington Avenue\, Minneapolis\, MN\, 55401\, United States
CATEGORIES:Featured,Food & Drink
ATTACH;FMTTYPE=image/jpeg:https://northloop.org/wp-content/uploads/2021/06/Food-Truck-Wednesday-21.jpg
GEO:44.9878539;-93.2767449
X-APPLE-STRUCTURED-LOCATION;VALUE=URI;X-ADDRESS=DRG 700 Washington Avenue Minneapolis MN 55401 United States;X-APPLE-RADIUS=500;X-TITLE=700 Washington Avenue:geo:-93.2767449,44.9878539
END:VEVENT
BEGIN:VEVENT
DTSTART;TZID=America/Chicago:20210623T110000
DTEND;TZID=America/Chicago:20210623T130000
DTSTAMP:20260424T110834
CREATED:20210603T195034Z
LAST-MODIFIED:20210603T200339Z
UID:10015316-1624446000-1624453200@northloop.org
SUMMARY:DRG Food Truck Wednesday
DESCRIPTION:We’re so excited to announce that Food Truck Wednesday is back! Join us each Wednesday outside of the DRG office as we feature a different local food truck.\n\nFeatured Food Trucks include:\nIt’s 7am Somewhere\nNorthbound Smokehouse\nPharaoh’s Gyros\nSandy’s Grill & Italian Ice\nMarket BBQ\nThe Anchor Fish & Chips\nThe trucks will also be passing out DRG punch cards. Use the punch card each time to stop by and your 10th meal this summer is on us!\nFood Truck Wednesday will run from June 2nd – September 29th.
URL:https://northloop.org/event/drg-food-truck-wednesday/2021-06-23/
LOCATION:DRG\, 700 Washington Avenue\, Minneapolis\, MN\, 55401\, United States
CATEGORIES:Featured,Food & Drink
ATTACH;FMTTYPE=image/jpeg:https://northloop.org/wp-content/uploads/2021/06/Food-Truck-Wednesday-21.jpg
GEO:44.9878539;-93.2767449
X-APPLE-STRUCTURED-LOCATION;VALUE=URI;X-ADDRESS=DRG 700 Washington Avenue Minneapolis MN 55401 United States;X-APPLE-RADIUS=500;X-TITLE=700 Washington Avenue:geo:-93.2767449,44.9878539
END:VEVENT
BEGIN:VEVENT
DTSTART;TZID=America/Chicago:20210616T110000
DTEND;TZID=America/Chicago:20210616T130000
DTSTAMP:20260424T110834
CREATED:20210603T195034Z
LAST-MODIFIED:20210603T200339Z
UID:10015315-1623841200-1623848400@northloop.org
SUMMARY:DRG Food Truck Wednesday
DESCRIPTION:We’re so excited to announce that Food Truck Wednesday is back! Join us each Wednesday outside of the DRG office as we feature a different local food truck.\n\nFeatured Food Trucks include:\nIt’s 7am Somewhere\nNorthbound Smokehouse\nPharaoh’s Gyros\nSandy’s Grill & Italian Ice\nMarket BBQ\nThe Anchor Fish & Chips\nThe trucks will also be passing out DRG punch cards. Use the punch card each time to stop by and your 10th meal this summer is on us!\nFood Truck Wednesday will run from June 2nd – September 29th.
URL:https://northloop.org/event/drg-food-truck-wednesday/2021-06-16/
LOCATION:DRG\, 700 Washington Avenue\, Minneapolis\, MN\, 55401\, United States
CATEGORIES:Featured,Food & Drink
ATTACH;FMTTYPE=image/jpeg:https://northloop.org/wp-content/uploads/2021/06/Food-Truck-Wednesday-21.jpg
GEO:44.9878539;-93.2767449
X-APPLE-STRUCTURED-LOCATION;VALUE=URI;X-ADDRESS=DRG 700 Washington Avenue Minneapolis MN 55401 United States;X-APPLE-RADIUS=500;X-TITLE=700 Washington Avenue:geo:-93.2767449,44.9878539
END:VEVENT
BEGIN:VEVENT
DTSTART;TZID=America/Chicago:20210609T110000
DTEND;TZID=America/Chicago:20210609T130000
DTSTAMP:20260424T110834
CREATED:20210603T195034Z
LAST-MODIFIED:20210603T200339Z
UID:10015314-1623236400-1623243600@northloop.org
SUMMARY:DRG Food Truck Wednesday
DESCRIPTION:We’re so excited to announce that Food Truck Wednesday is back! Join us each Wednesday outside of the DRG office as we feature a different local food truck.\n\nFeatured Food Trucks include:\nIt’s 7am Somewhere\nNorthbound Smokehouse\nPharaoh’s Gyros\nSandy’s Grill & Italian Ice\nMarket BBQ\nThe Anchor Fish & Chips\nThe trucks will also be passing out DRG punch cards. Use the punch card each time to stop by and your 10th meal this summer is on us!\nFood Truck Wednesday will run from June 2nd – September 29th.
URL:https://northloop.org/event/drg-food-truck-wednesday/2021-06-09/
LOCATION:DRG\, 700 Washington Avenue\, Minneapolis\, MN\, 55401\, United States
CATEGORIES:Featured,Food & Drink
ATTACH;FMTTYPE=image/jpeg:https://northloop.org/wp-content/uploads/2021/06/Food-Truck-Wednesday-21.jpg
GEO:44.9878539;-93.2767449
X-APPLE-STRUCTURED-LOCATION;VALUE=URI;X-ADDRESS=DRG 700 Washington Avenue Minneapolis MN 55401 United States;X-APPLE-RADIUS=500;X-TITLE=700 Washington Avenue:geo:-93.2767449,44.9878539
END:VEVENT
END:VCALENDAR