BEGIN:VCALENDAR
VERSION:2.0
PRODID:-//North Loop Neighborhood Association - ECPv6.15.19//NONSGML v1.0//EN
CALSCALE:GREGORIAN
METHOD:PUBLISH
X-ORIGINAL-URL:https://northloop.org
X-WR-CALDESC:Events for North Loop Neighborhood Association
REFRESH-INTERVAL;VALUE=DURATION:PT1H
X-Robots-Tag:noindex
X-PUBLISHED-TTL:PT1H
BEGIN:VTIMEZONE
TZID:America/Chicago
BEGIN:DAYLIGHT
TZOFFSETFROM:-0600
TZOFFSETTO:-0500
TZNAME:CDT
DTSTART:20150308T080000
END:DAYLIGHT
BEGIN:STANDARD
TZOFFSETFROM:-0500
TZOFFSETTO:-0600
TZNAME:CST
DTSTART:20151101T070000
END:STANDARD
BEGIN:DAYLIGHT
TZOFFSETFROM:-0600
TZOFFSETTO:-0500
TZNAME:CDT
DTSTART:20160313T080000
END:DAYLIGHT
BEGIN:STANDARD
TZOFFSETFROM:-0500
TZOFFSETTO:-0600
TZNAME:CST
DTSTART:20161106T070000
END:STANDARD
BEGIN:DAYLIGHT
TZOFFSETFROM:-0600
TZOFFSETTO:-0500
TZNAME:CDT
DTSTART:20170312T080000
END:DAYLIGHT
BEGIN:STANDARD
TZOFFSETFROM:-0500
TZOFFSETTO:-0600
TZNAME:CST
DTSTART:20171105T070000
END:STANDARD
BEGIN:DAYLIGHT
TZOFFSETFROM:-0600
TZOFFSETTO:-0500
TZNAME:CDT
DTSTART:20180311T080000
END:DAYLIGHT
BEGIN:STANDARD
TZOFFSETFROM:-0500
TZOFFSETTO:-0600
TZNAME:CST
DTSTART:20181104T070000
END:STANDARD
END:VTIMEZONE
BEGIN:VEVENT
DTSTART;TZID=America/Chicago:20170513T100000
DTEND;TZID=America/Chicago:20170513T110000
DTSTAMP:20260419T080809
CREATED:20170508T120329Z
LAST-MODIFIED:20170508T120329Z
UID:10008690-1494669600-1494673200@northloop.org
SUMMARY:Family Biking Skills
DESCRIPTION:
URL:https://northloop.org/event/family-biking-skills/
LOCATION:Gold Medal Park\, 2nd Street & 11th Ave S\, Minneapolis\, MN\, 55415\, United States
CATEGORIES:Family,Featured,Kids,Local,Outdoor,Safety
ATTACH;FMTTYPE=image/jpeg:https://northloop.org/wp-content/uploads/2017/05/May2017bikeevent1.jpg
GEO:44.976385;-93.2523316
X-APPLE-STRUCTURED-LOCATION;VALUE=URI;X-ADDRESS=Gold Medal Park 2nd Street & 11th Ave S Minneapolis MN 55415 United States;X-APPLE-RADIUS=500;X-TITLE=2nd Street & 11th Ave S:geo:-93.2523316,44.976385
END:VEVENT
BEGIN:VEVENT
DTSTART;TZID=America/Chicago:20160821T090000
DTEND;TZID=America/Chicago:20160821T230000
DTSTAMP:20260419T080809
CREATED:20160816T143840Z
LAST-MODIFIED:20160816T143840Z
UID:10011541-1471770000-1471820400@northloop.org
SUMMARY:Downtown Families Minneapolis - Fun at Gold Medal Park
DESCRIPTION:Summer is slipping away! \nEnjoy the remaining days of summer with other downtown families and children this Sunday\, August 21st at 9am. Take in a deep breath of fresh air or a good laugh with your neighbor as you and your children kick around a soccer ball\, toss the frisbee\, launch a stomp rocket\, blow bubbles and more! We’ll have plenty of activities to keep your children (and your inner child) entertained. Plus we’ll have snacks and juice boxes for the kids.
URL:https://northloop.org/event/downtown-families-minneapolis-fun-gold-medal-park/
LOCATION:Gold Medal Park\, 2nd Street & 11th Ave S\, Minneapolis\, MN\, 55415\, United States
CATEGORIES:Family,Featured,Kids,Local,Outdoor
ATTACH;FMTTYPE=image/jpeg:https://northloop.org/wp-content/uploads/2016/08/DT_1092780640812950_244370158156682987_n.jpg
GEO:44.976385;-93.2523316
X-APPLE-STRUCTURED-LOCATION;VALUE=URI;X-ADDRESS=Gold Medal Park 2nd Street & 11th Ave S Minneapolis MN 55415 United States;X-APPLE-RADIUS=500;X-TITLE=2nd Street & 11th Ave S:geo:-93.2523316,44.976385
END:VEVENT
BEGIN:VEVENT
DTSTART;TZID=America/Chicago:20160515T103000
DTEND;TZID=America/Chicago:20160515T120000
DTSTAMP:20260419T080809
CREATED:20160510T183046Z
LAST-MODIFIED:20160510T183046Z
UID:10008419-1463308200-1463313600@northloop.org
SUMMARY:Kids Soccer at Gold Medal Park
DESCRIPTION:Is your daughter or son interested in soccer but you don’t want to commit to a soccer league? \nDo you want to meet other families living downtown? \nCome on out for our first soccer event! \nThis free event is open to kids of all ages and skill levels. We will have soccer balls and food & drinks for the children.  Parents will be onsite to coach kids who are interested.  The event will be very informal; feel free to come and go as you please. \nWe hope to see you there!
URL:https://northloop.org/event/kids-soccer-gold-medal-park/
LOCATION:Gold Medal Park\, 2nd Street & 11th Ave S\, Minneapolis\, MN\, 55415\, United States
CATEGORIES:Kids,Local,Outdoor,Sports
GEO:44.976385;-93.2523316
X-APPLE-STRUCTURED-LOCATION;VALUE=URI;X-ADDRESS=Gold Medal Park 2nd Street & 11th Ave S Minneapolis MN 55415 United States;X-APPLE-RADIUS=500;X-TITLE=2nd Street & 11th Ave S:geo:-93.2523316,44.976385
END:VEVENT
END:VCALENDAR