BEGIN:VCALENDAR
VERSION:2.0
PRODID:-//North Loop Neighborhood Association - ECPv6.15.19//NONSGML v1.0//EN
CALSCALE:GREGORIAN
METHOD:PUBLISH
X-WR-CALNAME:North Loop Neighborhood Association
X-ORIGINAL-URL:https://northloop.org
X-WR-CALDESC:Events for North Loop Neighborhood Association
REFRESH-INTERVAL;VALUE=DURATION:PT1H
X-Robots-Tag:noindex
X-PUBLISHED-TTL:PT1H
BEGIN:VTIMEZONE
TZID:America/Chicago
BEGIN:DAYLIGHT
TZOFFSETFROM:-0600
TZOFFSETTO:-0500
TZNAME:CDT
DTSTART:20250309T080000
END:DAYLIGHT
BEGIN:STANDARD
TZOFFSETFROM:-0500
TZOFFSETTO:-0600
TZNAME:CST
DTSTART:20251102T070000
END:STANDARD
BEGIN:DAYLIGHT
TZOFFSETFROM:-0600
TZOFFSETTO:-0500
TZNAME:CDT
DTSTART:20260308T080000
END:DAYLIGHT
BEGIN:STANDARD
TZOFFSETFROM:-0500
TZOFFSETTO:-0600
TZNAME:CST
DTSTART:20261101T070000
END:STANDARD
BEGIN:DAYLIGHT
TZOFFSETFROM:-0600
TZOFFSETTO:-0500
TZNAME:CDT
DTSTART:20270314T080000
END:DAYLIGHT
BEGIN:STANDARD
TZOFFSETFROM:-0500
TZOFFSETTO:-0600
TZNAME:CST
DTSTART:20271107T070000
END:STANDARD
END:VTIMEZONE
BEGIN:VEVENT
DTSTART;TZID=America/Chicago:20260527T180000
DTEND;TZID=America/Chicago:20260527T200000
DTSTAMP:20260421T095734
CREATED:20260122T212609Z
LAST-MODIFIED:20260122T212609Z
UID:10020016-1779904800-1779912000@northloop.org
SUMMARY:NLNA Board Meeting
DESCRIPTION:Itasca Event Gallery\n706 N 1st Street\n6 – 8 pm\, last Wednesday of the month (excluding December) \nThe public is welcome to attend and participate in the board’s monthly meetings. Only seated Directors are allowed to vote at board meetings. Input from the neighborhood can be received at the discretion of the board. \nZoom link here. \nMeeting ID: 848 0351 9579 \nPasscode: 186357 \nOur many thanks to the Itasca Event Gallery for providing this meeting space to NLNA for our monthly board and committee meetings. \n 
URL:https://northloop.org/event/nlna-board-meeting-8/
LOCATION:Itasca Event Gallery\, 706 N 1st Street\, Minneapolis\, MN\, 55401\, United States
CATEGORIES:Featured,NLNA
ATTACH;FMTTYPE=image/jpeg:https://northloop.org/wp-content/uploads/2020/09/Donations_Featured-General-NLNA-Support-The-Historic-North-Loop-Neighborhood.jpg
GEO:44.9871804;-93.2720279
X-APPLE-STRUCTURED-LOCATION;VALUE=URI;X-ADDRESS=Itasca Event Gallery 706 N 1st Street Minneapolis MN 55401 United States;X-APPLE-RADIUS=500;X-TITLE=706 N 1st Street:geo:-93.2720279,44.9871804
END:VEVENT
BEGIN:VEVENT
DTSTART;TZID=America/Chicago:20260610T180000
DTEND;TZID=America/Chicago:20260610T193000
DTSTAMP:20260421T095734
CREATED:20260122T211922Z
LAST-MODIFIED:20260317T185420Z
UID:10020009-1781114400-1781119800@northloop.org
SUMMARY:Parks+Public Art Committee Meeting
DESCRIPTION:The Parks+Public Art Committee (P+PA) is dedicated to the planning\, design\, development and care of North Loop public spaces. Through a community-centered approach\, the committee works closely with city and local partners to connect the North Loop neighborhood residents and businesses to current and upcoming public space developments through discussion\, engagement\, and volunteerism. All meetings are open to the public. \nMeetings are held from 6-7:30pm on the 2nd Wednesday of the month at Itasca Event Gallery. \nZoom link here. \n\nMeeting ID: 863 2467 6335\nPasscode: 655865
URL:https://northloop.org/event/parkspublic-art-committee-meeting-5/
LOCATION:Itasca Event Gallery\, 706 N 1st Street\, Minneapolis\, MN\, 55401\, United States
CATEGORIES:Environment,Featured,NLNA
ATTACH;FMTTYPE=image/jpeg:https://northloop.org/wp-content/uploads/2021/10/IMG_4990-1-scaled.jpg
GEO:44.9871804;-93.2720279
X-APPLE-STRUCTURED-LOCATION;VALUE=URI;X-ADDRESS=Itasca Event Gallery 706 N 1st Street Minneapolis MN 55401 United States;X-APPLE-RADIUS=500;X-TITLE=706 N 1st Street:geo:-93.2720279,44.9871804
END:VEVENT
BEGIN:VEVENT
DTSTART;TZID=America/Chicago:20260617T180000
DTEND;TZID=America/Chicago:20260617T193000
DTSTAMP:20260421T095734
CREATED:20260317T204344Z
LAST-MODIFIED:20260317T204344Z
UID:10020060-1781719200-1781724600@northloop.org
SUMMARY:Planning+Zoning Committee Meeting
DESCRIPTION:Itasca Event Gallery\n706 N 1st Street\n6:00 – 7:30 pm \nMeetings are held on the second to the last Wednesday of the month. \n\nZoom link here.\nMeeting ID: 864 8584 4004\nPasscode: 011109\n\nThe Planning+Zoning Committee supports the overall mission of the North Loop Neighborhood Association to promote a climate of safety\, livability and improvement through public neighborhood meetings\, communication and advocacy with the relevant municipal and county organizations. \nGet information about the NLNA Planning+Zoning Committee\, including committee charter\, members\, meeting agendas\, minutes and much more. \nAll meetings of the board and committees are open to the public. Only committee members are allowed to vote. Input from the neighborhood can be received at the discretion of the board. \nOur many thanks to the Itasca Event Gallery for providing this meeting space to NLNA for our monthly Planning+Zoning meetings.
URL:https://northloop.org/event/planningzoning-committee-meeting-7/
LOCATION:Itasca Event Gallery\, 706 N 1st Street\, Minneapolis\, MN\, 55401\, United States
CATEGORIES:Featured,NLNA
ATTACH;FMTTYPE=image/jpeg:https://northloop.org/wp-content/uploads/2015/12/NLNJoeGrunnet1.jpeg
GEO:44.9871804;-93.2720279
X-APPLE-STRUCTURED-LOCATION;VALUE=URI;X-ADDRESS=Itasca Event Gallery 706 N 1st Street Minneapolis MN 55401 United States;X-APPLE-RADIUS=500;X-TITLE=706 N 1st Street:geo:-93.2720279,44.9871804
END:VEVENT
BEGIN:VEVENT
DTSTART;TZID=America/Chicago:20260624T180000
DTEND;TZID=America/Chicago:20260624T200000
DTSTAMP:20260421T095734
CREATED:20260122T212641Z
LAST-MODIFIED:20260122T212641Z
UID:10020017-1782324000-1782331200@northloop.org
SUMMARY:NLNA Board Meeting
DESCRIPTION:Itasca Event Gallery\n706 N 1st Street\n6 – 8 pm\, last Wednesday of the month (excluding December) \nThe public is welcome to attend and participate in the board’s monthly meetings. Only seated Directors are allowed to vote at board meetings. Input from the neighborhood can be received at the discretion of the board. \nZoom link here. \nMeeting ID: 848 0351 9579 \nPasscode: 186357 \nOur many thanks to the Itasca Event Gallery for providing this meeting space to NLNA for our monthly board and committee meetings. \n 
URL:https://northloop.org/event/nlna-board-meeting-9/
LOCATION:Itasca Event Gallery\, 706 N 1st Street\, Minneapolis\, MN\, 55401\, United States
CATEGORIES:Featured,NLNA
ATTACH;FMTTYPE=image/jpeg:https://northloop.org/wp-content/uploads/2020/09/Donations_Featured-General-NLNA-Support-The-Historic-North-Loop-Neighborhood.jpg
GEO:44.9871804;-93.2720279
X-APPLE-STRUCTURED-LOCATION;VALUE=URI;X-ADDRESS=Itasca Event Gallery 706 N 1st Street Minneapolis MN 55401 United States;X-APPLE-RADIUS=500;X-TITLE=706 N 1st Street:geo:-93.2720279,44.9871804
END:VEVENT
BEGIN:VEVENT
DTSTART;TZID=America/Chicago:20260708T180000
DTEND;TZID=America/Chicago:20260708T193000
DTSTAMP:20260421T095734
CREATED:20260122T211951Z
LAST-MODIFIED:20260122T211951Z
UID:10020010-1783533600-1783539000@northloop.org
SUMMARY:Parks+Public Art Committee Meeting
DESCRIPTION:The Parks+Public Art Committee (P+PA) is dedicated to the planning\, design\, development and care of North Loop public spaces. Through a community-centered approach\, the committee works closely with city and local partners to connect the North Loop neighborhood residents and businesses to current and upcoming public space developments through discussion\, engagement\, and volunteerism. All meetings are open to the public. \nMeetings are held from 6-7:30pm on the 2nd Wednesday of the month at Itasca Event Gallery. \n 
URL:https://northloop.org/event/parkspublic-art-committee-meeting-6/
LOCATION:Itasca Event Gallery\, 706 N 1st Street\, Minneapolis\, MN\, 55401\, United States
CATEGORIES:Environment,Featured,NLNA
ATTACH;FMTTYPE=image/jpeg:https://northloop.org/wp-content/uploads/2021/10/IMG_4990-1-scaled.jpg
GEO:44.9871804;-93.2720279
X-APPLE-STRUCTURED-LOCATION;VALUE=URI;X-ADDRESS=Itasca Event Gallery 706 N 1st Street Minneapolis MN 55401 United States;X-APPLE-RADIUS=500;X-TITLE=706 N 1st Street:geo:-93.2720279,44.9871804
END:VEVENT
BEGIN:VEVENT
DTSTART;TZID=America/Chicago:20260722T180000
DTEND;TZID=America/Chicago:20260722T193000
DTSTAMP:20260421T095734
CREATED:20260317T222354Z
LAST-MODIFIED:20260317T222354Z
UID:10020061-1784743200-1784748600@northloop.org
SUMMARY:Planning+Zoning Committee Meeting
DESCRIPTION:Itasca Event Gallery\n706 N 1st Street\n6:00 – 7:30 pm \nMeetings are held on the second to the last Wednesday of the month. \nThe Planning+Zoning Committee supports the overall mission of the North Loop Neighborhood Association to promote a climate of safety\, livability and improvement through public neighborhood meetings\, communication and advocacy with the relevant municipal and county organizations. \nGet information about the NLNA Planning+Zoning Committee\, including committee charter\, members\, meeting agendas\, minutes and much more. \nAll meetings of the board and committees are open to the public. Only committee members are allowed to vote. Input from the neighborhood can be received at the discretion of the board. \nOur many thanks to the Itasca Event Gallery for providing this meeting space to NLNA for our monthly Planning+Zoning meetings.
URL:https://northloop.org/event/planningzoning-committee-meeting-8/
LOCATION:Itasca Event Gallery\, 706 N 1st Street\, Minneapolis\, MN\, 55401\, United States
CATEGORIES:Featured,NLNA
ATTACH;FMTTYPE=image/jpeg:https://northloop.org/wp-content/uploads/2015/12/NLNJoeGrunnet1.jpeg
GEO:44.9871804;-93.2720279
X-APPLE-STRUCTURED-LOCATION;VALUE=URI;X-ADDRESS=Itasca Event Gallery 706 N 1st Street Minneapolis MN 55401 United States;X-APPLE-RADIUS=500;X-TITLE=706 N 1st Street:geo:-93.2720279,44.9871804
END:VEVENT
BEGIN:VEVENT
DTSTART;TZID=America/Chicago:20260729T180000
DTEND;TZID=America/Chicago:20260729T200000
DTSTAMP:20260421T095734
CREATED:20260122T213348Z
LAST-MODIFIED:20260122T213348Z
UID:10020020-1785348000-1785355200@northloop.org
SUMMARY:NLNA Board Meeting
DESCRIPTION:Itasca Event Gallery\n706 N 1st Street\n6 – 8 pm\, last Wednesday of the month (excluding December) \nThe public is welcome to attend and participate in the board’s monthly meetings. Only seated Directors are allowed to vote at board meetings. Input from the neighborhood can be received at the discretion of the board. \nZoom link here. \nMeeting ID: 848 0351 9579 \nPasscode: 186357 \nOur many thanks to the Itasca Event Gallery for providing this meeting space to NLNA for our monthly board and committee meetings. \n 
URL:https://northloop.org/event/nlna-board-meeting-10/
LOCATION:Itasca Event Gallery\, 706 N 1st Street\, Minneapolis\, MN\, 55401\, United States
CATEGORIES:Featured,NLNA
ATTACH;FMTTYPE=image/jpeg:https://northloop.org/wp-content/uploads/2020/09/Donations_Featured-General-NLNA-Support-The-Historic-North-Loop-Neighborhood.jpg
GEO:44.9871804;-93.2720279
X-APPLE-STRUCTURED-LOCATION;VALUE=URI;X-ADDRESS=Itasca Event Gallery 706 N 1st Street Minneapolis MN 55401 United States;X-APPLE-RADIUS=500;X-TITLE=706 N 1st Street:geo:-93.2720279,44.9871804
END:VEVENT
BEGIN:VEVENT
DTSTART;TZID=America/Chicago:20260812T180000
DTEND;TZID=America/Chicago:20260812T193000
DTSTAMP:20260421T095734
CREATED:20260122T212020Z
LAST-MODIFIED:20260122T212020Z
UID:10020011-1786557600-1786563000@northloop.org
SUMMARY:Parks+Public Art Committee Meeting
DESCRIPTION:The Parks+Public Art Committee (P+PA) is dedicated to the planning\, design\, development and care of North Loop public spaces. Through a community-centered approach\, the committee works closely with city and local partners to connect the North Loop neighborhood residents and businesses to current and upcoming public space developments through discussion\, engagement\, and volunteerism. All meetings are open to the public. \nMeetings are held from 6-7:30pm on the 2nd Wednesday of the month at Itasca Event Gallery. \n 
URL:https://northloop.org/event/parkspublic-art-committee-meeting-7/
LOCATION:Itasca Event Gallery\, 706 N 1st Street\, Minneapolis\, MN\, 55401\, United States
CATEGORIES:Environment,Featured,NLNA
ATTACH;FMTTYPE=image/jpeg:https://northloop.org/wp-content/uploads/2021/10/IMG_4990-1-scaled.jpg
GEO:44.9871804;-93.2720279
X-APPLE-STRUCTURED-LOCATION;VALUE=URI;X-ADDRESS=Itasca Event Gallery 706 N 1st Street Minneapolis MN 55401 United States;X-APPLE-RADIUS=500;X-TITLE=706 N 1st Street:geo:-93.2720279,44.9871804
END:VEVENT
BEGIN:VEVENT
DTSTART;TZID=America/Chicago:20260819T180000
DTEND;TZID=America/Chicago:20260819T193000
DTSTAMP:20260421T095734
CREATED:20260317T222417Z
LAST-MODIFIED:20260317T222417Z
UID:10020062-1787162400-1787167800@northloop.org
SUMMARY:Planning+Zoning Committee Meeting
DESCRIPTION:Itasca Event Gallery\n706 N 1st Street\n6:00 – 7:30 pm \nMeetings are held on the second to the last Wednesday of the month. \nThe Planning+Zoning Committee supports the overall mission of the North Loop Neighborhood Association to promote a climate of safety\, livability and improvement through public neighborhood meetings\, communication and advocacy with the relevant municipal and county organizations. \nGet information about the NLNA Planning+Zoning Committee\, including committee charter\, members\, meeting agendas\, minutes and much more. \nAll meetings of the board and committees are open to the public. Only committee members are allowed to vote. Input from the neighborhood can be received at the discretion of the board. \nOur many thanks to the Itasca Event Gallery for providing this meeting space to NLNA for our monthly Planning+Zoning meetings.
URL:https://northloop.org/event/planningzoning-committee-meeting-9/
LOCATION:Itasca Event Gallery\, 706 N 1st Street\, Minneapolis\, MN\, 55401\, United States
CATEGORIES:Featured,NLNA
ATTACH;FMTTYPE=image/jpeg:https://northloop.org/wp-content/uploads/2015/12/NLNJoeGrunnet1.jpeg
GEO:44.9871804;-93.2720279
X-APPLE-STRUCTURED-LOCATION;VALUE=URI;X-ADDRESS=Itasca Event Gallery 706 N 1st Street Minneapolis MN 55401 United States;X-APPLE-RADIUS=500;X-TITLE=706 N 1st Street:geo:-93.2720279,44.9871804
END:VEVENT
BEGIN:VEVENT
DTSTART;TZID=America/Chicago:20260826T180000
DTEND;TZID=America/Chicago:20260826T200000
DTSTAMP:20260421T095734
CREATED:20260122T213842Z
LAST-MODIFIED:20260122T213842Z
UID:10020022-1787767200-1787774400@northloop.org
SUMMARY:NLNA Board Meeting
DESCRIPTION:Itasca Event Gallery\n706 N 1st Street\n6 – 8 pm\, last Wednesday of the month (excluding December) \nThe public is welcome to attend and participate in the board’s monthly meetings. Only seated Directors are allowed to vote at board meetings. Input from the neighborhood can be received at the discretion of the board. \nZoom link here. \nMeeting ID: 848 0351 9579 \nPasscode: 186357 \nOur many thanks to the Itasca Event Gallery for providing this meeting space to NLNA for our monthly board and committee meetings. \n 
URL:https://northloop.org/event/nlna-board-meeting-11/
LOCATION:Itasca Event Gallery\, 706 N 1st Street\, Minneapolis\, MN\, 55401\, United States
CATEGORIES:Featured,NLNA
ATTACH;FMTTYPE=image/jpeg:https://northloop.org/wp-content/uploads/2020/09/Donations_Featured-General-NLNA-Support-The-Historic-North-Loop-Neighborhood.jpg
GEO:44.9871804;-93.2720279
X-APPLE-STRUCTURED-LOCATION;VALUE=URI;X-ADDRESS=Itasca Event Gallery 706 N 1st Street Minneapolis MN 55401 United States;X-APPLE-RADIUS=500;X-TITLE=706 N 1st Street:geo:-93.2720279,44.9871804
END:VEVENT
BEGIN:VEVENT
DTSTART;TZID=America/Chicago:20260909T180000
DTEND;TZID=America/Chicago:20260909T193000
DTSTAMP:20260421T095734
CREATED:20260122T212047Z
LAST-MODIFIED:20260122T212047Z
UID:10020012-1788976800-1788982200@northloop.org
SUMMARY:Parks+Public Art Committee Meeting
DESCRIPTION:The Parks+Public Art Committee (P+PA) is dedicated to the planning\, design\, development and care of North Loop public spaces. Through a community-centered approach\, the committee works closely with city and local partners to connect the North Loop neighborhood residents and businesses to current and upcoming public space developments through discussion\, engagement\, and volunteerism. All meetings are open to the public. \nMeetings are held from 6-7:30pm on the 2nd Wednesday of the month at Itasca Event Gallery. \n 
URL:https://northloop.org/event/parkspublic-art-committee-meeting-8/
LOCATION:Itasca Event Gallery\, 706 N 1st Street\, Minneapolis\, MN\, 55401\, United States
CATEGORIES:Environment,Featured,NLNA
ATTACH;FMTTYPE=image/jpeg:https://northloop.org/wp-content/uploads/2021/10/IMG_4990-1-scaled.jpg
GEO:44.9871804;-93.2720279
X-APPLE-STRUCTURED-LOCATION;VALUE=URI;X-ADDRESS=Itasca Event Gallery 706 N 1st Street Minneapolis MN 55401 United States;X-APPLE-RADIUS=500;X-TITLE=706 N 1st Street:geo:-93.2720279,44.9871804
END:VEVENT
BEGIN:VEVENT
DTSTART;TZID=America/Chicago:20260930T180000
DTEND;TZID=America/Chicago:20260930T200000
DTSTAMP:20260421T095734
CREATED:20260317T185543Z
LAST-MODIFIED:20260317T185543Z
UID:10020052-1790791200-1790798400@northloop.org
SUMMARY:NLNA Board Meeting
DESCRIPTION:Itasca Event Gallery\n706 N 1st Street\n6 – 8 pm\, last Wednesday of the month (excluding December) \nThe public is welcome to attend and participate in the board’s monthly meetings. Only seated Directors are allowed to vote at board meetings. Input from the neighborhood can be received at the discretion of the board. \nZoom link here. \nMeeting ID: 848 0351 9579 \nPasscode: 186357 \nOur many thanks to the Itasca Event Gallery for providing this meeting space to NLNA for our monthly board and committee meetings. \n 
URL:https://northloop.org/event/nlna-board-meeting-14/
LOCATION:Itasca Event Gallery\, 706 N 1st Street\, Minneapolis\, MN\, 55401\, United States
CATEGORIES:Featured,NLNA
ATTACH;FMTTYPE=image/jpeg:https://northloop.org/wp-content/uploads/2020/09/Donations_Featured-General-NLNA-Support-The-Historic-North-Loop-Neighborhood.jpg
GEO:44.9871804;-93.2720279
X-APPLE-STRUCTURED-LOCATION;VALUE=URI;X-ADDRESS=Itasca Event Gallery 706 N 1st Street Minneapolis MN 55401 United States;X-APPLE-RADIUS=500;X-TITLE=706 N 1st Street:geo:-93.2720279,44.9871804
END:VEVENT
BEGIN:VEVENT
DTSTART;TZID=America/Chicago:20261014T180000
DTEND;TZID=America/Chicago:20261014T193000
DTSTAMP:20260421T095734
CREATED:20260122T212113Z
LAST-MODIFIED:20260122T212113Z
UID:10020013-1792000800-1792006200@northloop.org
SUMMARY:Parks+Public Art Committee Meeting
DESCRIPTION:The Parks+Public Art Committee (P+PA) is dedicated to the planning\, design\, development and care of North Loop public spaces. Through a community-centered approach\, the committee works closely with city and local partners to connect the North Loop neighborhood residents and businesses to current and upcoming public space developments through discussion\, engagement\, and volunteerism. All meetings are open to the public. \nMeetings are held from 6-7:30pm on the 2nd Wednesday of the month at Itasca Event Gallery. \n 
URL:https://northloop.org/event/parkspublic-art-committee-meeting-9/
LOCATION:Itasca Event Gallery\, 706 N 1st Street\, Minneapolis\, MN\, 55401\, United States
CATEGORIES:Environment,Featured,NLNA
ATTACH;FMTTYPE=image/jpeg:https://northloop.org/wp-content/uploads/2021/10/IMG_4990-1-scaled.jpg
GEO:44.9871804;-93.2720279
X-APPLE-STRUCTURED-LOCATION;VALUE=URI;X-ADDRESS=Itasca Event Gallery 706 N 1st Street Minneapolis MN 55401 United States;X-APPLE-RADIUS=500;X-TITLE=706 N 1st Street:geo:-93.2720279,44.9871804
END:VEVENT
BEGIN:VEVENT
DTSTART;TZID=America/Chicago:20261021T180000
DTEND;TZID=America/Chicago:20261021T193000
DTSTAMP:20260421T095734
CREATED:20260317T222450Z
LAST-MODIFIED:20260317T222518Z
UID:10020063-1792605600-1792611000@northloop.org
SUMMARY:Planning+Zoning Committee Meeting
DESCRIPTION:Itasca Event Gallery\n706 N 1st Street\n6:00 – 7:30 pm \nMeetings are held on the second to the last Wednesday of the month. \nThe Planning+Zoning Committee supports the overall mission of the North Loop Neighborhood Association to promote a climate of safety\, livability and improvement through public neighborhood meetings\, communication and advocacy with the relevant municipal and county organizations. \nGet information about the NLNA Planning+Zoning Committee\, including committee charter\, members\, meeting agendas\, minutes and much more. \nAll meetings of the board and committees are open to the public. Only committee members are allowed to vote. Input from the neighborhood can be received at the discretion of the board. \nOur many thanks to the Itasca Event Gallery for providing this meeting space to NLNA for our monthly Planning+Zoning meetings.
URL:https://northloop.org/event/planningzoning-committee-meeting-10/
LOCATION:Itasca Event Gallery\, 706 N 1st Street\, Minneapolis\, MN\, 55401\, United States
CATEGORIES:Featured,NLNA
ATTACH;FMTTYPE=image/jpeg:https://northloop.org/wp-content/uploads/2015/12/NLNJoeGrunnet1.jpeg
GEO:44.9871804;-93.2720279
X-APPLE-STRUCTURED-LOCATION;VALUE=URI;X-ADDRESS=Itasca Event Gallery 706 N 1st Street Minneapolis MN 55401 United States;X-APPLE-RADIUS=500;X-TITLE=706 N 1st Street:geo:-93.2720279,44.9871804
END:VEVENT
BEGIN:VEVENT
DTSTART;TZID=America/Chicago:20261028T180000
DTEND;TZID=America/Chicago:20261028T200000
DTSTAMP:20260421T095734
CREATED:20260122T213921Z
LAST-MODIFIED:20260122T214125Z
UID:10020023-1793210400-1793217600@northloop.org
SUMMARY:NLNA Board Meeting
DESCRIPTION:Itasca Event Gallery\n706 N 1st Street\n6 – 8 pm\, last Wednesday of the month (excluding December) \nThe public is welcome to attend and participate in the board’s monthly meetings. Only seated Directors are allowed to vote at board meetings. Input from the neighborhood can be received at the discretion of the board. \nZoom link here. \nMeeting ID: 848 0351 9579 \nPasscode: 186357 \nOur many thanks to the Itasca Event Gallery for providing this meeting space to NLNA for our monthly board and committee meetings. \n 
URL:https://northloop.org/event/nlna-board-meeting-12/
LOCATION:Itasca Event Gallery\, 706 N 1st Street\, Minneapolis\, MN\, 55401\, United States
CATEGORIES:Featured,NLNA
ATTACH;FMTTYPE=image/jpeg:https://northloop.org/wp-content/uploads/2020/09/Donations_Featured-General-NLNA-Support-The-Historic-North-Loop-Neighborhood.jpg
GEO:44.9871804;-93.2720279
X-APPLE-STRUCTURED-LOCATION;VALUE=URI;X-ADDRESS=Itasca Event Gallery 706 N 1st Street Minneapolis MN 55401 United States;X-APPLE-RADIUS=500;X-TITLE=706 N 1st Street:geo:-93.2720279,44.9871804
END:VEVENT
BEGIN:VEVENT
DTSTART;TZID=America/Chicago:20261118T180000
DTEND;TZID=America/Chicago:20261118T193000
DTSTAMP:20260421T095734
CREATED:20260317T222552Z
LAST-MODIFIED:20260317T222552Z
UID:10020064-1795024800-1795030200@northloop.org
SUMMARY:Planning+Zoning Committee Meeting
DESCRIPTION:Itasca Event Gallery\n706 N 1st Street\n6:00 – 7:30 pm \nMeetings are held on the second to the last Wednesday of the month. \nThe Planning+Zoning Committee supports the overall mission of the North Loop Neighborhood Association to promote a climate of safety\, livability and improvement through public neighborhood meetings\, communication and advocacy with the relevant municipal and county organizations. \nGet information about the NLNA Planning+Zoning Committee\, including committee charter\, members\, meeting agendas\, minutes and much more. \nAll meetings of the board and committees are open to the public. Only committee members are allowed to vote. Input from the neighborhood can be received at the discretion of the board. \nOur many thanks to the Itasca Event Gallery for providing this meeting space to NLNA for our monthly Planning+Zoning meetings.
URL:https://northloop.org/event/planningzoning-committee-meeting-11/
LOCATION:Itasca Event Gallery\, 706 N 1st Street\, Minneapolis\, MN\, 55401\, United States
CATEGORIES:Featured,NLNA
ATTACH;FMTTYPE=image/jpeg:https://northloop.org/wp-content/uploads/2015/12/NLNJoeGrunnet1.jpeg
GEO:44.9871804;-93.2720279
X-APPLE-STRUCTURED-LOCATION;VALUE=URI;X-ADDRESS=Itasca Event Gallery 706 N 1st Street Minneapolis MN 55401 United States;X-APPLE-RADIUS=500;X-TITLE=706 N 1st Street:geo:-93.2720279,44.9871804
END:VEVENT
BEGIN:VEVENT
DTSTART;TZID=America/Chicago:20261125T180000
DTEND;TZID=America/Chicago:20261125T200000
DTSTAMP:20260421T095734
CREATED:20260122T214148Z
LAST-MODIFIED:20260122T214148Z
UID:10020024-1795629600-1795636800@northloop.org
SUMMARY:NLNA Board Meeting
DESCRIPTION:Itasca Event Gallery\n706 N 1st Street\n6 – 8 pm\, last Wednesday of the month (excluding December) \nThe public is welcome to attend and participate in the board’s monthly meetings. Only seated Directors are allowed to vote at board meetings. Input from the neighborhood can be received at the discretion of the board. \nZoom link here. \nMeeting ID: 848 0351 9579 \nPasscode: 186357 \nOur many thanks to the Itasca Event Gallery for providing this meeting space to NLNA for our monthly board and committee meetings. \n 
URL:https://northloop.org/event/nlna-board-meeting-13/
LOCATION:Itasca Event Gallery\, 706 N 1st Street\, Minneapolis\, MN\, 55401\, United States
CATEGORIES:Featured,NLNA
ATTACH;FMTTYPE=image/jpeg:https://northloop.org/wp-content/uploads/2020/09/Donations_Featured-General-NLNA-Support-The-Historic-North-Loop-Neighborhood.jpg
GEO:44.9871804;-93.2720279
X-APPLE-STRUCTURED-LOCATION;VALUE=URI;X-ADDRESS=Itasca Event Gallery 706 N 1st Street Minneapolis MN 55401 United States;X-APPLE-RADIUS=500;X-TITLE=706 N 1st Street:geo:-93.2720279,44.9871804
END:VEVENT
END:VCALENDAR