BEGIN:VCALENDAR
VERSION:2.0
PRODID:-//North Loop Neighborhood Association - ECPv6.15.19//NONSGML v1.0//EN
CALSCALE:GREGORIAN
METHOD:PUBLISH
X-ORIGINAL-URL:https://northloop.org
X-WR-CALDESC:Events for North Loop Neighborhood Association
REFRESH-INTERVAL;VALUE=DURATION:PT1H
X-Robots-Tag:noindex
X-PUBLISHED-TTL:PT1H
BEGIN:VTIMEZONE
TZID:America/Chicago
BEGIN:DAYLIGHT
TZOFFSETFROM:-0600
TZOFFSETTO:-0500
TZNAME:CDT
DTSTART:20160313T080000
END:DAYLIGHT
BEGIN:STANDARD
TZOFFSETFROM:-0500
TZOFFSETTO:-0600
TZNAME:CST
DTSTART:20161106T070000
END:STANDARD
BEGIN:DAYLIGHT
TZOFFSETFROM:-0600
TZOFFSETTO:-0500
TZNAME:CDT
DTSTART:20170312T080000
END:DAYLIGHT
BEGIN:STANDARD
TZOFFSETFROM:-0500
TZOFFSETTO:-0600
TZNAME:CST
DTSTART:20171105T070000
END:STANDARD
BEGIN:DAYLIGHT
TZOFFSETFROM:-0600
TZOFFSETTO:-0500
TZNAME:CDT
DTSTART:20180311T080000
END:DAYLIGHT
BEGIN:STANDARD
TZOFFSETFROM:-0500
TZOFFSETTO:-0600
TZNAME:CST
DTSTART:20181104T070000
END:STANDARD
END:VTIMEZONE
BEGIN:VEVENT
DTSTART;TZID=America/Chicago:20170610T100000
DTEND;TZID=America/Chicago:20170610T180000
DTSTAMP:20260421T080819
CREATED:20170523T124051Z
LAST-MODIFIED:20170601T123514Z
UID:10011743-1497088800-1497117600@northloop.org
SUMMARY:Minneapolis Sculpture Garden Reopening
DESCRIPTION:Join us to celebrate the reopening of the Minneapolis Sculpture Garden with a daylong festival for all ages! Free guided tours\, food trucks\, DJs\, Blue Bunny Ice Cream\, and Walker giveaways will be offered throughout the day. \nEvent Highlights\nOfficial Ribbon-Cutting Ceremony\, 12 noon \nJoin the Walker and the Minneapolis Park & Recreation Board for the Minneapolis Sculpture Garden’s official opening. \nActivity: Extrapolation Factory\, 10 am–5 pm \nLearn about the natural habitats in the Garden and discover how you can help protect those spaces. Extrapolation Factory’s project creates an experimental habitat that will be deployed around the Walker campus. \nArt-Making: Mix Up\, 10 am–3 pm \nDesign a new image of the Minneapolis Sculpture Garden. Create a one-of-a-kind drawing with crayons by mixing and matching metal stencils with artist Carolyn Swiszsz. \nFree Gallery Admission: June 1–10 \nVisit the Walker between June 1 (from 5 pm) and 10 to enjoy free gallery admission. \nGarden \nFirst created through the vision of late Walker director emeritus Martin Friedman nearly 30 years ago as a partnership between the Walker Art Center and Minneapolis Park & Recreation Board\, the Minneapolis Sculpture Garden was among the first major public/private urban sculpture parks of its kind in the United States and has served as a model for such parks nationwide. The collaboration between Friedman and then Park Board Superintendent David Fisher produced a remarkable artistic\ndestination. Today the Sculpture Garden is one of the crown jewels of the award-winning Minneapolis park system\, uniting two of Minnesota’s most cherished resources—its parks and its cultural life—and home to the iconic Spoonbridge and Cherry by Claes Oldenburg and Coosje van Bruggen.
URL:https://northloop.org/event/minneapolis-sculpture-garden-reopening/
LOCATION:Minneapolis Sculpture Garden\, 726 Vineland Place\, Minneapolis\, MN\, 55403\, United States
CATEGORIES:Arts,City of Minneapolis,Family,Featured,Outdoor
ATTACH;FMTTYPE=image/jpeg:https://northloop.org/wp-content/uploads/2017/05/18056502_10155201709678180_4384977360682654848_o.jpg
GEO:44.9695465;-93.2898007
X-APPLE-STRUCTURED-LOCATION;VALUE=URI;X-ADDRESS=Minneapolis Sculpture Garden 726 Vineland Place Minneapolis MN 55403 United States;X-APPLE-RADIUS=500;X-TITLE=726 Vineland Place:geo:-93.2898007,44.9695465
END:VEVENT
END:VCALENDAR