BEGIN:VCALENDAR
VERSION:2.0
PRODID:-//North Loop Neighborhood Association - ECPv6.15.19//NONSGML v1.0//EN
CALSCALE:GREGORIAN
METHOD:PUBLISH
X-WR-CALNAME:North Loop Neighborhood Association
X-ORIGINAL-URL:https://northloop.org
X-WR-CALDESC:Events for North Loop Neighborhood Association
REFRESH-INTERVAL;VALUE=DURATION:PT1H
X-Robots-Tag:noindex
X-PUBLISHED-TTL:PT1H
BEGIN:VTIMEZONE
TZID:America/Chicago
BEGIN:DAYLIGHT
TZOFFSETFROM:-0600
TZOFFSETTO:-0500
TZNAME:CDT
DTSTART:20240310T080000
END:DAYLIGHT
BEGIN:STANDARD
TZOFFSETFROM:-0500
TZOFFSETTO:-0600
TZNAME:CST
DTSTART:20241103T070000
END:STANDARD
BEGIN:DAYLIGHT
TZOFFSETFROM:-0600
TZOFFSETTO:-0500
TZNAME:CDT
DTSTART:20250309T080000
END:DAYLIGHT
BEGIN:STANDARD
TZOFFSETFROM:-0500
TZOFFSETTO:-0600
TZNAME:CST
DTSTART:20251102T070000
END:STANDARD
BEGIN:DAYLIGHT
TZOFFSETFROM:-0600
TZOFFSETTO:-0500
TZNAME:CDT
DTSTART:20260308T080000
END:DAYLIGHT
BEGIN:STANDARD
TZOFFSETFROM:-0500
TZOFFSETTO:-0600
TZNAME:CST
DTSTART:20261101T070000
END:STANDARD
END:VTIMEZONE
BEGIN:VEVENT
DTSTART;TZID=America/Chicago:20250807T190000
DTEND;TZID=America/Chicago:20250807T213000
DTSTAMP:20260419T125841
CREATED:20250520T005739Z
LAST-MODIFIED:20250520T005739Z
UID:10019891-1754593200-1754602200@northloop.org
SUMMARY:Movie Night at North Loop Green
DESCRIPTION:Grab a blanket\, your favorite snack from Bassett Hound\, and settle in for movie nights at The Green.  \n\n\n\nMovie titles and dates are as follows: \n\nMay 29 – Twisters\nJune 12 – Spider-Man: Into the Spider-Verse \nJune 26 – Wicked \nJuly 10 – Inside Out 2\nJuly 24 – Mean Girls \nAugust 7 – Mamma Mia!\nAugust 21 – The Parent Trap \nSeptember 4 – Space Jam\nSeptember 18 – Remember the Titans 
URL:https://northloop.org/event/movie-night-at-north-loop-green-6/
LOCATION:North Loop Green\, 350 N. 5th St.\, Minneapolis\, Minnesota\, 55401
CATEGORIES:Community
ATTACH;FMTTYPE=image/jpeg:https://northloop.org/wp-content/uploads/2025/05/Screenshot-2025-05-19-at-7.56.42 PM.jpg
GEO:44.9827795;-93.2763318
X-APPLE-STRUCTURED-LOCATION;VALUE=URI;X-ADDRESS=North Loop Green 350 N. 5th St. Minneapolis Minnesota 55401;X-APPLE-RADIUS=500;X-TITLE=350 N. 5th St.:geo:-93.2763318,44.9827795
END:VEVENT
BEGIN:VEVENT
DTSTART;TZID=America/Chicago:20250727T120000
DTEND;TZID=America/Chicago:20250727T150000
DTSTAMP:20260419T125841
CREATED:20250604T224134Z
LAST-MODIFIED:20250604T224134Z
UID:10019911-1753617600-1753628400@northloop.org
SUMMARY:Dog Days at North Loop Green
DESCRIPTION:Join us for a tail-wagging good time at The Green. Bring your four-legged friends to enjoy a fun-filled day of activities\, contests\, and treats. \n\nMeet adoptable animals from Pet Haven of Minnesota\nPup Cups (while supplies last)\nDog caricature artist\nBassett Hound will be open for dog owners to enjoy drinks\n\nSummer Schedule: \n\nSunday\, June 22\nSunday\, July 27\nSunday\, August 17\nSunday\, September 21\n\nThis event is free and open to the public. All dogs must be on a leash. We can’t wait to see you and your canine companions there!
URL:https://northloop.org/event/dog-days-at-north-loop-green-2/
LOCATION:North Loop Green\, 350 N. 5th St.\, Minneapolis\, Minnesota\, 55401
ATTACH;FMTTYPE=image/jpeg:https://northloop.org/wp-content/uploads/2025/06/Screenshot-2025-06-04-at-5.34.56-PM.jpg
GEO:44.9827795;-93.2763318
X-APPLE-STRUCTURED-LOCATION;VALUE=URI;X-ADDRESS=North Loop Green 350 N. 5th St. Minneapolis Minnesota 55401;X-APPLE-RADIUS=500;X-TITLE=350 N. 5th St.:geo:-93.2763318,44.9827795
END:VEVENT
BEGIN:VEVENT
DTSTART;TZID=America/Chicago:20250724T190000
DTEND;TZID=America/Chicago:20250724T213000
DTSTAMP:20260419T125841
CREATED:20250520T005425Z
LAST-MODIFIED:20250520T005425Z
UID:10019890-1753383600-1753392600@northloop.org
SUMMARY:Movie Night at North Loop Green
DESCRIPTION:Grab a blanket\, your favorite snack from Bassett Hound\, and settle in for movie nights at The Green.  \n\n\n\nMovie titles and dates are as follows: \n\nMay 29 – Twisters\nJune 12 – Spider-Man: Into the Spider-Verse \nJune 26 – Wicked \nJuly 10 – Inside Out 2\nJuly 24 – Mean Girls \nAugust 7 – Mamma Mia!\nAugust 21 – The Parent Trap \nSeptember 4 – Space Jam\nSeptember 18 – Remember the Titans 
URL:https://northloop.org/event/movie-night-at-north-loop-green-5/
LOCATION:North Loop Green\, 350 N. 5th St.\, Minneapolis\, Minnesota\, 55401
CATEGORIES:Community
ATTACH;FMTTYPE=image/jpeg:https://northloop.org/wp-content/uploads/2025/05/Screenshot-2025-05-19-at-7.53.13 PM.jpg
GEO:44.9827795;-93.2763318
X-APPLE-STRUCTURED-LOCATION;VALUE=URI;X-ADDRESS=North Loop Green 350 N. 5th St. Minneapolis Minnesota 55401;X-APPLE-RADIUS=500;X-TITLE=350 N. 5th St.:geo:-93.2763318,44.9827795
END:VEVENT
BEGIN:VEVENT
DTSTART;TZID=America/Chicago:20250710T190000
DTEND;TZID=America/Chicago:20250710T213000
DTSTAMP:20260419T125841
CREATED:20250520T004945Z
LAST-MODIFIED:20250520T005113Z
UID:10019889-1752174000-1752183000@northloop.org
SUMMARY:Movie Night at North Loop Green
DESCRIPTION:Grab a blanket\, your favorite snack from Bassett Hound\, and settle in for movie nights at The Green.  \n\n\n\nMovie titles and dates are as follows: \n\nMay 29 – Twisters\nJune 12 – Spider-Man: Into the Spider-Verse \nJune 26 – Wicked \nJuly 10 – Inside Out 2\nJuly 24 – Mean Girls \nAugust 7 – Mamma Mia!\nAugust 21 – The Parent Trap \nSeptember 4 – Space Jam\nSeptember 18 – Remember the Titans 
URL:https://northloop.org/event/movie-night-at-north-loop-green-4/
LOCATION:North Loop Green\, 350 N. 5th St.\, Minneapolis\, Minnesota\, 55401
CATEGORIES:Community
ATTACH;FMTTYPE=image/jpeg:https://northloop.org/wp-content/uploads/2025/05/Screenshot-2025-05-19-at-7.47.09 PM.jpg
GEO:44.9827795;-93.2763318
X-APPLE-STRUCTURED-LOCATION;VALUE=URI;X-ADDRESS=North Loop Green 350 N. 5th St. Minneapolis Minnesota 55401;X-APPLE-RADIUS=500;X-TITLE=350 N. 5th St.:geo:-93.2763318,44.9827795
END:VEVENT
BEGIN:VEVENT
DTSTART;TZID=America/Chicago:20250626T190000
DTEND;TZID=America/Chicago:20250626T213000
DTSTAMP:20260419T125841
CREATED:20250519T221354Z
LAST-MODIFIED:20250519T221354Z
UID:10019887-1750964400-1750973400@northloop.org
SUMMARY:Movie Night at North Loop Green
DESCRIPTION:Grab a blanket\, your favorite snack from Bassett Hound\, and settle in for movie nights at The Green.  \nEvery other Thursday night starting May 29 at 7pm \n\nMovie titles and dates are as follows: \n\nMay 29 – Twisters\nJune 12 – Spider-Man: Into the Spider-Verse \nJune 26 – Wicked \nJuly 10 – Inside Out 2\nJuly 24 – Mean Girls \nAugust 7 – Mamma Mia!\nAugust 21 – The Parent Trap \nSeptember 4 – Space Jam\nSeptember 18 – Remember the Titans 
URL:https://northloop.org/event/movie-night-at-north-loop-green-3/
LOCATION:North Loop Green\, 350 N. 5th St.\, Minneapolis\, Minnesota\, 55401
CATEGORIES:Community,Family
ATTACH;FMTTYPE=image/jpeg:https://northloop.org/wp-content/uploads/2025/05/Screenshot-2025-05-19-at-5.12.49 PM.jpg
GEO:44.9827795;-93.2763318
X-APPLE-STRUCTURED-LOCATION;VALUE=URI;X-ADDRESS=North Loop Green 350 N. 5th St. Minneapolis Minnesota 55401;X-APPLE-RADIUS=500;X-TITLE=350 N. 5th St.:geo:-93.2763318,44.9827795
END:VEVENT
BEGIN:VEVENT
DTSTART;TZID=America/Chicago:20250622T120000
DTEND;TZID=America/Chicago:20250622T150000
DTSTAMP:20260419T125841
CREATED:20250604T223911Z
LAST-MODIFIED:20250604T223911Z
UID:10019910-1750593600-1750604400@northloop.org
SUMMARY:Dog Days at North Loop Green
DESCRIPTION:Join us for a tail-wagging good time at The Green. Bring your four-legged friends to enjoy a fun-filled day of activities\, contests\, and treats. \n\nMeet adoptable animals from Pet Haven of Minnesota\nPup Cups (while supplies last)\nDog caricature artist\nBassett Hound will be open for dog owners to enjoy drinks\n\nSummer Schedule: \n\nSunday\, June 22\nSunday\, July 27\nSunday\, August 17\nSunday\, September 21\n\nThis event is free and open to the public. All dogs must be on a leash. We can’t wait to see you and your canine companions there!
URL:https://northloop.org/event/dog-days-at-north-loop-green/
LOCATION:North Loop Green\, 350 N. 5th St.\, Minneapolis\, Minnesota\, 55401
CATEGORIES:Pets
ATTACH;FMTTYPE=image/jpeg:https://northloop.org/wp-content/uploads/2025/06/Screenshot-2025-06-04-at-5.34.56-PM.jpg
GEO:44.9827795;-93.2763318
X-APPLE-STRUCTURED-LOCATION;VALUE=URI;X-ADDRESS=North Loop Green 350 N. 5th St. Minneapolis Minnesota 55401;X-APPLE-RADIUS=500;X-TITLE=350 N. 5th St.:geo:-93.2763318,44.9827795
END:VEVENT
BEGIN:VEVENT
DTSTART;TZID=America/Chicago:20250612T190000
DTEND;TZID=America/Chicago:20250612T213000
DTSTAMP:20260419T125841
CREATED:20250519T221044Z
LAST-MODIFIED:20250519T221044Z
UID:10019886-1749754800-1749763800@northloop.org
SUMMARY:Movie Night at North Loop Green
DESCRIPTION:Grab a blanket\, your favorite snack from Bassett Hound\, and settle in for movie nights at The Green.  \nEvery other Thursday night starting May 29 at 7pm \n\nMovie titles and dates are as follows: \n\nMay 29 – Twisters\nJune 12 – Spider-Man: Into the Spider-Verse \nJune 26 – Wicked \nJuly 10 – Inside Out 2\nJuly 24 – Mean Girls \nAugust 7 – Mamma Mia!\nAugust 21 – The Parent Trap \nSeptember 4 – Space Jam\nSeptember 18 – Remember the Titans 
URL:https://northloop.org/event/movie-night-at-north-loop-green-2/
LOCATION:North Loop Green\, 350 N. 5th St.\, Minneapolis\, Minnesota\, 55401
CATEGORIES:Community,Family
ATTACH;FMTTYPE=image/jpeg:https://northloop.org/wp-content/uploads/2025/05/Screenshot-2025-05-19-at-5.09.35 PM.jpg
GEO:44.9827795;-93.2763318
X-APPLE-STRUCTURED-LOCATION;VALUE=URI;X-ADDRESS=North Loop Green 350 N. 5th St. Minneapolis Minnesota 55401;X-APPLE-RADIUS=500;X-TITLE=350 N. 5th St.:geo:-93.2763318,44.9827795
END:VEVENT
BEGIN:VEVENT
DTSTART;TZID=America/Chicago:20250608T120000
DTEND;TZID=America/Chicago:20250608T170000
DTSTAMP:20260419T125841
CREATED:20250519T215816Z
LAST-MODIFIED:20250522T150335Z
UID:10019884-1749384000-1749402000@northloop.org
SUMMARY:North Loop Green Block Party
DESCRIPTION:Celebrate North Loop Green’s second summer season with a community block party on Sunday\, June 8! All are invited from 12 to 5 p.m. to enjoy live music by Frankie Torres\, delicious food\, fun activities\, and much more. This event is free to the public and RSVP not required. About Frankie Torres: \nBorn and raised in Minnetonka\, Minnesota\, Frankie grew up with a diverse combination of musical inspirations. The foundation of her music stands on classic rock and the blues\, which she grew up singing in bars and at music festivals at as young as 8 years old. She was a contestant on season 26 of NBC’s The Voice making it to The Knockouts on Team Reba. Since leaving The Voice\, she has continued to perform around the Twin Cities as an independent artist\, and as the lead singer of her rock cover band\, Midnight Rambler. \n 
URL:https://northloop.org/event/north-loop-green-block-party/
LOCATION:North Loop Green\, 350 N. 5th St.\, Minneapolis\, Minnesota\, 55401
CATEGORIES:Community,Featured,Music
ATTACH;FMTTYPE=image/jpeg:https://northloop.org/wp-content/uploads/2025/05/image001.jpg
GEO:44.9827795;-93.2763318
X-APPLE-STRUCTURED-LOCATION;VALUE=URI;X-ADDRESS=North Loop Green 350 N. 5th St. Minneapolis Minnesota 55401;X-APPLE-RADIUS=500;X-TITLE=350 N. 5th St.:geo:-93.2763318,44.9827795
END:VEVENT
BEGIN:VEVENT
DTSTART;TZID=America/Chicago:20250529T190000
DTEND;TZID=America/Chicago:20250529T213000
DTSTAMP:20260419T125841
CREATED:20250519T220734Z
LAST-MODIFIED:20250519T220734Z
UID:10019885-1748545200-1748554200@northloop.org
SUMMARY:Movie Night at North Loop Green
DESCRIPTION:Grab a blanket\, your favorite snack from Bassett Hound\, and settle in for movie nights at The Green.  \nEvery other Thursday night starting May 29 at 7pm \n\nMovie titles and dates are as follows: \n\nMay 29 – Twisters\nJune 12 – Spider-Man: Into the Spider-Verse \nJune 26 – Wicked \nJuly 10 – Inside Out 2\nJuly 24 – Mean Girls \nAugust 7 – Mamma Mia!\nAugust 21 – The Parent Trap \nSeptember 4 – Space Jam\nSeptember 18 – Remember the Titans 
URL:https://northloop.org/event/movie-night-at-north-loop-green/
LOCATION:North Loop Green\, 350 N. 5th St.\, Minneapolis\, Minnesota\, 55401
CATEGORIES:Community,Family
ATTACH;FMTTYPE=image/jpeg:https://northloop.org/wp-content/uploads/2025/05/Screenshot-2025-05-19-at-5.05.00 PM.jpg
GEO:44.9827795;-93.2763318
X-APPLE-STRUCTURED-LOCATION;VALUE=URI;X-ADDRESS=North Loop Green 350 N. 5th St. Minneapolis Minnesota 55401;X-APPLE-RADIUS=500;X-TITLE=350 N. 5th St.:geo:-93.2763318,44.9827795
END:VEVENT
END:VCALENDAR