BEGIN:VCALENDAR
VERSION:2.0
PRODID:-//North Loop Neighborhood Association - ECPv6.15.19//NONSGML v1.0//EN
CALSCALE:GREGORIAN
METHOD:PUBLISH
X-WR-CALNAME:North Loop Neighborhood Association
X-ORIGINAL-URL:https://northloop.org
X-WR-CALDESC:Events for North Loop Neighborhood Association
REFRESH-INTERVAL;VALUE=DURATION:PT1H
X-Robots-Tag:noindex
X-PUBLISHED-TTL:PT1H
BEGIN:VTIMEZONE
TZID:America/Chicago
BEGIN:DAYLIGHT
TZOFFSETFROM:-0600
TZOFFSETTO:-0500
TZNAME:CDT
DTSTART:20240310T080000
END:DAYLIGHT
BEGIN:STANDARD
TZOFFSETFROM:-0500
TZOFFSETTO:-0600
TZNAME:CST
DTSTART:20241103T070000
END:STANDARD
BEGIN:DAYLIGHT
TZOFFSETFROM:-0600
TZOFFSETTO:-0500
TZNAME:CDT
DTSTART:20250309T080000
END:DAYLIGHT
BEGIN:STANDARD
TZOFFSETFROM:-0500
TZOFFSETTO:-0600
TZNAME:CST
DTSTART:20251102T070000
END:STANDARD
BEGIN:DAYLIGHT
TZOFFSETFROM:-0600
TZOFFSETTO:-0500
TZNAME:CDT
DTSTART:20260308T080000
END:DAYLIGHT
BEGIN:STANDARD
TZOFFSETFROM:-0500
TZOFFSETTO:-0600
TZNAME:CST
DTSTART:20261101T070000
END:STANDARD
END:VTIMEZONE
BEGIN:VEVENT
DTSTART;TZID=America/Chicago:20250529T190000
DTEND;TZID=America/Chicago:20250529T213000
DTSTAMP:20260419T182413
CREATED:20250519T220734Z
LAST-MODIFIED:20250519T220734Z
UID:10019885-1748545200-1748554200@northloop.org
SUMMARY:Movie Night at North Loop Green
DESCRIPTION:Grab a blanket\, your favorite snack from Bassett Hound\, and settle in for movie nights at The Green.  \nEvery other Thursday night starting May 29 at 7pm \n\nMovie titles and dates are as follows: \n\nMay 29 – Twisters\nJune 12 – Spider-Man: Into the Spider-Verse \nJune 26 – Wicked \nJuly 10 – Inside Out 2\nJuly 24 – Mean Girls \nAugust 7 – Mamma Mia!\nAugust 21 – The Parent Trap \nSeptember 4 – Space Jam\nSeptember 18 – Remember the Titans 
URL:https://northloop.org/event/movie-night-at-north-loop-green/
LOCATION:North Loop Green\, 350 N. 5th St.\, Minneapolis\, Minnesota\, 55401
CATEGORIES:Community,Family
ATTACH;FMTTYPE=image/jpeg:https://northloop.org/wp-content/uploads/2025/05/Screenshot-2025-05-19-at-5.05.00 PM.jpg
GEO:44.9827795;-93.2763318
X-APPLE-STRUCTURED-LOCATION;VALUE=URI;X-ADDRESS=North Loop Green 350 N. 5th St. Minneapolis Minnesota 55401;X-APPLE-RADIUS=500;X-TITLE=350 N. 5th St.:geo:-93.2763318,44.9827795
END:VEVENT
END:VCALENDAR