BEGIN:VCALENDAR
VERSION:2.0
PRODID:-//North Loop Neighborhood Association - ECPv6.15.19//NONSGML v1.0//EN
CALSCALE:GREGORIAN
METHOD:PUBLISH
X-WR-CALNAME:North Loop Neighborhood Association
X-ORIGINAL-URL:https://northloop.org
X-WR-CALDESC:Events for North Loop Neighborhood Association
REFRESH-INTERVAL;VALUE=DURATION:PT1H
X-Robots-Tag:noindex
X-PUBLISHED-TTL:PT1H
BEGIN:VTIMEZONE
TZID:America/Chicago
BEGIN:DAYLIGHT
TZOFFSETFROM:-0600
TZOFFSETTO:-0500
TZNAME:CDT
DTSTART:20150308T080000
END:DAYLIGHT
BEGIN:STANDARD
TZOFFSETFROM:-0500
TZOFFSETTO:-0600
TZNAME:CST
DTSTART:20151101T070000
END:STANDARD
BEGIN:DAYLIGHT
TZOFFSETFROM:-0600
TZOFFSETTO:-0500
TZNAME:CDT
DTSTART:20160313T080000
END:DAYLIGHT
BEGIN:STANDARD
TZOFFSETFROM:-0500
TZOFFSETTO:-0600
TZNAME:CST
DTSTART:20161106T070000
END:STANDARD
BEGIN:DAYLIGHT
TZOFFSETFROM:-0600
TZOFFSETTO:-0500
TZNAME:CDT
DTSTART:20170312T080000
END:DAYLIGHT
BEGIN:STANDARD
TZOFFSETFROM:-0500
TZOFFSETTO:-0600
TZNAME:CST
DTSTART:20171105T070000
END:STANDARD
END:VTIMEZONE
BEGIN:VEVENT
DTSTART;TZID=America/Chicago:20161201T173000
DTEND;TZID=America/Chicago:20161201T173000
DTSTAMP:20260421T094344
CREATED:20161201T162358Z
LAST-MODIFIED:20161201T162358Z
UID:10011601-1480613400-1480613400@northloop.org
SUMMARY:streets.mn 2016 Fundraiser
DESCRIPTION:by Nicole Mardell on November 16\, 2016 in Events\, Hooray Hooray\, streets.mn \n\nHello streets.mn community and friends! \nSince our humble beginnings in 2012\, we’ve grown into an organization with over a hundred writers and thousands of readers across the state\, region\, and nation. Our mission has been to expand the conversation on land use and transportation issues in the Twin Cities and Greater Minnesota\, and we hope we’ve done a pretty good job. \nWill you help support our continued mission? \nWe are an all-volunteer 501(c)(3) non-profit organization with servers and a current web redesign\, that needs your support. Come show us your support and your (great) ideas at the streets.mn fundraiser next month\, on Thursday\, December 1 at 5:30 PM in the garden room of River Towers Condominiums. \nWe’ll have a few mystery guests and a 50/50 raffle\, so you could even make some money! Light appetizers and drinks will be served. \nGet your tickets here!
URL:https://northloop.org/event/streets-mn-2016-fundraiser/
LOCATION:River Towers Condominums\, 15 1st Street South\, Minneapolis\, MN\, 55401\, United States
CATEGORIES:Featured,Food & Drink,Fundraiser
ATTACH;FMTTYPE=image/png:https://northloop.org/wp-content/uploads/2016/12/streets.mn_.png
GEO:44.983206;-93.2659091
X-APPLE-STRUCTURED-LOCATION;VALUE=URI;X-ADDRESS=River Towers Condominums 15 1st Street South Minneapolis MN 55401 United States;X-APPLE-RADIUS=500;X-TITLE=15 1st Street South:geo:-93.2659091,44.983206
END:VEVENT
END:VCALENDAR