BEGIN:VCALENDAR
VERSION:2.0
PRODID:-//North Loop Neighborhood Association - ECPv6.15.19//NONSGML v1.0//EN
CALSCALE:GREGORIAN
METHOD:PUBLISH
X-ORIGINAL-URL:https://northloop.org
X-WR-CALDESC:Events for North Loop Neighborhood Association
REFRESH-INTERVAL;VALUE=DURATION:PT1H
X-Robots-Tag:noindex
X-PUBLISHED-TTL:PT1H
BEGIN:VTIMEZONE
TZID:America/Chicago
BEGIN:DAYLIGHT
TZOFFSETFROM:-0600
TZOFFSETTO:-0500
TZNAME:CDT
DTSTART:20180311T080000
END:DAYLIGHT
BEGIN:STANDARD
TZOFFSETFROM:-0500
TZOFFSETTO:-0600
TZNAME:CST
DTSTART:20181104T070000
END:STANDARD
BEGIN:DAYLIGHT
TZOFFSETFROM:-0600
TZOFFSETTO:-0500
TZNAME:CDT
DTSTART:20190310T080000
END:DAYLIGHT
BEGIN:STANDARD
TZOFFSETFROM:-0500
TZOFFSETTO:-0600
TZNAME:CST
DTSTART:20191103T070000
END:STANDARD
BEGIN:DAYLIGHT
TZOFFSETFROM:-0600
TZOFFSETTO:-0500
TZNAME:CDT
DTSTART:20200308T080000
END:DAYLIGHT
BEGIN:STANDARD
TZOFFSETFROM:-0500
TZOFFSETTO:-0600
TZNAME:CST
DTSTART:20201101T070000
END:STANDARD
BEGIN:DAYLIGHT
TZOFFSETFROM:-0600
TZOFFSETTO:-0500
TZNAME:CDT
DTSTART:20210314T080000
END:DAYLIGHT
BEGIN:STANDARD
TZOFFSETFROM:-0500
TZOFFSETTO:-0600
TZNAME:CST
DTSTART:20211107T070000
END:STANDARD
BEGIN:DAYLIGHT
TZOFFSETFROM:-0600
TZOFFSETTO:-0500
TZNAME:CDT
DTSTART:20220313T080000
END:DAYLIGHT
BEGIN:STANDARD
TZOFFSETFROM:-0500
TZOFFSETTO:-0600
TZNAME:CST
DTSTART:20221106T070000
END:STANDARD
BEGIN:DAYLIGHT
TZOFFSETFROM:-0600
TZOFFSETTO:-0500
TZNAME:CDT
DTSTART:20230312T080000
END:DAYLIGHT
BEGIN:STANDARD
TZOFFSETFROM:-0500
TZOFFSETTO:-0600
TZNAME:CST
DTSTART:20231105T070000
END:STANDARD
END:VTIMEZONE
BEGIN:VEVENT
DTSTART;TZID=America/Chicago:20220611T100000
DTEND;TZID=America/Chicago:20220611T100000
DTSTAMP:20260421T212322
CREATED:20220512T153110Z
LAST-MODIFIED:20220525T213738Z
UID:10016329-1654941600-1654941600@northloop.org
SUMMARY:NLNA Personal Safety / Self Defense Workshop at Target Field Station Plaza
DESCRIPTION:The North Loop Neighborhood Association is hosting a FREE Personal Safety / Self Defense Workshop on Saturday\, June 11\, at 10 a.m at Target Field Station Plaza\n\n\n\n\n\n\n\nOur guest presenters include MPD 1st Precinct Crime Prevention Specialist Renee Allen who will talk about personal safety awareness and Gail Boxrud and Dante Pastrano from Krav Magna will provide self-defense training. \n\nRSVPs requested.  https://www.eventbrite.com/e/north-loop-neighborhood-association-personal-safety-self-defense-workshop-tickets-337297153867\n\n\n\n\nParticipants will be required to sign a waiver at the start of the event.
URL:https://northloop.org/event/nlna-personal-safety-self-defense-workshop/
LOCATION:Target Field Plaza & Ampitheater\, 5th Avenue N & 5th Street N\, Minneapolis\, MN\, 55401\, United States
CATEGORIES:Featured,Outdoor,Safety
ATTACH;FMTTYPE=image/jpeg:https://northloop.org/wp-content/uploads/2022/05/Safety_self-defense2.jpg
GEO:44.9836649;-93.2781864
X-APPLE-STRUCTURED-LOCATION;VALUE=URI;X-ADDRESS=Target Field Plaza & Ampitheater 5th Avenue N & 5th Street N Minneapolis MN 55401 United States;X-APPLE-RADIUS=500;X-TITLE=5th Avenue N & 5th Street N:geo:-93.2781864,44.9836649
END:VEVENT
BEGIN:VEVENT
DTSTART;TZID=America/Chicago:20210803T173000
DTEND;TZID=America/Chicago:20210803T200000
DTSTAMP:20260421T212322
CREATED:20210721T143241Z
LAST-MODIFIED:20210727T190755Z
UID:10016187-1628011800-1628020800@northloop.org
SUMMARY:National Night Out in the North Loop!
DESCRIPTION:North Loop National Night Out Party:\nFOOD • DRINKS • GIVEAWAYS • MOVIE\n& FEATURING YOUR NEIGHBORS \nTarget Field Station • 5th Ave N & 5th St N \n\n5:30P • Food & Drinks\n5:45P • Giveaways & photos with mascots**\n6:30P • “A League of Their Own” on the big screen\n\n** Friends from the Minnesota Vikings\, Timberwolves\, Lynx & Twins will stop by to join the fun & hand out some prizes to lucky attendees.
URL:https://northloop.org/event/national-night-out-in-the-north-loop/
LOCATION:Target Field Plaza & Ampitheater\, 5th Avenue N & 5th Street N\, Minneapolis\, MN\, 55401\, United States
CATEGORIES:Family,Featured,Food & Drink,NLNA,Outdoor
ATTACH;FMTTYPE=image/jpeg:https://northloop.org/wp-content/uploads/2021/07/NNO-Banner2.jpg
GEO:44.9836649;-93.2781864
X-APPLE-STRUCTURED-LOCATION;VALUE=URI;X-ADDRESS=Target Field Plaza & Ampitheater 5th Avenue N & 5th Street N Minneapolis MN 55401 United States;X-APPLE-RADIUS=500;X-TITLE=5th Avenue N & 5th Street N:geo:-93.2781864,44.9836649
END:VEVENT
BEGIN:VEVENT
DTSTART;TZID=America/Chicago:20210403T100000
DTEND;TZID=America/Chicago:20210403T100000
DTSTAMP:20260421T212322
CREATED:20210319T205758Z
LAST-MODIFIED:20210319T205758Z
UID:10015287-1617444000-1617444000@northloop.org
SUMMARY:North Loop Candy Grab is Back!
DESCRIPTION:The North Loop Candy Grab is back and in a new location!\nBring the kids and join your friends and neighbors at Target Field Station.\n\nBesides the free candy and music\, the Easter Bunny will be there for photos
URL:https://northloop.org/event/north-loop-candy-grab-is-back/
LOCATION:Target Field Plaza & Ampitheater\, 5th Avenue N & 5th Street N\, Minneapolis\, MN\, 55401\, United States
CATEGORIES:Family,Featured,Kids,Outdoor
ATTACH;FMTTYPE=image/jpeg:https://northloop.org/wp-content/uploads/2021/03/Candy-Grab.jpg
GEO:44.9836649;-93.2781864
X-APPLE-STRUCTURED-LOCATION;VALUE=URI;X-ADDRESS=Target Field Plaza & Ampitheater 5th Avenue N & 5th Street N Minneapolis MN 55401 United States;X-APPLE-RADIUS=500;X-TITLE=5th Avenue N & 5th Street N:geo:-93.2781864,44.9836649
END:VEVENT
BEGIN:VEVENT
DTSTART;TZID=America/Chicago:20190826T190000
DTEND;TZID=America/Chicago:20190826T210000
DTSTAMP:20260421T212322
CREATED:20190821T161836Z
LAST-MODIFIED:20190822T214033Z
UID:10015137-1566846000-1566853200@northloop.org
SUMMARY:Free Outdoor Movie at Target Field Amphitheater: Spaceballs
DESCRIPTION:* This is a new date! Original event was rescheduled due to weather. *\n\n\nBring a lawn chair or blanket\, find a spot on the green grass outside the Twins’ ballpark\, and enjoy an evening watching a movie under the stars and the downtown skyline. \nSpaceballs (1987)\nA rogue star pilot and his trusty sidekick must come to the rescue of a Princess and save the galaxy from a ruthless race of beings known as Spaceballs. Starring Mel Brooks\, John Candy\, and Rick Moranis. \nThis Go Outside with Hennepin County event is free and open to the public. mplsdowntown.com/gooutside \nHosted by Hennepin County Government and Minneapolis Downtown Council
URL:https://northloop.org/event/free-outdoor-movie-target-field-amphitheater-spaceballs/
LOCATION:Target Field Plaza & Ampitheater\, 5th Avenue N & 5th Street N\, Minneapolis\, MN\, 55401\, United States
CATEGORIES:City of Minneapolis,Family,Featured,Outdoor,Theater
ATTACH;FMTTYPE=image/jpeg:https://northloop.org/wp-content/uploads/2019/08/unnamed-47.jpg
GEO:44.9836649;-93.2781864
X-APPLE-STRUCTURED-LOCATION;VALUE=URI;X-ADDRESS=Target Field Plaza & Ampitheater 5th Avenue N & 5th Street N Minneapolis MN 55401 United States;X-APPLE-RADIUS=500;X-TITLE=5th Avenue N & 5th Street N:geo:-93.2781864,44.9836649
END:VEVENT
BEGIN:VEVENT
DTSTART;TZID=America/Chicago:20190806T173000
DTEND;TZID=America/Chicago:20190806T193000
DTSTAMP:20260421T212322
CREATED:20190728T122227Z
LAST-MODIFIED:20190728T122227Z
UID:10015947-1565112600-1565119800@northloop.org
SUMMARY:National Night Out Party at Target Field Plaza
DESCRIPTION:
URL:https://northloop.org/event/national-night-party-target-field-plaza/
LOCATION:Target Field Plaza & Ampitheater\, 5th Avenue N & 5th Street N\, Minneapolis\, MN\, 55401\, United States
CATEGORIES:City of Minneapolis,Family,Featured,Food & Drink,Music,Outdoor,Social
ATTACH;FMTTYPE=image/jpeg:https://northloop.org/wp-content/uploads/2019/07/2019-National-Night-Out.jpg
GEO:44.9836649;-93.2781864
X-APPLE-STRUCTURED-LOCATION;VALUE=URI;X-ADDRESS=Target Field Plaza & Ampitheater 5th Avenue N & 5th Street N Minneapolis MN 55401 United States;X-APPLE-RADIUS=500;X-TITLE=5th Avenue N & 5th Street N:geo:-93.2781864,44.9836649
END:VEVENT
BEGIN:VEVENT
DTSTART;TZID=America/Chicago:20190729T070000
DTEND;TZID=America/Chicago:20190729T210000
DTSTAMP:20260421T212322
CREATED:20190717T144657Z
LAST-MODIFIED:20190717T144657Z
UID:10015943-1564383600-1564434000@northloop.org
SUMMARY:Free Outdoor Movie: Moana
DESCRIPTION:Bring a lawn chair or blanket\, find a spot on the green grass outside the Twins’ ballpark\, and enjoy an evening watching a movie under the stars and the downtown skyline. \nMoana (2016)\nIn Ancient Polynesia\, when a terrible curse incurred by the Demigod Maui reaches Moana’s island\, she answers the Ocean’s call to seek out the Demigod to set things right. Featuring the voices of Auli’i Cravalho\, Dwayne Johnson\, and Rachel House. \nSee the full schedule at https://www.mplsdowntown.com/gooutside/. \nThis Go Outside with Hennepin County event is free and open to the public.
URL:https://northloop.org/event/free-outdoor-movie-moana/
LOCATION:Target Field Plaza & Ampitheater\, 5th Avenue N & 5th Street N\, Minneapolis\, MN\, 55401\, United States
CATEGORIES:City of Minneapolis,Family,Featured,Outdoor
ATTACH;FMTTYPE=image/jpeg:https://northloop.org/wp-content/uploads/2019/07/Movie.jpg
GEO:44.9836649;-93.2781864
X-APPLE-STRUCTURED-LOCATION;VALUE=URI;X-ADDRESS=Target Field Plaza & Ampitheater 5th Avenue N & 5th Street N Minneapolis MN 55401 United States;X-APPLE-RADIUS=500;X-TITLE=5th Avenue N & 5th Street N:geo:-93.2781864,44.9836649
END:VEVENT
BEGIN:VEVENT
DTSTART;TZID=America/Chicago:20190602T091500
DTEND;TZID=America/Chicago:20190602T091500
DTSTAMP:20260421T212322
CREATED:20190530T153217Z
LAST-MODIFIED:20190530T153217Z
UID:10015921-1559466900-1559466900@northloop.org
SUMMARY:Corner Church Spring Outdoor Service at Target Field Ampitheater
DESCRIPTION:Join the Conversation \nFive times a year we do a UNITED Service that brings our three communities and six service times together as one. Hope you can join the conversation Sunday. \n9:15 am • Coffee and Refreshments \n10:00 am • Service \nKids service and nursery available \nRain or shine. If it’s raining\, we will be under the bridge. \n  \n 
URL:https://northloop.org/event/corner-church-spring-outdoor-service-target-field-ampitheater/
LOCATION:Target Field Plaza & Ampitheater\, 5th Avenue N & 5th Street N\, Minneapolis\, MN\, 55401\, United States
CATEGORIES:Family,Featured,Outdoor,Spiritual/Religious
ATTACH;FMTTYPE=image/jpeg:https://northloop.org/wp-content/uploads/2019/05/Corner-Church-Outdoor.jpg
GEO:44.9836649;-93.2781864
X-APPLE-STRUCTURED-LOCATION;VALUE=URI;X-ADDRESS=Target Field Plaza & Ampitheater 5th Avenue N & 5th Street N Minneapolis MN 55401 United States;X-APPLE-RADIUS=500;X-TITLE=5th Avenue N & 5th Street N:geo:-93.2781864,44.9836649
END:VEVENT
END:VCALENDAR