BEGIN:VCALENDAR
VERSION:2.0
PRODID:-//North Loop Neighborhood Association - ECPv6.15.19//NONSGML v1.0//EN
CALSCALE:GREGORIAN
METHOD:PUBLISH
X-WR-CALNAME:North Loop Neighborhood Association
X-ORIGINAL-URL:https://northloop.org
X-WR-CALDESC:Events for North Loop Neighborhood Association
REFRESH-INTERVAL;VALUE=DURATION:PT1H
X-Robots-Tag:noindex
X-PUBLISHED-TTL:PT1H
BEGIN:VTIMEZONE
TZID:America/Chicago
BEGIN:DAYLIGHT
TZOFFSETFROM:-0600
TZOFFSETTO:-0500
TZNAME:CDT
DTSTART:20180311T080000
END:DAYLIGHT
BEGIN:STANDARD
TZOFFSETFROM:-0500
TZOFFSETTO:-0600
TZNAME:CST
DTSTART:20181104T070000
END:STANDARD
BEGIN:DAYLIGHT
TZOFFSETFROM:-0600
TZOFFSETTO:-0500
TZNAME:CDT
DTSTART:20190310T080000
END:DAYLIGHT
BEGIN:STANDARD
TZOFFSETFROM:-0500
TZOFFSETTO:-0600
TZNAME:CST
DTSTART:20191103T070000
END:STANDARD
BEGIN:DAYLIGHT
TZOFFSETFROM:-0600
TZOFFSETTO:-0500
TZNAME:CDT
DTSTART:20200308T080000
END:DAYLIGHT
BEGIN:STANDARD
TZOFFSETFROM:-0500
TZOFFSETTO:-0600
TZNAME:CST
DTSTART:20201101T070000
END:STANDARD
END:VTIMEZONE
BEGIN:VEVENT
DTSTART;TZID=America/Chicago:20190806T173000
DTEND;TZID=America/Chicago:20190806T193000
DTSTAMP:20260421T232350
CREATED:20190728T122227Z
LAST-MODIFIED:20190728T122227Z
UID:10015947-1565112600-1565119800@northloop.org
SUMMARY:National Night Out Party at Target Field Plaza
DESCRIPTION:
URL:https://northloop.org/event/national-night-party-target-field-plaza/
LOCATION:Target Field Plaza & Ampitheater\, 5th Avenue N & 5th Street N\, Minneapolis\, MN\, 55401\, United States
CATEGORIES:City of Minneapolis,Family,Featured,Food & Drink,Music,Outdoor,Social
ATTACH;FMTTYPE=image/jpeg:https://northloop.org/wp-content/uploads/2019/07/2019-National-Night-Out.jpg
GEO:44.9836649;-93.2781864
X-APPLE-STRUCTURED-LOCATION;VALUE=URI;X-ADDRESS=Target Field Plaza & Ampitheater 5th Avenue N & 5th Street N Minneapolis MN 55401 United States;X-APPLE-RADIUS=500;X-TITLE=5th Avenue N & 5th Street N:geo:-93.2781864,44.9836649
END:VEVENT
BEGIN:VEVENT
DTSTART;TZID=America/Chicago:20190729T070000
DTEND;TZID=America/Chicago:20190729T210000
DTSTAMP:20260421T232350
CREATED:20190717T144657Z
LAST-MODIFIED:20190717T144657Z
UID:10015943-1564383600-1564434000@northloop.org
SUMMARY:Free Outdoor Movie: Moana
DESCRIPTION:Bring a lawn chair or blanket\, find a spot on the green grass outside the Twins’ ballpark\, and enjoy an evening watching a movie under the stars and the downtown skyline. \nMoana (2016)\nIn Ancient Polynesia\, when a terrible curse incurred by the Demigod Maui reaches Moana’s island\, she answers the Ocean’s call to seek out the Demigod to set things right. Featuring the voices of Auli’i Cravalho\, Dwayne Johnson\, and Rachel House. \nSee the full schedule at https://www.mplsdowntown.com/gooutside/. \nThis Go Outside with Hennepin County event is free and open to the public.
URL:https://northloop.org/event/free-outdoor-movie-moana/
LOCATION:Target Field Plaza & Ampitheater\, 5th Avenue N & 5th Street N\, Minneapolis\, MN\, 55401\, United States
CATEGORIES:City of Minneapolis,Family,Featured,Outdoor
ATTACH;FMTTYPE=image/jpeg:https://northloop.org/wp-content/uploads/2019/07/Movie.jpg
GEO:44.9836649;-93.2781864
X-APPLE-STRUCTURED-LOCATION;VALUE=URI;X-ADDRESS=Target Field Plaza & Ampitheater 5th Avenue N & 5th Street N Minneapolis MN 55401 United States;X-APPLE-RADIUS=500;X-TITLE=5th Avenue N & 5th Street N:geo:-93.2781864,44.9836649
END:VEVENT
BEGIN:VEVENT
DTSTART;TZID=America/Chicago:20190602T091500
DTEND;TZID=America/Chicago:20190602T091500
DTSTAMP:20260421T232350
CREATED:20190530T153217Z
LAST-MODIFIED:20190530T153217Z
UID:10015921-1559466900-1559466900@northloop.org
SUMMARY:Corner Church Spring Outdoor Service at Target Field Ampitheater
DESCRIPTION:Join the Conversation \nFive times a year we do a UNITED Service that brings our three communities and six service times together as one. Hope you can join the conversation Sunday. \n9:15 am • Coffee and Refreshments \n10:00 am • Service \nKids service and nursery available \nRain or shine. If it’s raining\, we will be under the bridge. \n  \n 
URL:https://northloop.org/event/corner-church-spring-outdoor-service-target-field-ampitheater/
LOCATION:Target Field Plaza & Ampitheater\, 5th Avenue N & 5th Street N\, Minneapolis\, MN\, 55401\, United States
CATEGORIES:Family,Featured,Outdoor,Spiritual/Religious
ATTACH;FMTTYPE=image/jpeg:https://northloop.org/wp-content/uploads/2019/05/Corner-Church-Outdoor.jpg
GEO:44.9836649;-93.2781864
X-APPLE-STRUCTURED-LOCATION;VALUE=URI;X-ADDRESS=Target Field Plaza & Ampitheater 5th Avenue N & 5th Street N Minneapolis MN 55401 United States;X-APPLE-RADIUS=500;X-TITLE=5th Avenue N & 5th Street N:geo:-93.2781864,44.9836649
END:VEVENT
END:VCALENDAR